BEGIN:VCALENDAR
VERSION:2.0
PRODID:-//Museum of the Kansas National Guard - ECPv6.15.20//NONSGML v1.0//EN
CALSCALE:GREGORIAN
METHOD:PUBLISH
X-WR-CALNAME:Museum of the Kansas National Guard
X-ORIGINAL-URL:https://kansasguardmuseum.com
X-WR-CALDESC:Events for Museum of the Kansas National Guard
REFRESH-INTERVAL;VALUE=DURATION:PT1H
X-Robots-Tag:noindex
X-PUBLISHED-TTL:PT1H
BEGIN:VTIMEZONE
TZID:America/Chicago
BEGIN:DAYLIGHT
TZOFFSETFROM:-0600
TZOFFSETTO:-0500
TZNAME:CDT
DTSTART:20210314T080000
END:DAYLIGHT
BEGIN:STANDARD
TZOFFSETFROM:-0500
TZOFFSETTO:-0600
TZNAME:CST
DTSTART:20211107T070000
END:STANDARD
BEGIN:DAYLIGHT
TZOFFSETFROM:-0600
TZOFFSETTO:-0500
TZNAME:CDT
DTSTART:20220313T080000
END:DAYLIGHT
BEGIN:STANDARD
TZOFFSETFROM:-0500
TZOFFSETTO:-0600
TZNAME:CST
DTSTART:20221106T070000
END:STANDARD
BEGIN:DAYLIGHT
TZOFFSETFROM:-0600
TZOFFSETTO:-0500
TZNAME:CDT
DTSTART:20230312T080000
END:DAYLIGHT
BEGIN:STANDARD
TZOFFSETFROM:-0500
TZOFFSETTO:-0600
TZNAME:CST
DTSTART:20231105T070000
END:STANDARD
END:VTIMEZONE
BEGIN:VEVENT
DTSTART;VALUE=DATE:20220914
DTEND;VALUE=DATE:20220915
DTSTAMP:20260424T085619
CREATED:20220704T160307Z
LAST-MODIFIED:20220704T160307Z
UID:11413-1663113600-1663199999@kansasguardmuseum.com
SUMMARY:Host-Dale Johnston
DESCRIPTION:
URL:https://kansasguardmuseum.com/event/host-dale-johnston-66/
CATEGORIES:Host
END:VEVENT
BEGIN:VEVENT
DTSTART;TZID=America/Chicago:20220914T090000
DTEND;TZID=America/Chicago:20220914T100000
DTSTAMP:20260424T085619
CREATED:20220704T160353Z
LAST-MODIFIED:20220704T160353Z
UID:11415-1663146000-1663149600@kansasguardmuseum.com
SUMMARY:Museum Coffee
DESCRIPTION:
URL:https://kansasguardmuseum.com/event/museum-coffee-14/
END:VEVENT
BEGIN:VEVENT
DTSTART;TZID=America/Chicago:20220914T163000
DTEND;TZID=America/Chicago:20220914T173000
DTSTAMP:20260424T085619
CREATED:20220704T160436Z
LAST-MODIFIED:20220704T160436Z
UID:11417-1663173000-1663176600@kansasguardmuseum.com
SUMMARY:Museum Board Mtg
DESCRIPTION:
URL:https://kansasguardmuseum.com/event/museum-board-mtg/
END:VEVENT
BEGIN:VEVENT
DTSTART;TZID=America/Chicago:20220914T180000
DTEND;TZID=America/Chicago:20220914T190000
DTSTAMP:20260424T085619
CREATED:20220704T160514Z
LAST-MODIFIED:20220704T160514Z
UID:11419-1663178400-1663182000@kansasguardmuseum.com
SUMMARY:Private Meeting
DESCRIPTION:
URL:https://kansasguardmuseum.com/event/private-meeting-37/
END:VEVENT
END:VCALENDAR