BEGIN:VCALENDAR
VERSION:2.0
PRODID:-//Museum of the Kansas National Guard - ECPv6.15.20//NONSGML v1.0//EN
CALSCALE:GREGORIAN
METHOD:PUBLISH
X-WR-CALNAME:Museum of the Kansas National Guard
X-ORIGINAL-URL:https://kansasguardmuseum.com
X-WR-CALDESC:Events for Museum of the Kansas National Guard
REFRESH-INTERVAL;VALUE=DURATION:PT1H
X-Robots-Tag:noindex
X-PUBLISHED-TTL:PT1H
BEGIN:VTIMEZONE
TZID:America/Chicago
BEGIN:DAYLIGHT
TZOFFSETFROM:-0600
TZOFFSETTO:-0500
TZNAME:CDT
DTSTART:20210314T080000
END:DAYLIGHT
BEGIN:STANDARD
TZOFFSETFROM:-0500
TZOFFSETTO:-0600
TZNAME:CST
DTSTART:20211107T070000
END:STANDARD
BEGIN:DAYLIGHT
TZOFFSETFROM:-0600
TZOFFSETTO:-0500
TZNAME:CDT
DTSTART:20220313T080000
END:DAYLIGHT
BEGIN:STANDARD
TZOFFSETFROM:-0500
TZOFFSETTO:-0600
TZNAME:CST
DTSTART:20221106T070000
END:STANDARD
BEGIN:DAYLIGHT
TZOFFSETFROM:-0600
TZOFFSETTO:-0500
TZNAME:CDT
DTSTART:20230312T080000
END:DAYLIGHT
BEGIN:STANDARD
TZOFFSETFROM:-0500
TZOFFSETTO:-0600
TZNAME:CST
DTSTART:20231105T070000
END:STANDARD
END:VTIMEZONE
BEGIN:VEVENT
DTSTART;VALUE=DATE:20221012
DTEND;VALUE=DATE:20221013
DTSTAMP:20260424T085623
CREATED:20220806T161920Z
LAST-MODIFIED:20220806T161920Z
UID:12136-1665532800-1665619199@kansasguardmuseum.com
SUMMARY:Host-Dale Johnston
DESCRIPTION:
URL:https://kansasguardmuseum.com/event/host-dale-johnston-67/
CATEGORIES:Host
END:VEVENT
BEGIN:VEVENT
DTSTART;TZID=America/Chicago:20221012T090000
DTEND;TZID=America/Chicago:20221012T100000
DTSTAMP:20260424T085623
CREATED:20220806T161957Z
LAST-MODIFIED:20220806T161957Z
UID:12138-1665565200-1665568800@kansasguardmuseum.com
SUMMARY:Museum Coffee
DESCRIPTION:
URL:https://kansasguardmuseum.com/event/museum-coffee-15/
END:VEVENT
BEGIN:VEVENT
DTSTART;TZID=America/Chicago:20221012T143000
DTEND;TZID=America/Chicago:20221012T173000
DTSTAMP:20260424T085623
CREATED:20220806T162032Z
LAST-MODIFIED:20220806T162032Z
UID:12140-1665585000-1665595800@kansasguardmuseum.com
SUMMARY:Museum BOD Meeting
DESCRIPTION:
URL:https://kansasguardmuseum.com/event/museum-bod-meeting-3/
END:VEVENT
BEGIN:VEVENT
DTSTART;TZID=America/Chicago:20221012T180000
DTEND;TZID=America/Chicago:20221012T190000
DTSTAMP:20260424T085623
CREATED:20220806T162116Z
LAST-MODIFIED:20220806T162116Z
UID:12142-1665597600-1665601200@kansasguardmuseum.com
SUMMARY:Private Meeting
DESCRIPTION:
URL:https://kansasguardmuseum.com/event/private-meeting-43/
END:VEVENT
END:VCALENDAR