BEGIN:VCALENDAR
VERSION:2.0
PRODID:-//Museum of the Kansas National Guard - ECPv6.15.20//NONSGML v1.0//EN
CALSCALE:GREGORIAN
METHOD:PUBLISH
X-ORIGINAL-URL:https://kansasguardmuseum.com
X-WR-CALDESC:Events for Museum of the Kansas National Guard
REFRESH-INTERVAL;VALUE=DURATION:PT1H
X-Robots-Tag:noindex
X-PUBLISHED-TTL:PT1H
BEGIN:VTIMEZONE
TZID:America/Chicago
BEGIN:DAYLIGHT
TZOFFSETFROM:-0600
TZOFFSETTO:-0500
TZNAME:CDT
DTSTART:20210314T080000
END:DAYLIGHT
BEGIN:STANDARD
TZOFFSETFROM:-0500
TZOFFSETTO:-0600
TZNAME:CST
DTSTART:20211107T070000
END:STANDARD
BEGIN:DAYLIGHT
TZOFFSETFROM:-0600
TZOFFSETTO:-0500
TZNAME:CDT
DTSTART:20220313T080000
END:DAYLIGHT
BEGIN:STANDARD
TZOFFSETFROM:-0500
TZOFFSETTO:-0600
TZNAME:CST
DTSTART:20221106T070000
END:STANDARD
BEGIN:DAYLIGHT
TZOFFSETFROM:-0600
TZOFFSETTO:-0500
TZNAME:CDT
DTSTART:20230312T080000
END:DAYLIGHT
BEGIN:STANDARD
TZOFFSETFROM:-0500
TZOFFSETTO:-0600
TZNAME:CST
DTSTART:20231105T070000
END:STANDARD
END:VTIMEZONE
BEGIN:VEVENT
DTSTART;VALUE=DATE:20221101
DTEND;VALUE=DATE:20221102
DTSTAMP:20260421T214050
CREATED:20221025T203846Z
LAST-MODIFIED:20221025T203846Z
UID:13653-1667260800-1667347199@kansasguardmuseum.com
SUMMARY:Host-John Cregan
DESCRIPTION:
URL:https://kansasguardmuseum.com/event/host-john-cregan-49/
CATEGORIES:Host
END:VEVENT
BEGIN:VEVENT
DTSTART;VALUE=DATE:20221102
DTEND;VALUE=DATE:20221103
DTSTAMP:20260421T214050
CREATED:20220905T171638Z
LAST-MODIFIED:20220905T171638Z
UID:12812-1667347200-1667433599@kansasguardmuseum.com
SUMMARY:Host-Lloyd Arnold
DESCRIPTION:
URL:https://kansasguardmuseum.com/event/host-lloyd-arnold-65/
CATEGORIES:Host
END:VEVENT
BEGIN:VEVENT
DTSTART;VALUE=DATE:20221103
DTEND;VALUE=DATE:20221104
DTSTAMP:20260421T214050
CREATED:20221025T204619Z
LAST-MODIFIED:20221025T204619Z
UID:13667-1667433600-1667519999@kansasguardmuseum.com
SUMMARY:Host-Gary Nicholson
DESCRIPTION:
URL:https://kansasguardmuseum.com/event/host-gary-nicholson-64/
CATEGORIES:Host
END:VEVENT
BEGIN:VEVENT
DTSTART;VALUE=DATE:20221104
DTEND;VALUE=DATE:20221105
DTSTAMP:20260421T214050
CREATED:20221025T203937Z
LAST-MODIFIED:20221025T203937Z
UID:13655-1667520000-1667606399@kansasguardmuseum.com
SUMMARY:Host-Troy Abel
DESCRIPTION:
URL:https://kansasguardmuseum.com/event/host-troy-abel-18/
CATEGORIES:Host
END:VEVENT
BEGIN:VEVENT
DTSTART;VALUE=DATE:20221105
DTEND;VALUE=DATE:20221106
DTSTAMP:20260421T214050
CREATED:20221025T204051Z
LAST-MODIFIED:20221025T204051Z
UID:13657-1667606400-1667692799@kansasguardmuseum.com
SUMMARY:Host-Steve Wodtke
DESCRIPTION:
URL:https://kansasguardmuseum.com/event/host-steve-wodtke-30/
CATEGORIES:Host
END:VEVENT
BEGIN:VEVENT
DTSTART;VALUE=DATE:20221107
DTEND;VALUE=DATE:20221108
DTSTAMP:20260421T214050
CREATED:20220905T172033Z
LAST-MODIFIED:20220905T172033Z
UID:12822-1667779200-1667865599@kansasguardmuseum.com
SUMMARY:Host-Ed Williams
DESCRIPTION:
URL:https://kansasguardmuseum.com/event/host-ed-williams-48/
CATEGORIES:Host
END:VEVENT
BEGIN:VEVENT
DTSTART;VALUE=DATE:20221108
DTEND;VALUE=DATE:20221109
DTSTAMP:20260421T214050
CREATED:20220905T172204Z
LAST-MODIFIED:20220905T172204Z
UID:12826-1667865600-1667951999@kansasguardmuseum.com
SUMMARY:Host-Chuck Bredahl
DESCRIPTION:
URL:https://kansasguardmuseum.com/event/host-chuck-bredahl-70/
CATEGORIES:Host
END:VEVENT
BEGIN:VEVENT
DTSTART;VALUE=DATE:20221109
DTEND;VALUE=DATE:20221110
DTSTAMP:20260421T214050
CREATED:20220905T172359Z
LAST-MODIFIED:20220905T172359Z
UID:12832-1667952000-1668038399@kansasguardmuseum.com
SUMMARY:Host-Dale Johnston
DESCRIPTION:
URL:https://kansasguardmuseum.com/event/host-dale-johnston-68/
CATEGORIES:Host
END:VEVENT
BEGIN:VEVENT
DTSTART;VALUE=DATE:20221110
DTEND;VALUE=DATE:20221111
DTSTAMP:20260421T214050
CREATED:20220905T172602Z
LAST-MODIFIED:20220905T172602Z
UID:12839-1668038400-1668124799@kansasguardmuseum.com
SUMMARY:Host-Hugh Greenfield
DESCRIPTION:
URL:https://kansasguardmuseum.com/event/host-hugh-greenfield-63/
CATEGORIES:Host
END:VEVENT
BEGIN:VEVENT
DTSTART;VALUE=DATE:20221111
DTEND;VALUE=DATE:20221112
DTSTAMP:20260421T214050
CREATED:20221025T204139Z
LAST-MODIFIED:20221025T204139Z
UID:13659-1668124800-1668211199@kansasguardmuseum.com
SUMMARY:Host-Debbie Doyle
DESCRIPTION:
URL:https://kansasguardmuseum.com/event/host-debbie-doyle-38/
CATEGORIES:Host
END:VEVENT
BEGIN:VEVENT
DTSTART;VALUE=DATE:20221112
DTEND;VALUE=DATE:20221113
DTSTAMP:20260421T214050
CREATED:20221025T204712Z
LAST-MODIFIED:20221025T204712Z
UID:13669-1668211200-1668297599@kansasguardmuseum.com
SUMMARY:Host-Gary Nicholson
DESCRIPTION:
URL:https://kansasguardmuseum.com/event/host-gary-nicholson-65/
CATEGORIES:Host
END:VEVENT
BEGIN:VEVENT
DTSTART;VALUE=DATE:20221114
DTEND;VALUE=DATE:20221115
DTSTAMP:20260421T214050
CREATED:20220905T172850Z
LAST-MODIFIED:20220905T172850Z
UID:12847-1668384000-1668470399@kansasguardmuseum.com
SUMMARY:Host-Rex Allen
DESCRIPTION:
URL:https://kansasguardmuseum.com/event/host-rex-allen-68/
CATEGORIES:Host
END:VEVENT
BEGIN:VEVENT
DTSTART;VALUE=DATE:20221115
DTEND;VALUE=DATE:20221116
DTSTAMP:20260421T214050
CREATED:20220905T172927Z
LAST-MODIFIED:20220905T172927Z
UID:12849-1668470400-1668556799@kansasguardmuseum.com
SUMMARY:Host-Steve Pierce
DESCRIPTION:
URL:https://kansasguardmuseum.com/event/host-steve-pierce-71/
CATEGORIES:Host
END:VEVENT
BEGIN:VEVENT
DTSTART;VALUE=DATE:20221116
DTEND;VALUE=DATE:20221117
DTSTAMP:20260421T214050
CREATED:20220905T172959Z
LAST-MODIFIED:20220905T172959Z
UID:12851-1668556800-1668643199@kansasguardmuseum.com
SUMMARY:Host-Harry Rupple
DESCRIPTION:
URL:https://kansasguardmuseum.com/event/host-harry-rupple-67/
CATEGORIES:Host
END:VEVENT
BEGIN:VEVENT
DTSTART;VALUE=DATE:20221117
DTEND;VALUE=DATE:20221118
DTSTAMP:20260421T214050
CREATED:20220905T173121Z
LAST-MODIFIED:20220905T173121Z
UID:12855-1668643200-1668729599@kansasguardmuseum.com
SUMMARY:Hosts-Pascuas
DESCRIPTION:
URL:https://kansasguardmuseum.com/event/hosts-pascuas-66/
CATEGORIES:Host
END:VEVENT
BEGIN:VEVENT
DTSTART;VALUE=DATE:20221118
DTEND;VALUE=DATE:20221119
DTSTAMP:20260421T214050
CREATED:20220905T173227Z
LAST-MODIFIED:20220905T173251Z
UID:12859-1668729600-1668815999@kansasguardmuseum.com
SUMMARY:Host-Hector Vasquez
DESCRIPTION:
URL:https://kansasguardmuseum.com/event/host-hector-vasquez-38/
CATEGORIES:Host
END:VEVENT
BEGIN:VEVENT
DTSTART;VALUE=DATE:20221119
DTEND;VALUE=DATE:20221120
DTSTAMP:20260421T214050
CREATED:20220905T173326Z
LAST-MODIFIED:20220905T173326Z
UID:12861-1668816000-1668902399@kansasguardmuseum.com
SUMMARY:Host-Jim Spurlock
DESCRIPTION:
URL:https://kansasguardmuseum.com/event/host-jim-spurlock-31/
CATEGORIES:Host
END:VEVENT
BEGIN:VEVENT
DTSTART;VALUE=DATE:20221123
DTEND;VALUE=DATE:20221124
DTSTAMP:20260421T214050
CREATED:20220905T173440Z
LAST-MODIFIED:20220905T173440Z
UID:12865-1669161600-1669247999@kansasguardmuseum.com
SUMMARY:Host-Anne Hunsecker
DESCRIPTION:
URL:https://kansasguardmuseum.com/event/host-anne-hunsecker-71/
CATEGORIES:Host
END:VEVENT
BEGIN:VEVENT
DTSTART;VALUE=DATE:20221125
DTEND;VALUE=DATE:20221126
DTSTAMP:20260421T214050
CREATED:20221025T204228Z
LAST-MODIFIED:20221025T204228Z
UID:13661-1669334400-1669420799@kansasguardmuseum.com
SUMMARY:Host-Dottie Clark
DESCRIPTION:
URL:https://kansasguardmuseum.com/event/host-dottie-clark-58/
CATEGORIES:Host
END:VEVENT
BEGIN:VEVENT
DTSTART;VALUE=DATE:20221126
DTEND;VALUE=DATE:20221127
DTSTAMP:20260421T214050
CREATED:20221025T204311Z
LAST-MODIFIED:20221025T204311Z
UID:13663-1669420800-1669507199@kansasguardmuseum.com
SUMMARY:Host-Mark Sweeney
DESCRIPTION:
URL:https://kansasguardmuseum.com/event/host-mark-sweeney-50/
CATEGORIES:Host
END:VEVENT
BEGIN:VEVENT
DTSTART;VALUE=DATE:20221128
DTEND;VALUE=DATE:20221129
DTSTAMP:20260421T214050
CREATED:20221025T204356Z
LAST-MODIFIED:20221025T204356Z
UID:13665-1669593600-1669679999@kansasguardmuseum.com
SUMMARY:Host-Ray Rhodd
DESCRIPTION:
URL:https://kansasguardmuseum.com/event/host-ray-rhodd-7/
CATEGORIES:Host
END:VEVENT
BEGIN:VEVENT
DTSTART;VALUE=DATE:20221129
DTEND;VALUE=DATE:20221130
DTSTAMP:20260421T214050
CREATED:20220905T173537Z
LAST-MODIFIED:20220905T173537Z
UID:12869-1669680000-1669766399@kansasguardmuseum.com
SUMMARY:Host-Mary Rogers
DESCRIPTION:
URL:https://kansasguardmuseum.com/event/host-mary-rogers-99/
CATEGORIES:Host
END:VEVENT
END:VCALENDAR