BEGIN:VCALENDAR
VERSION:2.0
PRODID:-//Museum of the Kansas National Guard - ECPv6.15.20//NONSGML v1.0//EN
CALSCALE:GREGORIAN
METHOD:PUBLISH
X-ORIGINAL-URL:https://kansasguardmuseum.com
X-WR-CALDESC:Events for Museum of the Kansas National Guard
REFRESH-INTERVAL;VALUE=DURATION:PT1H
X-Robots-Tag:noindex
X-PUBLISHED-TTL:PT1H
BEGIN:VTIMEZONE
TZID:America/Chicago
BEGIN:DAYLIGHT
TZOFFSETFROM:-0600
TZOFFSETTO:-0500
TZNAME:CDT
DTSTART:20220313T080000
END:DAYLIGHT
BEGIN:STANDARD
TZOFFSETFROM:-0500
TZOFFSETTO:-0600
TZNAME:CST
DTSTART:20221106T070000
END:STANDARD
BEGIN:DAYLIGHT
TZOFFSETFROM:-0600
TZOFFSETTO:-0500
TZNAME:CDT
DTSTART:20230312T080000
END:DAYLIGHT
BEGIN:STANDARD
TZOFFSETFROM:-0500
TZOFFSETTO:-0600
TZNAME:CST
DTSTART:20231105T070000
END:STANDARD
BEGIN:DAYLIGHT
TZOFFSETFROM:-0600
TZOFFSETTO:-0500
TZNAME:CDT
DTSTART:20240310T080000
END:DAYLIGHT
BEGIN:STANDARD
TZOFFSETFROM:-0500
TZOFFSETTO:-0600
TZNAME:CST
DTSTART:20241103T070000
END:STANDARD
END:VTIMEZONE
BEGIN:VEVENT
DTSTART;VALUE=DATE:20230301
DTEND;VALUE=DATE:20230302
DTSTAMP:20260421T185900
CREATED:20230107T165206Z
LAST-MODIFIED:20230107T165206Z
UID:14582-1677628800-1677715199@kansasguardmuseum.com
SUMMARY:Host-Lloyd Arnold
DESCRIPTION:
URL:https://kansasguardmuseum.com/event/host-lloyd-arnold-3/
CATEGORIES:Host
END:VEVENT
BEGIN:VEVENT
DTSTART;VALUE=DATE:20230301
DTEND;VALUE=DATE:20230302
DTSTAMP:20260421T185900
CREATED:20230131T224059Z
LAST-MODIFIED:20230131T224059Z
UID:14928-1677628800-1677715199@kansasguardmuseum.com
SUMMARY:Host-Lloyd Arnold
DESCRIPTION:
URL:https://kansasguardmuseum.com/event/host-lloyd-arnold-4/
CATEGORIES:Host
END:VEVENT
BEGIN:VEVENT
DTSTART;VALUE=DATE:20230303
DTEND;VALUE=DATE:20230304
DTSTAMP:20260421T185900
CREATED:20230204T180102Z
LAST-MODIFIED:20230204T180102Z
UID:14977-1677801600-1677887999@kansasguardmuseum.com
SUMMARY:Host-Bob Good
DESCRIPTION:
URL:https://kansasguardmuseum.com/event/host-bob-good-2/
CATEGORIES:Host
END:VEVENT
BEGIN:VEVENT
DTSTART;VALUE=DATE:20230304
DTEND;VALUE=DATE:20230305
DTSTAMP:20260421T185900
CREATED:20230131T224018Z
LAST-MODIFIED:20230131T224018Z
UID:14926-1677888000-1677974399@kansasguardmuseum.com
SUMMARY:Hosts-Morrows
DESCRIPTION:
URL:https://kansasguardmuseum.com/event/hosts-morrows-3/
CATEGORIES:Host
END:VEVENT
BEGIN:VEVENT
DTSTART;VALUE=DATE:20230306
DTEND;VALUE=DATE:20230307
DTSTAMP:20260421T185900
CREATED:20230107T165455Z
LAST-MODIFIED:20230107T165455Z
UID:14592-1678060800-1678147199@kansasguardmuseum.com
SUMMARY:Host-Ed Williams
DESCRIPTION:
URL:https://kansasguardmuseum.com/event/host-ed-williams-3/
CATEGORIES:Host
END:VEVENT
BEGIN:VEVENT
DTSTART;VALUE=DATE:20230307
DTEND;VALUE=DATE:20230308
DTSTAMP:20260421T185900
CREATED:20230107T165527Z
LAST-MODIFIED:20230107T165527Z
UID:14594-1678147200-1678233599@kansasguardmuseum.com
SUMMARY:Host-Chuck Bredahl
DESCRIPTION:
URL:https://kansasguardmuseum.com/event/host-chuck-bredahl-3/
CATEGORIES:Host
END:VEVENT
BEGIN:VEVENT
DTSTART;VALUE=DATE:20230308
DTEND;VALUE=DATE:20230309
DTSTAMP:20260421T185900
CREATED:20230107T165552Z
LAST-MODIFIED:20230107T165552Z
UID:14596-1678233600-1678319999@kansasguardmuseum.com
SUMMARY:Host-Dale Johnston
DESCRIPTION:
URL:https://kansasguardmuseum.com/event/host-dale-johnston-3/
CATEGORIES:Host
END:VEVENT
BEGIN:VEVENT
DTSTART;TZID=America/Chicago:20230309T080000
DTEND;TZID=America/Chicago:20230309T170000
DTSTAMP:20260421T185900
CREATED:20230107T165753Z
LAST-MODIFIED:20230107T165753Z
UID:14604-1678348800-1678381200@kansasguardmuseum.com
SUMMARY:Host-Hugh Greenfield
DESCRIPTION:
URL:https://kansasguardmuseum.com/event/host-hugh-greenfield-3/
CATEGORIES:Host
END:VEVENT
BEGIN:VEVENT
DTSTART;VALUE=DATE:20230310
DTEND;VALUE=DATE:20230311
DTSTAMP:20260421T185900
CREATED:20230107T165819Z
LAST-MODIFIED:20230107T165819Z
UID:14606-1678406400-1678492799@kansasguardmuseum.com
SUMMARY:Host-Gary Nicholson
DESCRIPTION:
URL:https://kansasguardmuseum.com/event/host-gary-nicholson-3/
CATEGORIES:Host
END:VEVENT
BEGIN:VEVENT
DTSTART;VALUE=DATE:20230311
DTEND;VALUE=DATE:20230312
DTSTAMP:20260421T185900
CREATED:20230304T162837Z
LAST-MODIFIED:20230304T162837Z
UID:15256-1678492800-1678579199@kansasguardmuseum.com
SUMMARY:Host-Steve Wodtke
DESCRIPTION:
URL:https://kansasguardmuseum.com/event/host-steve-wodtke-3/
CATEGORIES:Host
END:VEVENT
BEGIN:VEVENT
DTSTART;VALUE=DATE:20230313
DTEND;VALUE=DATE:20230314
DTSTAMP:20260421T185900
CREATED:20230107T165940Z
LAST-MODIFIED:20230107T165940Z
UID:14610-1678665600-1678751999@kansasguardmuseum.com
SUMMARY:Host-Rex Allen
DESCRIPTION:
URL:https://kansasguardmuseum.com/event/host-rex-allen-3/
CATEGORIES:Host
END:VEVENT
BEGIN:VEVENT
DTSTART;VALUE=DATE:20230314
DTEND;VALUE=DATE:20230315
DTSTAMP:20260421T185900
CREATED:20230204T180507Z
LAST-MODIFIED:20230204T180507Z
UID:14981-1678752000-1678838399@kansasguardmuseum.com
SUMMARY:Host-Steve Pierce
DESCRIPTION:
URL:https://kansasguardmuseum.com/event/host-steve-pierce-2/
CATEGORIES:Host
END:VEVENT
BEGIN:VEVENT
DTSTART;VALUE=DATE:20230315
DTEND;VALUE=DATE:20230316
DTSTAMP:20260421T185900
CREATED:20230107T170050Z
LAST-MODIFIED:20230107T170050Z
UID:14614-1678838400-1678924799@kansasguardmuseum.com
SUMMARY:Host-Harry Rupple
DESCRIPTION:
URL:https://kansasguardmuseum.com/event/host-harry-rupple-3/
CATEGORIES:Host
END:VEVENT
BEGIN:VEVENT
DTSTART;VALUE=DATE:20230316
DTEND;VALUE=DATE:20230317
DTSTAMP:20260421T185900
CREATED:20230107T170117Z
LAST-MODIFIED:20230107T170117Z
UID:14616-1678924800-1679011199@kansasguardmuseum.com
SUMMARY:Host-Jim Istas
DESCRIPTION:
URL:https://kansasguardmuseum.com/event/host-jim-istas-3/
CATEGORIES:Host
END:VEVENT
BEGIN:VEVENT
DTSTART;VALUE=DATE:20230317
DTEND;VALUE=DATE:20230318
DTSTAMP:20260421T185900
CREATED:20230107T170149Z
LAST-MODIFIED:20230107T170149Z
UID:14618-1679011200-1679097599@kansasguardmuseum.com
SUMMARY:Host-Hector Vasquez
DESCRIPTION:
URL:https://kansasguardmuseum.com/event/host-hector-vasquez-3/
CATEGORIES:Host
END:VEVENT
BEGIN:VEVENT
DTSTART;VALUE=DATE:20230318
DTEND;VALUE=DATE:20230319
DTSTAMP:20260421T185900
CREATED:20230107T165358Z
LAST-MODIFIED:20230304T162729Z
UID:14588-1679097600-1679183999@kansasguardmuseum.com
SUMMARY:Retiree/State of the Guard Briefing
DESCRIPTION:
URL:https://kansasguardmuseum.com/event/retiree-state-of-the-guard-briefing/
CATEGORIES:Host
END:VEVENT
BEGIN:VEVENT
DTSTART;VALUE=DATE:20230318
DTEND;VALUE=DATE:20230319
DTSTAMP:20260421T185900
CREATED:20230304T164015Z
LAST-MODIFIED:20230304T164015Z
UID:15264-1679097600-1679183999@kansasguardmuseum.com
SUMMARY:Host-Debbie Doyle
DESCRIPTION:
URL:https://kansasguardmuseum.com/event/host-debbie-doyle-2/
CATEGORIES:Host
END:VEVENT
BEGIN:VEVENT
DTSTART;VALUE=DATE:20230320
DTEND;VALUE=DATE:20230321
DTSTAMP:20260421T185900
CREATED:20230107T173604Z
LAST-MODIFIED:20230107T173604Z
UID:14624-1679270400-1679356799@kansasguardmuseum.com
SUMMARY:Host-Charles Kuhn
DESCRIPTION:
URL:https://kansasguardmuseum.com/event/host-charles-kuhn-3/
CATEGORIES:Host
END:VEVENT
BEGIN:VEVENT
DTSTART;VALUE=DATE:20230321
DTEND;VALUE=DATE:20230322
DTSTAMP:20260421T185900
CREATED:20230204T180615Z
LAST-MODIFIED:20230204T180615Z
UID:14985-1679356800-1679443199@kansasguardmuseum.com
SUMMARY:Host-Dave Lawrence
DESCRIPTION:
URL:https://kansasguardmuseum.com/event/host-dave-lawrence-2/
CATEGORIES:Host
END:VEVENT
BEGIN:VEVENT
DTSTART;VALUE=DATE:20230322
DTEND;VALUE=DATE:20230323
DTSTAMP:20260421T185900
CREATED:20230107T173633Z
LAST-MODIFIED:20230107T173633Z
UID:14626-1679443200-1679529599@kansasguardmuseum.com
SUMMARY:Host-Anne Hunsecker
DESCRIPTION:
URL:https://kansasguardmuseum.com/event/host-anne-hunsecker-3/
CATEGORIES:Host
END:VEVENT
BEGIN:VEVENT
DTSTART;VALUE=DATE:20230323
DTEND;VALUE=DATE:20230324
DTSTAMP:20260421T185900
CREATED:20230107T173701Z
LAST-MODIFIED:20230107T173701Z
UID:14628-1679529600-1679615999@kansasguardmuseum.com
SUMMARY:Host-John Cregan
DESCRIPTION:
URL:https://kansasguardmuseum.com/event/host-john-cregan-3/
CATEGORIES:Host
END:VEVENT
BEGIN:VEVENT
DTSTART;VALUE=DATE:20230324
DTEND;VALUE=DATE:20230325
DTSTAMP:20260421T185900
CREATED:20230304T164132Z
LAST-MODIFIED:20230304T164132Z
UID:15268-1679616000-1679702399@kansasguardmuseum.com
SUMMARY:Host-Dottie Clark
DESCRIPTION:
URL:https://kansasguardmuseum.com/event/host-dottie-clark-4/
CATEGORIES:Host
END:VEVENT
BEGIN:VEVENT
DTSTART;VALUE=DATE:20230325
DTEND;VALUE=DATE:20230326
DTSTAMP:20260421T185900
CREATED:20230107T173727Z
LAST-MODIFIED:20230107T173727Z
UID:14630-1679702400-1679788799@kansasguardmuseum.com
SUMMARY:Host-Jim Spurlock
DESCRIPTION:
URL:https://kansasguardmuseum.com/event/host-jim-spurlock-3/
CATEGORIES:Host
END:VEVENT
BEGIN:VEVENT
DTSTART;VALUE=DATE:20230327
DTEND;VALUE=DATE:20230328
DTSTAMP:20260421T185900
CREATED:20230107T173911Z
LAST-MODIFIED:20230107T173911Z
UID:14634-1679875200-1679961599@kansasguardmuseum.com
SUMMARY:Host-Mary Rogers
DESCRIPTION:
URL:https://kansasguardmuseum.com/event/host-mary-rogers-3/
CATEGORIES:Host
END:VEVENT
BEGIN:VEVENT
DTSTART;VALUE=DATE:20230328
DTEND;VALUE=DATE:20230329
DTSTAMP:20260421T185900
CREATED:20230107T173945Z
LAST-MODIFIED:20230107T173945Z
UID:14636-1679961600-1680047999@kansasguardmuseum.com
SUMMARY:Host-Howard Neff
DESCRIPTION:
URL:https://kansasguardmuseum.com/event/host-howard-neff-6/
CATEGORIES:Host
END:VEVENT
BEGIN:VEVENT
DTSTART;VALUE=DATE:20230329
DTEND;VALUE=DATE:20230330
DTSTAMP:20260421T185900
CREATED:20230204T180640Z
LAST-MODIFIED:20230204T180640Z
UID:14987-1680048000-1680134399@kansasguardmuseum.com
SUMMARY:Hosts-Pascuas
DESCRIPTION:
URL:https://kansasguardmuseum.com/event/hosts-pascuas-2/
CATEGORIES:Host
END:VEVENT
BEGIN:VEVENT
DTSTART;VALUE=DATE:20230330
DTEND;VALUE=DATE:20230331
DTSTAMP:20260421T185900
CREATED:20230304T164211Z
LAST-MODIFIED:20230304T164211Z
UID:15270-1680134400-1680220799@kansasguardmuseum.com
SUMMARY:Host-Lewis Shedd
DESCRIPTION:
URL:https://kansasguardmuseum.com/event/host-lewis-shedd-3/
CATEGORIES:Host
END:VEVENT
END:VCALENDAR