BEGIN:VCALENDAR
VERSION:2.0
PRODID:-//Museum of the Kansas National Guard - ECPv6.15.20//NONSGML v1.0//EN
CALSCALE:GREGORIAN
METHOD:PUBLISH
X-WR-CALNAME:Museum of the Kansas National Guard
X-ORIGINAL-URL:https://kansasguardmuseum.com
X-WR-CALDESC:Events for Museum of the Kansas National Guard
REFRESH-INTERVAL;VALUE=DURATION:PT1H
X-Robots-Tag:noindex
X-PUBLISHED-TTL:PT1H
BEGIN:VTIMEZONE
TZID:America/Chicago
BEGIN:DAYLIGHT
TZOFFSETFROM:-0600
TZOFFSETTO:-0500
TZNAME:CDT
DTSTART:20250309T080000
END:DAYLIGHT
BEGIN:STANDARD
TZOFFSETFROM:-0500
TZOFFSETTO:-0600
TZNAME:CST
DTSTART:20251102T070000
END:STANDARD
BEGIN:DAYLIGHT
TZOFFSETFROM:-0600
TZOFFSETTO:-0500
TZNAME:CDT
DTSTART:20260308T080000
END:DAYLIGHT
BEGIN:STANDARD
TZOFFSETFROM:-0500
TZOFFSETTO:-0600
TZNAME:CST
DTSTART:20261101T070000
END:STANDARD
BEGIN:DAYLIGHT
TZOFFSETFROM:-0600
TZOFFSETTO:-0500
TZNAME:CDT
DTSTART:20270314T080000
END:DAYLIGHT
BEGIN:STANDARD
TZOFFSETFROM:-0500
TZOFFSETTO:-0600
TZNAME:CST
DTSTART:20271107T070000
END:STANDARD
END:VTIMEZONE
BEGIN:VEVENT
DTSTART;VALUE=DATE:20260421
DTEND;VALUE=DATE:20260422
DTSTAMP:20260421T053313
CREATED:20260307T194902Z
LAST-MODIFIED:20260307T194902Z
UID:26262-1776729600-1776815999@kansasguardmuseum.com
SUMMARY:Host - Judy Gatewood
DESCRIPTION:
URL:https://kansasguardmuseum.com/event/host-judy-gatewood-26/
CATEGORIES:Host
END:VEVENT
BEGIN:VEVENT
DTSTART;VALUE=DATE:20260422
DTEND;VALUE=DATE:20260423
DTSTAMP:20260421T053313
CREATED:20260307T195016Z
LAST-MODIFIED:20260307T195016Z
UID:26266-1776816000-1776902399@kansasguardmuseum.com
SUMMARY:Host - Anne Hunsecker
DESCRIPTION:
URL:https://kansasguardmuseum.com/event/host-anne-hunsecker-40/
CATEGORIES:Host
END:VEVENT
BEGIN:VEVENT
DTSTART;VALUE=DATE:20260423
DTEND;VALUE=DATE:20260424
DTSTAMP:20260421T053313
CREATED:20260307T195046Z
LAST-MODIFIED:20260307T195046Z
UID:26268-1776902400-1776988799@kansasguardmuseum.com
SUMMARY:Host - Marvin Terhune
DESCRIPTION:
URL:https://kansasguardmuseum.com/event/host-marvin-terhune-20/
CATEGORIES:Host
END:VEVENT
BEGIN:VEVENT
DTSTART;VALUE=DATE:20260424
DTEND;VALUE=DATE:20260425
DTSTAMP:20260421T053313
CREATED:20260307T195118Z
LAST-MODIFIED:20260307T195118Z
UID:26270-1776988800-1777075199@kansasguardmuseum.com
SUMMARY:Host - Mary Rogers
DESCRIPTION:
URL:https://kansasguardmuseum.com/event/host-mary-rogers-39/
CATEGORIES:Host
END:VEVENT
BEGIN:VEVENT
DTSTART;VALUE=DATE:20260425
DTEND;VALUE=DATE:20260426
DTSTAMP:20260421T053313
CREATED:20260404T171128Z
LAST-MODIFIED:20260404T171128Z
UID:26565-1777075200-1777161599@kansasguardmuseum.com
SUMMARY:Host - Bob Good
DESCRIPTION:
URL:https://kansasguardmuseum.com/event/host-bob-good-22/
CATEGORIES:Host
END:VEVENT
BEGIN:VEVENT
DTSTART;VALUE=DATE:20260427
DTEND;VALUE=DATE:20260428
DTSTAMP:20260421T053313
CREATED:20260404T171157Z
LAST-MODIFIED:20260404T171157Z
UID:26567-1777248000-1777334399@kansasguardmuseum.com
SUMMARY:Host - Troy Abel
DESCRIPTION:
URL:https://kansasguardmuseum.com/event/host-troy-abel-36/
CATEGORIES:Host
END:VEVENT
BEGIN:VEVENT
DTSTART;VALUE=DATE:20260428
DTEND;VALUE=DATE:20260429
DTSTAMP:20260421T053313
CREATED:20260404T171224Z
LAST-MODIFIED:20260404T171224Z
UID:26569-1777334400-1777420799@kansasguardmuseum.com
SUMMARY:Host - Charles Kuhn
DESCRIPTION:
URL:https://kansasguardmuseum.com/event/host-charles-kuhn-23/
CATEGORIES:Host
END:VEVENT
BEGIN:VEVENT
DTSTART;VALUE=DATE:20260429
DTEND;VALUE=DATE:20260430
DTSTAMP:20260421T053313
CREATED:20260307T195419Z
LAST-MODIFIED:20260307T195419Z
UID:26278-1777420800-1777507199@kansasguardmuseum.com
SUMMARY:Host - Geoff Lanning
DESCRIPTION:
URL:https://kansasguardmuseum.com/event/host-geoff-lanning-18/
CATEGORIES:Host
END:VEVENT
BEGIN:VEVENT
DTSTART;VALUE=DATE:20260430
DTEND;VALUE=DATE:20260501
DTSTAMP:20260421T053313
CREATED:20260404T171255Z
LAST-MODIFIED:20260404T171255Z
UID:26571-1777507200-1777593599@kansasguardmuseum.com
SUMMARY:Host - Mark Seats
DESCRIPTION:
URL:https://kansasguardmuseum.com/event/host-mark-seats-18/
CATEGORIES:Host
END:VEVENT
END:VCALENDAR