BEGIN:VCALENDAR
VERSION:2.0
PRODID:-//Museum of the Kansas National Guard - ECPv6.15.20//NONSGML v1.0//EN
CALSCALE:GREGORIAN
METHOD:PUBLISH
X-WR-CALNAME:Museum of the Kansas National Guard
X-ORIGINAL-URL:https://kansasguardmuseum.com
X-WR-CALDESC:Events for Museum of the Kansas National Guard
REFRESH-INTERVAL;VALUE=DURATION:PT1H
X-Robots-Tag:noindex
X-PUBLISHED-TTL:PT1H
BEGIN:VTIMEZONE
TZID:America/Chicago
BEGIN:DAYLIGHT
TZOFFSETFROM:-0600
TZOFFSETTO:-0500
TZNAME:CDT
DTSTART:20220313T080000
END:DAYLIGHT
BEGIN:STANDARD
TZOFFSETFROM:-0500
TZOFFSETTO:-0600
TZNAME:CST
DTSTART:20221106T070000
END:STANDARD
BEGIN:DAYLIGHT
TZOFFSETFROM:-0600
TZOFFSETTO:-0500
TZNAME:CDT
DTSTART:20230312T080000
END:DAYLIGHT
BEGIN:STANDARD
TZOFFSETFROM:-0500
TZOFFSETTO:-0600
TZNAME:CST
DTSTART:20231105T070000
END:STANDARD
BEGIN:DAYLIGHT
TZOFFSETFROM:-0600
TZOFFSETTO:-0500
TZNAME:CDT
DTSTART:20240310T080000
END:DAYLIGHT
BEGIN:STANDARD
TZOFFSETFROM:-0500
TZOFFSETTO:-0600
TZNAME:CST
DTSTART:20241103T070000
END:STANDARD
BEGIN:DAYLIGHT
TZOFFSETFROM:-0600
TZOFFSETTO:-0500
TZNAME:CDT
DTSTART:20250309T080000
END:DAYLIGHT
BEGIN:STANDARD
TZOFFSETFROM:-0500
TZOFFSETTO:-0600
TZNAME:CST
DTSTART:20251102T070000
END:STANDARD
END:VTIMEZONE
BEGIN:VEVENT
DTSTART;VALUE=DATE:20231130
DTEND;VALUE=DATE:20231201
DTSTAMP:20260425T112957
CREATED:20231007T165423Z
LAST-MODIFIED:20231007T165423Z
UID:16617-1701302400-1701388799@kansasguardmuseum.com
SUMMARY:Host-John Cregan
DESCRIPTION:
URL:https://kansasguardmuseum.com/event/host-john-cregan-8/
CATEGORIES:Host
END:VEVENT
BEGIN:VEVENT
DTSTART;VALUE=DATE:20231201
DTEND;VALUE=DATE:20231202
DTSTAMP:20260425T112957
CREATED:20231202T190903Z
LAST-MODIFIED:20231202T190903Z
UID:17025-1701388800-1701475199@kansasguardmuseum.com
SUMMARY:Host - Mary Rogers
DESCRIPTION:
URL:https://kansasguardmuseum.com/event/host-mary-rogers-12/
CATEGORIES:Host
END:VEVENT
BEGIN:VEVENT
DTSTART;VALUE=DATE:20231202
DTEND;VALUE=DATE:20231203
DTSTAMP:20260425T112957
CREATED:20231104T170301Z
LAST-MODIFIED:20231104T170301Z
UID:16811-1701475200-1701561599@kansasguardmuseum.com
SUMMARY:Hosts - Morrows
DESCRIPTION:
URL:https://kansasguardmuseum.com/event/hosts-morrows-12/
CATEGORIES:Host
END:VEVENT
BEGIN:VEVENT
DTSTART;VALUE=DATE:20231205
DTEND;VALUE=DATE:20231206
DTSTAMP:20260425T112957
CREATED:20231007T165924Z
LAST-MODIFIED:20231007T165924Z
UID:16627-1701734400-1701820799@kansasguardmuseum.com
SUMMARY:Host- Chuck Bredahl
DESCRIPTION:
URL:https://kansasguardmuseum.com/event/host-chuck-bredahl-12/
CATEGORIES:Host
END:VEVENT
BEGIN:VEVENT
DTSTART;VALUE=DATE:20231206
DTEND;VALUE=DATE:20231207
DTSTAMP:20260425T112957
CREATED:20231007T165958Z
LAST-MODIFIED:20231007T165958Z
UID:16629-1701820800-1701907199@kansasguardmuseum.com
SUMMARY:Host-Lloyd Arnold
DESCRIPTION:
URL:https://kansasguardmuseum.com/event/host-lloyd-arnold-13/
CATEGORIES:Host
END:VEVENT
BEGIN:VEVENT
DTSTART;VALUE=DATE:20231208
DTEND;VALUE=DATE:20231209
DTSTAMP:20260425T112957
CREATED:20231007T170452Z
LAST-MODIFIED:20231007T170452Z
UID:16635-1701993600-1702079999@kansasguardmuseum.com
SUMMARY:Host-Steve Pierce
DESCRIPTION:
URL:https://kansasguardmuseum.com/event/host-steve-pierce-10/
CATEGORIES:Host
END:VEVENT
BEGIN:VEVENT
DTSTART;VALUE=DATE:20231209
DTEND;VALUE=DATE:20231210
DTSTAMP:20260425T112957
CREATED:20231202T182634Z
LAST-MODIFIED:20231202T182634Z
UID:16954-1702080000-1702166399@kansasguardmuseum.com
SUMMARY:Host-Steve Wodtke
DESCRIPTION:
URL:https://kansasguardmuseum.com/event/host-steve-wodtke-8/
CATEGORIES:Host
END:VEVENT
BEGIN:VEVENT
DTSTART;VALUE=DATE:20231211
DTEND;VALUE=DATE:20231212
DTSTAMP:20260425T112957
CREATED:20231007T170639Z
LAST-MODIFIED:20231007T170639Z
UID:16641-1702252800-1702339199@kansasguardmuseum.com
SUMMARY:Host-Rex Allen
DESCRIPTION:
URL:https://kansasguardmuseum.com/event/host-rex-allen-12/
CATEGORIES:Host
END:VEVENT
BEGIN:VEVENT
DTSTART;VALUE=DATE:20231212
DTEND;VALUE=DATE:20231213
DTSTAMP:20260425T112957
CREATED:20231007T170713Z
LAST-MODIFIED:20231007T170713Z
UID:16643-1702339200-1702425599@kansasguardmuseum.com
SUMMARY:Host-Charles Kuhn
DESCRIPTION:
URL:https://kansasguardmuseum.com/event/host-charles-kuhn-10/
CATEGORIES:Host
END:VEVENT
BEGIN:VEVENT
DTSTART;VALUE=DATE:20231213
DTEND;VALUE=DATE:20231214
DTSTAMP:20260425T112957
CREATED:20231007T170742Z
LAST-MODIFIED:20231007T170742Z
UID:16645-1702425600-1702511999@kansasguardmuseum.com
SUMMARY:Host-Dale Johnston
DESCRIPTION:
URL:https://kansasguardmuseum.com/event/host-dale-johnston-12/
CATEGORIES:Host
END:VEVENT
BEGIN:VEVENT
DTSTART;VALUE=DATE:20231214
DTEND;VALUE=DATE:20231215
DTSTAMP:20260425T112957
CREATED:20231007T170945Z
LAST-MODIFIED:20231202T182834Z
UID:16653-1702512000-1702598399@kansasguardmuseum.com
SUMMARY:Host-Phil Mahan
DESCRIPTION:
URL:https://kansasguardmuseum.com/event/host-hugh-greenfield-12/
CATEGORIES:Host
END:VEVENT
BEGIN:VEVENT
DTSTART;VALUE=DATE:20231215
DTEND;VALUE=DATE:20231216
DTSTAMP:20260425T112957
CREATED:20231202T182858Z
LAST-MODIFIED:20231202T182858Z
UID:16957-1702598400-1702684799@kansasguardmuseum.com
SUMMARY:Host-Bob Good
DESCRIPTION:
URL:https://kansasguardmuseum.com/event/host-bob-good-7/
CATEGORIES:Host
END:VEVENT
BEGIN:VEVENT
DTSTART;VALUE=DATE:20231216
DTEND;VALUE=DATE:20231217
DTSTAMP:20260425T112957
CREATED:20231202T182922Z
LAST-MODIFIED:20231202T182922Z
UID:16959-1702684800-1702771199@kansasguardmuseum.com
SUMMARY:Host-Dottie Clark
DESCRIPTION:
URL:https://kansasguardmuseum.com/event/host-dottie-clark-9/
CATEGORIES:Host
END:VEVENT
BEGIN:VEVENT
DTSTART;VALUE=DATE:20231218
DTEND;VALUE=DATE:20231219
DTSTAMP:20260425T112957
CREATED:20231007T171420Z
LAST-MODIFIED:20231007T171420Z
UID:16669-1702857600-1702943999@kansasguardmuseum.com
SUMMARY:Host-Troy Abel
DESCRIPTION:
URL:https://kansasguardmuseum.com/event/host-troy-abel-11/
CATEGORIES:Host
END:VEVENT
BEGIN:VEVENT
DTSTART;VALUE=DATE:20231219
DTEND;VALUE=DATE:20231220
DTSTAMP:20260425T112957
CREATED:20231007T171447Z
LAST-MODIFIED:20231007T171447Z
UID:16671-1702944000-1703030399@kansasguardmuseum.com
SUMMARY:Hosts-Pascuas
DESCRIPTION:
URL:https://kansasguardmuseum.com/event/hosts-pascuas-11/
CATEGORIES:Host
END:VEVENT
BEGIN:VEVENT
DTSTART;VALUE=DATE:20231220
DTEND;VALUE=DATE:20231221
DTSTAMP:20260425T112957
CREATED:20231007T171511Z
LAST-MODIFIED:20231007T171511Z
UID:16673-1703030400-1703116799@kansasguardmuseum.com
SUMMARY:Host-Ron Tincher
DESCRIPTION:
URL:https://kansasguardmuseum.com/event/host-ron-tincher-6/
CATEGORIES:Host
END:VEVENT
BEGIN:VEVENT
DTSTART;VALUE=DATE:20231221
DTEND;VALUE=DATE:20231222
DTSTAMP:20260425T112957
CREATED:20231007T171610Z
LAST-MODIFIED:20231007T171610Z
UID:16677-1703116800-1703203199@kansasguardmuseum.com
SUMMARY:Host-Hector Vasquez
DESCRIPTION:
URL:https://kansasguardmuseum.com/event/host-hector-vasquez-11/
CATEGORIES:Host
END:VEVENT
BEGIN:VEVENT
DTSTART;VALUE=DATE:20231222
DTEND;VALUE=DATE:20231223
DTSTAMP:20260425T112957
CREATED:20231007T171635Z
LAST-MODIFIED:20231104T170740Z
UID:16679-1703203200-1703289599@kansasguardmuseum.com
SUMMARY:Host-Dave Lawrence
DESCRIPTION:
URL:https://kansasguardmuseum.com/event/host-gary-nicholson-12/
CATEGORIES:Host
END:VEVENT
BEGIN:VEVENT
DTSTART;VALUE=DATE:20231223
DTEND;VALUE=DATE:20231224
DTSTAMP:20260425T112957
CREATED:20231202T183219Z
LAST-MODIFIED:20231202T183219Z
UID:16963-1703289600-1703375999@kansasguardmuseum.com
SUMMARY:Host - Butch Dowse
DESCRIPTION:
URL:https://kansasguardmuseum.com/event/host-butch-dowse-3/
CATEGORIES:Host
END:VEVENT
BEGIN:VEVENT
DTSTART;VALUE=DATE:20231226
DTEND;VALUE=DATE:20231227
DTSTAMP:20260425T112957
CREATED:20231007T171724Z
LAST-MODIFIED:20231007T171724Z
UID:16683-1703548800-1703635199@kansasguardmuseum.com
SUMMARY:Host-Howard Neff
DESCRIPTION:
URL:https://kansasguardmuseum.com/event/host-howard-neff-13/
CATEGORIES:Host
END:VEVENT
BEGIN:VEVENT
DTSTART;VALUE=DATE:20231227
DTEND;VALUE=DATE:20231228
DTSTAMP:20260425T112957
CREATED:20231007T171749Z
LAST-MODIFIED:20231007T171749Z
UID:16685-1703635200-1703721599@kansasguardmuseum.com
SUMMARY:Host-Anne Hunsecker
DESCRIPTION:
URL:https://kansasguardmuseum.com/event/host-anne-hunsecker-12/
CATEGORIES:Host
END:VEVENT
BEGIN:VEVENT
DTSTART;VALUE=DATE:20231228
DTEND;VALUE=DATE:20231229
DTSTAMP:20260425T112957
CREATED:20231007T171813Z
LAST-MODIFIED:20231007T171813Z
UID:16687-1703721600-1703807999@kansasguardmuseum.com
SUMMARY:Host-John Cregan
DESCRIPTION:
URL:https://kansasguardmuseum.com/event/host-john-cregan-9/
CATEGORIES:Host
END:VEVENT
BEGIN:VEVENT
DTSTART;VALUE=DATE:20231229
DTEND;VALUE=DATE:20231230
DTSTAMP:20260425T112957
CREATED:20231007T171843Z
LAST-MODIFIED:20231007T171843Z
UID:16689-1703808000-1703894399@kansasguardmuseum.com
SUMMARY:Host-Jim Istas
DESCRIPTION:
URL:https://kansasguardmuseum.com/event/host-jim-istas-11/
CATEGORIES:Host
END:VEVENT
BEGIN:VEVENT
DTSTART;VALUE=DATE:20231230
DTEND;VALUE=DATE:20231231
DTSTAMP:20260425T112957
CREATED:20231202T183259Z
LAST-MODIFIED:20231202T183259Z
UID:16965-1703894400-1703980799@kansasguardmuseum.com
SUMMARY:Host - Debbie Doyle
DESCRIPTION:
URL:https://kansasguardmuseum.com/event/host-debbie-doyle-10/
CATEGORIES:Host
END:VEVENT
BEGIN:VEVENT
DTSTART;VALUE=DATE:20240102
DTEND;VALUE=DATE:20240103
DTSTAMP:20260425T112957
CREATED:20231202T183522Z
LAST-MODIFIED:20231202T183522Z
UID:16969-1704153600-1704239999@kansasguardmuseum.com
SUMMARY:Host-Chuck Bredahl
DESCRIPTION:
URL:https://kansasguardmuseum.com/event/host-chuck-bredahl-13/
CATEGORIES:Host
END:VEVENT
BEGIN:VEVENT
DTSTART;VALUE=DATE:20240103
DTEND;VALUE=DATE:20240104
DTSTAMP:20260425T112957
CREATED:20231104T171301Z
LAST-MODIFIED:20231104T171301Z
UID:16822-1704240000-1704326399@kansasguardmuseum.com
SUMMARY:Host - Lloyd Arnold
DESCRIPTION:
URL:https://kansasguardmuseum.com/event/host-lloyd-arnold-14/
CATEGORIES:Host
END:VEVENT
BEGIN:VEVENT
DTSTART;VALUE=DATE:20240103
DTEND;VALUE=DATE:20240104
DTSTAMP:20260425T112957
CREATED:20231202T183652Z
LAST-MODIFIED:20231202T183652Z
UID:16972-1704240000-1704326399@kansasguardmuseum.com
SUMMARY:Host - Lloyd Arnold
DESCRIPTION:
URL:https://kansasguardmuseum.com/event/host-lloyd-arnold-15/
CATEGORIES:Host
END:VEVENT
BEGIN:VEVENT
DTSTART;VALUE=DATE:20240104
DTEND;VALUE=DATE:20240105
DTSTAMP:20260425T112957
CREATED:20240106T173139Z
LAST-MODIFIED:20240106T173139Z
UID:17199-1704326400-1704412799@kansasguardmuseum.com
SUMMARY:Host - Roger Wilson
DESCRIPTION:
URL:https://kansasguardmuseum.com/event/host-roger-wilson/
CATEGORIES:Host
END:VEVENT
BEGIN:VEVENT
DTSTART;VALUE=DATE:20240105
DTEND;VALUE=DATE:20240106
DTSTAMP:20260425T112957
CREATED:20231202T183847Z
LAST-MODIFIED:20231202T183847Z
UID:16978-1704412800-1704499199@kansasguardmuseum.com
SUMMARY:Host - Ron Gray
DESCRIPTION:
URL:https://kansasguardmuseum.com/event/host-ron-gray-11/
CATEGORIES:Host
END:VEVENT
BEGIN:VEVENT
DTSTART;VALUE=DATE:20240106
DTEND;VALUE=DATE:20240107
DTSTAMP:20260425T112957
CREATED:20231202T183918Z
LAST-MODIFIED:20231202T183918Z
UID:16980-1704499200-1704585599@kansasguardmuseum.com
SUMMARY:Hosts - Morrows
DESCRIPTION:
URL:https://kansasguardmuseum.com/event/hosts-morrows-13/
CATEGORIES:Host
END:VEVENT
END:VCALENDAR