BEGIN:VCALENDAR
VERSION:2.0
PRODID:-//Museum of the Kansas National Guard - ECPv6.15.20//NONSGML v1.0//EN
CALSCALE:GREGORIAN
METHOD:PUBLISH
X-WR-CALNAME:Museum of the Kansas National Guard
X-ORIGINAL-URL:https://kansasguardmuseum.com
X-WR-CALDESC:Events for Museum of the Kansas National Guard
REFRESH-INTERVAL;VALUE=DURATION:PT1H
X-Robots-Tag:noindex
X-PUBLISHED-TTL:PT1H
BEGIN:VTIMEZONE
TZID:America/Chicago
BEGIN:DAYLIGHT
TZOFFSETFROM:-0600
TZOFFSETTO:-0500
TZNAME:CDT
DTSTART:20210314T080000
END:DAYLIGHT
BEGIN:STANDARD
TZOFFSETFROM:-0500
TZOFFSETTO:-0600
TZNAME:CST
DTSTART:20211107T070000
END:STANDARD
BEGIN:DAYLIGHT
TZOFFSETFROM:-0600
TZOFFSETTO:-0500
TZNAME:CDT
DTSTART:20220313T080000
END:DAYLIGHT
BEGIN:STANDARD
TZOFFSETFROM:-0500
TZOFFSETTO:-0600
TZNAME:CST
DTSTART:20221106T070000
END:STANDARD
BEGIN:DAYLIGHT
TZOFFSETFROM:-0600
TZOFFSETTO:-0500
TZNAME:CDT
DTSTART:20230312T080000
END:DAYLIGHT
BEGIN:STANDARD
TZOFFSETFROM:-0500
TZOFFSETTO:-0600
TZNAME:CST
DTSTART:20231105T070000
END:STANDARD
END:VTIMEZONE
BEGIN:VEVENT
DTSTART;VALUE=DATE:20220915
DTEND;VALUE=DATE:20220916
DTSTAMP:20260423T094937
CREATED:20220704T160603Z
LAST-MODIFIED:20220704T160603Z
UID:11421-1663200000-1663286399@kansasguardmuseum.com
SUMMARY:Host-Hugh Greenfield
DESCRIPTION:
URL:https://kansasguardmuseum.com/event/host-hugh-greenfield-61/
CATEGORIES:Host
END:VEVENT
BEGIN:VEVENT
DTSTART;VALUE=DATE:20220916
DTEND;VALUE=DATE:20220917
DTSTAMP:20260423T094937
CREATED:20220905T165528Z
LAST-MODIFIED:20220905T165528Z
UID:12780-1663286400-1663372799@kansasguardmuseum.com
SUMMARY:Host-Mark Sweeney
DESCRIPTION:
URL:https://kansasguardmuseum.com/event/host-mark-sweeney-48/
CATEGORIES:Host
END:VEVENT
BEGIN:VEVENT
DTSTART;VALUE=DATE:20220919
DTEND;VALUE=DATE:20220920
DTSTAMP:20260423T094937
CREATED:20220905T165702Z
LAST-MODIFIED:20220905T165702Z
UID:12784-1663545600-1663631999@kansasguardmuseum.com
SUMMARY:Host-Barrie Gnagy
DESCRIPTION:
URL:https://kansasguardmuseum.com/event/host-barrie-gnagy-10/
CATEGORIES:Host
END:VEVENT
BEGIN:VEVENT
DTSTART;VALUE=DATE:20220920
DTEND;VALUE=DATE:20220921
DTSTAMP:20260423T094937
CREATED:20220905T165749Z
LAST-MODIFIED:20220905T165749Z
UID:12786-1663632000-1663718399@kansasguardmuseum.com
SUMMARY:Host-Bob Good
DESCRIPTION:
URL:https://kansasguardmuseum.com/event/host-bob-good-8/
CATEGORIES:Host
END:VEVENT
BEGIN:VEVENT
DTSTART;VALUE=DATE:20220921
DTEND;VALUE=DATE:20220922
DTSTAMP:20260423T094937
CREATED:20220704T160946Z
LAST-MODIFIED:20220704T160946Z
UID:11429-1663718400-1663804799@kansasguardmuseum.com
SUMMARY:Host-Harry Rupple
DESCRIPTION:
URL:https://kansasguardmuseum.com/event/host-harry-rupple-65/
CATEGORIES:Host
END:VEVENT
BEGIN:VEVENT
DTSTART;VALUE=DATE:20220922
DTEND;VALUE=DATE:20220923
DTSTAMP:20260423T094937
CREATED:20220806T161147Z
LAST-MODIFIED:20220806T161147Z
UID:12116-1663804800-1663891199@kansasguardmuseum.com
SUMMARY:Host-John Cregan
DESCRIPTION:
URL:https://kansasguardmuseum.com/event/host-john-cregan-47/
CATEGORIES:Host
END:VEVENT
BEGIN:VEVENT
DTSTART;VALUE=DATE:20220923
DTEND;VALUE=DATE:20220924
DTSTAMP:20260423T094937
CREATED:20220704T161100Z
LAST-MODIFIED:20220704T161100Z
UID:11433-1663891200-1663977599@kansasguardmuseum.com
SUMMARY:Host-Jim Istas
DESCRIPTION:
URL:https://kansasguardmuseum.com/event/host-jim-istas-78/
CATEGORIES:Host
END:VEVENT
BEGIN:VEVENT
DTSTART;VALUE=DATE:20220924
DTEND;VALUE=DATE:20220925
DTSTAMP:20260423T094937
CREATED:20220704T161139Z
LAST-MODIFIED:20220704T161139Z
UID:11435-1663977600-1664063999@kansasguardmuseum.com
SUMMARY:Host-Gary Nicholson
DESCRIPTION:
URL:https://kansasguardmuseum.com/event/host-gary-nicholson-60/
CATEGORIES:Host
END:VEVENT
BEGIN:VEVENT
DTSTART;VALUE=DATE:20220926
DTEND;VALUE=DATE:20220927
DTSTAMP:20260423T094937
CREATED:20220704T161252Z
LAST-MODIFIED:20220704T161252Z
UID:11439-1664150400-1664236799@kansasguardmuseum.com
SUMMARY:Host-Mary Rogers
DESCRIPTION:
URL:https://kansasguardmuseum.com/event/host-mary-rogers-97/
CATEGORIES:Host
END:VEVENT
BEGIN:VEVENT
DTSTART;VALUE=DATE:20220927
DTEND;VALUE=DATE:20220928
DTSTAMP:20260423T094937
CREATED:20220905T170005Z
LAST-MODIFIED:20220905T170005Z
UID:12791-1664236800-1664323199@kansasguardmuseum.com
SUMMARY:Host-Steve Wodtke
DESCRIPTION:
URL:https://kansasguardmuseum.com/event/host-steve-wodtke-29/
CATEGORIES:Host
END:VEVENT
BEGIN:VEVENT
DTSTART;VALUE=DATE:20220928
DTEND;VALUE=DATE:20220929
DTSTAMP:20260423T094937
CREATED:20220704T161411Z
LAST-MODIFIED:20220704T161411Z
UID:11441-1664323200-1664409599@kansasguardmuseum.com
SUMMARY:Host-Anne Hunsecker
DESCRIPTION:
URL:https://kansasguardmuseum.com/event/host-anne-hunsecker-69/
CATEGORIES:Host
END:VEVENT
BEGIN:VEVENT
DTSTART;VALUE=DATE:20220929
DTEND;VALUE=DATE:20220930
DTSTAMP:20260423T094937
CREATED:20220704T161537Z
LAST-MODIFIED:20220704T161537Z
UID:11445-1664409600-1664495999@kansasguardmuseum.com
SUMMARY:Hosts-Pascuas
DESCRIPTION:
URL:https://kansasguardmuseum.com/event/hosts-pascuas-64/
CATEGORIES:Host
END:VEVENT
BEGIN:VEVENT
DTSTART;VALUE=DATE:20220930
DTEND;VALUE=DATE:20221001
DTSTAMP:20260423T094937
CREATED:20220905T170335Z
LAST-MODIFIED:20220905T170335Z
UID:12798-1664496000-1664582399@kansasguardmuseum.com
SUMMARY:Host-Howard Neff
DESCRIPTION:
URL:https://kansasguardmuseum.com/event/host-howard-neff-3/
CATEGORIES:Host
END:VEVENT
BEGIN:VEVENT
DTSTART;VALUE=DATE:20221001
DTEND;VALUE=DATE:20221002
DTSTAMP:20260423T094937
CREATED:20220905T170957Z
LAST-MODIFIED:20220905T170957Z
UID:12800-1664582400-1664668799@kansasguardmuseum.com
SUMMARY:Hosts-Morrows
DESCRIPTION:
URL:https://kansasguardmuseum.com/event/hosts-morrows-63/
CATEGORIES:Host
END:VEVENT
BEGIN:VEVENT
DTSTART;VALUE=DATE:20221003
DTEND;VALUE=DATE:20221004
DTSTAMP:20260423T094937
CREATED:20220806T161452Z
LAST-MODIFIED:20220806T161452Z
UID:12122-1664755200-1664841599@kansasguardmuseum.com
SUMMARY:Host-Ed Williams
DESCRIPTION:
URL:https://kansasguardmuseum.com/event/host-ed-williams-46/
CATEGORIES:Host
END:VEVENT
BEGIN:VEVENT
DTSTART;VALUE=DATE:20221004
DTEND;VALUE=DATE:20221005
DTSTAMP:20260423T094937
CREATED:20220806T161535Z
LAST-MODIFIED:20221001T171609Z
UID:12124-1664841600-1664927999@kansasguardmuseum.com
SUMMARY:Host-Roger Wilson
DESCRIPTION:
URL:https://kansasguardmuseum.com/event/host-steve-pierce-70/
CATEGORIES:Host
END:VEVENT
BEGIN:VEVENT
DTSTART;VALUE=DATE:20221005
DTEND;VALUE=DATE:20221006
DTSTAMP:20260423T094937
CREATED:20220806T161608Z
LAST-MODIFIED:20220806T161608Z
UID:12126-1664928000-1665014399@kansasguardmuseum.com
SUMMARY:Host-Lloyd Arnold
DESCRIPTION:
URL:https://kansasguardmuseum.com/event/host-lloyd-arnold-64/
CATEGORIES:Host
END:VEVENT
BEGIN:VEVENT
DTSTART;VALUE=DATE:20221006
DTEND;VALUE=DATE:20221007
DTSTAMP:20260423T094937
CREATED:20221001T171829Z
LAST-MODIFIED:20221001T171829Z
UID:13340-1665014400-1665100799@kansasguardmuseum.com
SUMMARY:Host-Charles Kuhn
DESCRIPTION:
URL:https://kansasguardmuseum.com/event/host-charles-kuhn-15/
CATEGORIES:Host
END:VEVENT
BEGIN:VEVENT
DTSTART;VALUE=DATE:20221007
DTEND;VALUE=DATE:20221008
DTSTAMP:20260423T094937
CREATED:20221001T171922Z
LAST-MODIFIED:20221001T171922Z
UID:13342-1665100800-1665187199@kansasguardmuseum.com
SUMMARY:Hosts-Dowses
DESCRIPTION:
URL:https://kansasguardmuseum.com/event/hosts-dowses-30/
CATEGORIES:Host
END:VEVENT
BEGIN:VEVENT
DTSTART;VALUE=DATE:20221008
DTEND;VALUE=DATE:20221009
DTSTAMP:20260423T094937
CREATED:20220905T171038Z
LAST-MODIFIED:20220905T171038Z
UID:12802-1665187200-1665273599@kansasguardmuseum.com
SUMMARY:Host-Jim Spurlock
DESCRIPTION:
URL:https://kansasguardmuseum.com/event/host-jim-spurlock-30/
CATEGORIES:Host
END:VEVENT
BEGIN:VEVENT
DTSTART;VALUE=DATE:20221010
DTEND;VALUE=DATE:20221011
DTSTAMP:20260423T094937
CREATED:20220806T161807Z
LAST-MODIFIED:20220806T161807Z
UID:12132-1665360000-1665446399@kansasguardmuseum.com
SUMMARY:Host-Rex Allen
DESCRIPTION:
URL:https://kansasguardmuseum.com/event/host-rex-allen-67/
CATEGORIES:Host
END:VEVENT
BEGIN:VEVENT
DTSTART;VALUE=DATE:20221011
DTEND;VALUE=DATE:20221012
DTSTAMP:20260423T094937
CREATED:20220806T161840Z
LAST-MODIFIED:20220806T161840Z
UID:12134-1665446400-1665532799@kansasguardmuseum.com
SUMMARY:Host-Chuck Bredahl
DESCRIPTION:
URL:https://kansasguardmuseum.com/event/host-chuck-bredahl-69/
CATEGORIES:Host
END:VEVENT
BEGIN:VEVENT
DTSTART;VALUE=DATE:20221012
DTEND;VALUE=DATE:20221013
DTSTAMP:20260423T094937
CREATED:20220806T161920Z
LAST-MODIFIED:20220806T161920Z
UID:12136-1665532800-1665619199@kansasguardmuseum.com
SUMMARY:Host-Dale Johnston
DESCRIPTION:
URL:https://kansasguardmuseum.com/event/host-dale-johnston-67/
CATEGORIES:Host
END:VEVENT
BEGIN:VEVENT
DTSTART;VALUE=DATE:20221013
DTEND;VALUE=DATE:20221014
DTSTAMP:20260423T094937
CREATED:20220806T162146Z
LAST-MODIFIED:20220806T162146Z
UID:12144-1665619200-1665705599@kansasguardmuseum.com
SUMMARY:Host-Hugh Greenfield
DESCRIPTION:
URL:https://kansasguardmuseum.com/event/host-hugh-greenfield-62/
CATEGORIES:Host
END:VEVENT
BEGIN:VEVENT
DTSTART;VALUE=DATE:20221014
DTEND;VALUE=DATE:20221015
DTSTAMP:20260423T094937
CREATED:20220806T162252Z
LAST-MODIFIED:20220806T162252Z
UID:12148-1665705600-1665791999@kansasguardmuseum.com
SUMMARY:Host-Hector Vasquez
DESCRIPTION:
URL:https://kansasguardmuseum.com/event/host-hector-vasquez-37/
CATEGORIES:Host
END:VEVENT
BEGIN:VEVENT
DTSTART;VALUE=DATE:20221015
DTEND;VALUE=DATE:20221016
DTSTAMP:20260423T094937
CREATED:20221001T172242Z
LAST-MODIFIED:20221001T172242Z
UID:13346-1665792000-1665878399@kansasguardmuseum.com
SUMMARY:Host-Mark Sweeney
DESCRIPTION:
URL:https://kansasguardmuseum.com/event/host-mark-sweeney-49/
CATEGORIES:Host
END:VEVENT
BEGIN:VEVENT
DTSTART;VALUE=DATE:20221017
DTEND;VALUE=DATE:20221018
DTSTAMP:20260423T094937
CREATED:20220806T162511Z
LAST-MODIFIED:20220806T162511Z
UID:12157-1665964800-1666051199@kansasguardmuseum.com
SUMMARY:Host-Jim Istas
DESCRIPTION:
URL:https://kansasguardmuseum.com/event/host-jim-istas-79/
CATEGORIES:Host
END:VEVENT
BEGIN:VEVENT
DTSTART;VALUE=DATE:20221018
DTEND;VALUE=DATE:20221019
DTSTAMP:20260423T094937
CREATED:20220905T173903Z
LAST-MODIFIED:20220905T173903Z
UID:12871-1666051200-1666137599@kansasguardmuseum.com
SUMMARY:Host-Geoff Lanning
DESCRIPTION:
URL:https://kansasguardmuseum.com/event/host-geoff-lanning-47/
CATEGORIES:Host
END:VEVENT
BEGIN:VEVENT
DTSTART;VALUE=DATE:20221019
DTEND;VALUE=DATE:20221020
DTSTAMP:20260423T094937
CREATED:20220806T162541Z
LAST-MODIFIED:20220806T162541Z
UID:12159-1666137600-1666223999@kansasguardmuseum.com
SUMMARY:Host-Harry Rupple
DESCRIPTION:
URL:https://kansasguardmuseum.com/event/host-harry-rupple-66/
CATEGORIES:Host
END:VEVENT
BEGIN:VEVENT
DTSTART;VALUE=DATE:20221020
DTEND;VALUE=DATE:20221021
DTSTAMP:20260423T094937
CREATED:20220806T162608Z
LAST-MODIFIED:20220806T162608Z
UID:12161-1666224000-1666310399@kansasguardmuseum.com
SUMMARY:Hosts-Pascuas
DESCRIPTION:
URL:https://kansasguardmuseum.com/event/hosts-pascuas-65/
CATEGORIES:Host
END:VEVENT
END:VCALENDAR