BEGIN:VCALENDAR
VERSION:2.0
PRODID:-//Museum of the Kansas National Guard - ECPv6.15.20//NONSGML v1.0//EN
CALSCALE:GREGORIAN
METHOD:PUBLISH
X-WR-CALNAME:Museum of the Kansas National Guard
X-ORIGINAL-URL:https://kansasguardmuseum.com
X-WR-CALDESC:Events for Museum of the Kansas National Guard
REFRESH-INTERVAL;VALUE=DURATION:PT1H
X-Robots-Tag:noindex
X-PUBLISHED-TTL:PT1H
BEGIN:VTIMEZONE
TZID:America/Chicago
BEGIN:DAYLIGHT
TZOFFSETFROM:-0600
TZOFFSETTO:-0500
TZNAME:CDT
DTSTART:20210314T080000
END:DAYLIGHT
BEGIN:STANDARD
TZOFFSETFROM:-0500
TZOFFSETTO:-0600
TZNAME:CST
DTSTART:20211107T070000
END:STANDARD
BEGIN:DAYLIGHT
TZOFFSETFROM:-0600
TZOFFSETTO:-0500
TZNAME:CDT
DTSTART:20220313T080000
END:DAYLIGHT
BEGIN:STANDARD
TZOFFSETFROM:-0500
TZOFFSETTO:-0600
TZNAME:CST
DTSTART:20221106T070000
END:STANDARD
BEGIN:DAYLIGHT
TZOFFSETFROM:-0600
TZOFFSETTO:-0500
TZNAME:CDT
DTSTART:20230312T080000
END:DAYLIGHT
BEGIN:STANDARD
TZOFFSETFROM:-0500
TZOFFSETTO:-0600
TZNAME:CST
DTSTART:20231105T070000
END:STANDARD
BEGIN:DAYLIGHT
TZOFFSETFROM:-0600
TZOFFSETTO:-0500
TZNAME:CDT
DTSTART:20240310T080000
END:DAYLIGHT
BEGIN:STANDARD
TZOFFSETFROM:-0500
TZOFFSETTO:-0600
TZNAME:CST
DTSTART:20241103T070000
END:STANDARD
END:VTIMEZONE
BEGIN:VEVENT
DTSTART;VALUE=DATE:20221118
DTEND;VALUE=DATE:20221119
DTSTAMP:20260422T004434
CREATED:20220905T173227Z
LAST-MODIFIED:20220905T173251Z
UID:12859-1668729600-1668815999@kansasguardmuseum.com
SUMMARY:Host-Hector Vasquez
DESCRIPTION:
URL:https://kansasguardmuseum.com/event/host-hector-vasquez-38/
CATEGORIES:Host
END:VEVENT
BEGIN:VEVENT
DTSTART;VALUE=DATE:20221119
DTEND;VALUE=DATE:20221120
DTSTAMP:20260422T004434
CREATED:20220905T173326Z
LAST-MODIFIED:20220905T173326Z
UID:12861-1668816000-1668902399@kansasguardmuseum.com
SUMMARY:Host-Jim Spurlock
DESCRIPTION:
URL:https://kansasguardmuseum.com/event/host-jim-spurlock-31/
CATEGORIES:Host
END:VEVENT
BEGIN:VEVENT
DTSTART;VALUE=DATE:20221123
DTEND;VALUE=DATE:20221124
DTSTAMP:20260422T004434
CREATED:20220905T173440Z
LAST-MODIFIED:20220905T173440Z
UID:12865-1669161600-1669247999@kansasguardmuseum.com
SUMMARY:Host-Anne Hunsecker
DESCRIPTION:
URL:https://kansasguardmuseum.com/event/host-anne-hunsecker-71/
CATEGORIES:Host
END:VEVENT
BEGIN:VEVENT
DTSTART;VALUE=DATE:20221125
DTEND;VALUE=DATE:20221126
DTSTAMP:20260422T004434
CREATED:20221025T204228Z
LAST-MODIFIED:20221025T204228Z
UID:13661-1669334400-1669420799@kansasguardmuseum.com
SUMMARY:Host-Dottie Clark
DESCRIPTION:
URL:https://kansasguardmuseum.com/event/host-dottie-clark-58/
CATEGORIES:Host
END:VEVENT
BEGIN:VEVENT
DTSTART;VALUE=DATE:20221126
DTEND;VALUE=DATE:20221127
DTSTAMP:20260422T004434
CREATED:20221025T204311Z
LAST-MODIFIED:20221025T204311Z
UID:13663-1669420800-1669507199@kansasguardmuseum.com
SUMMARY:Host-Mark Sweeney
DESCRIPTION:
URL:https://kansasguardmuseum.com/event/host-mark-sweeney-50/
CATEGORIES:Host
END:VEVENT
BEGIN:VEVENT
DTSTART;VALUE=DATE:20221128
DTEND;VALUE=DATE:20221129
DTSTAMP:20260422T004434
CREATED:20221025T204356Z
LAST-MODIFIED:20221025T204356Z
UID:13665-1669593600-1669679999@kansasguardmuseum.com
SUMMARY:Host-Ray Rhodd
DESCRIPTION:
URL:https://kansasguardmuseum.com/event/host-ray-rhodd-7/
CATEGORIES:Host
END:VEVENT
BEGIN:VEVENT
DTSTART;VALUE=DATE:20221129
DTEND;VALUE=DATE:20221130
DTSTAMP:20260422T004434
CREATED:20220905T173537Z
LAST-MODIFIED:20220905T173537Z
UID:12869-1669680000-1669766399@kansasguardmuseum.com
SUMMARY:Host-Mary Rogers
DESCRIPTION:
URL:https://kansasguardmuseum.com/event/host-mary-rogers-99/
CATEGORIES:Host
END:VEVENT
BEGIN:VEVENT
DTSTART;VALUE=DATE:20221205
DTEND;VALUE=DATE:20221206
DTSTAMP:20260422T004434
CREATED:20221001T174035Z
LAST-MODIFIED:20221001T174035Z
UID:13370-1670198400-1670284799@kansasguardmuseum.com
SUMMARY:Host-Ed Williams
DESCRIPTION:
URL:https://kansasguardmuseum.com/event/host-ed-williams-49/
CATEGORIES:Host
END:VEVENT
BEGIN:VEVENT
DTSTART;VALUE=DATE:20221206
DTEND;VALUE=DATE:20221207
DTSTAMP:20260422T004434
CREATED:20221206T205241Z
LAST-MODIFIED:20221206T205827Z
UID:14159-1670284800-1670371199@kansasguardmuseum.com
SUMMARY:Host - Jeremy Byers
DESCRIPTION:
URL:https://kansasguardmuseum.com/event/host/
CATEGORIES:Host
END:VEVENT
BEGIN:VEVENT
DTSTART;VALUE=DATE:20221207
DTEND;VALUE=DATE:20221208
DTSTAMP:20260422T004434
CREATED:20221001T174108Z
LAST-MODIFIED:20221001T174108Z
UID:13372-1670371200-1670457599@kansasguardmuseum.com
SUMMARY:Host-Lloyd Arnold
DESCRIPTION:
URL:https://kansasguardmuseum.com/event/host-lloyd-arnold-66/
CATEGORIES:Host
END:VEVENT
BEGIN:VEVENT
DTSTART;VALUE=DATE:20221210
DTEND;VALUE=DATE:20221211
DTSTAMP:20260422T004434
CREATED:20221001T174303Z
LAST-MODIFIED:20221001T174303Z
UID:13376-1670630400-1670716799@kansasguardmuseum.com
SUMMARY:Host-Gary Nicholson
DESCRIPTION:
URL:https://kansasguardmuseum.com/event/host-gary-nicholson-63/
CATEGORIES:Host
END:VEVENT
BEGIN:VEVENT
DTSTART;VALUE=DATE:20221212
DTEND;VALUE=DATE:20221213
DTSTAMP:20260422T004434
CREATED:20221001T174411Z
LAST-MODIFIED:20221001T174411Z
UID:13380-1670803200-1670889599@kansasguardmuseum.com
SUMMARY:Host-Rex Allen
DESCRIPTION:
URL:https://kansasguardmuseum.com/event/host-rex-allen-69/
CATEGORIES:Host
END:VEVENT
BEGIN:VEVENT
DTSTART;VALUE=DATE:20221213
DTEND;VALUE=DATE:20221214
DTSTAMP:20260422T004434
CREATED:20221001T174529Z
LAST-MODIFIED:20221001T174529Z
UID:13384-1670889600-1670975999@kansasguardmuseum.com
SUMMARY:Host-Chuck Bredahl
DESCRIPTION:
URL:https://kansasguardmuseum.com/event/host-chuck-bredahl-71/
CATEGORIES:Host
END:VEVENT
BEGIN:VEVENT
DTSTART;VALUE=DATE:20221214
DTEND;VALUE=DATE:20221215
DTSTAMP:20260422T004434
CREATED:20221001T174648Z
LAST-MODIFIED:20221001T174648Z
UID:13388-1670976000-1671062399@kansasguardmuseum.com
SUMMARY:Host-Dale Johnston
DESCRIPTION:
URL:https://kansasguardmuseum.com/event/host-dale-johnston-69/
CATEGORIES:Host
END:VEVENT
BEGIN:VEVENT
DTSTART;VALUE=DATE:20221215
DTEND;VALUE=DATE:20221216
DTSTAMP:20260422T004434
CREATED:20221001T175213Z
LAST-MODIFIED:20221001T175213Z
UID:13396-1671062400-1671148799@kansasguardmuseum.com
SUMMARY:Hosts-Pascuas
DESCRIPTION:
URL:https://kansasguardmuseum.com/event/hosts-pascuas-67/
CATEGORIES:Host
END:VEVENT
BEGIN:VEVENT
DTSTART;VALUE=DATE:20221216
DTEND;VALUE=DATE:20221217
DTSTAMP:20260422T004434
CREATED:20221001T175322Z
LAST-MODIFIED:20221001T175322Z
UID:13400-1671148800-1671235199@kansasguardmuseum.com
SUMMARY:Host-Mary Rogers
DESCRIPTION:
URL:https://kansasguardmuseum.com/event/host-mary-rogers-100/
CATEGORIES:Host
END:VEVENT
BEGIN:VEVENT
DTSTART;VALUE=DATE:20221217
DTEND;VALUE=DATE:20221218
DTSTAMP:20260422T004434
CREATED:20221210T223321Z
LAST-MODIFIED:20221210T223321Z
UID:14208-1671235200-1671321599@kansasguardmuseum.com
SUMMARY:Host-Mark Sweeney
DESCRIPTION:
URL:https://kansasguardmuseum.com/event/host-mark-sweeney/
CATEGORIES:Host
END:VEVENT
BEGIN:VEVENT
DTSTART;VALUE=DATE:20221220
DTEND;VALUE=DATE:20221221
DTSTAMP:20260422T004434
CREATED:20221001T180429Z
LAST-MODIFIED:20221001T180429Z
UID:13408-1671494400-1671580799@kansasguardmuseum.com
SUMMARY:Host-Jim Istas
DESCRIPTION:
URL:https://kansasguardmuseum.com/event/host-jim-istas-80/
CATEGORIES:Host
END:VEVENT
BEGIN:VEVENT
DTSTART;VALUE=DATE:20221221
DTEND;VALUE=DATE:20221222
DTSTAMP:20260422T004434
CREATED:20221001T180510Z
LAST-MODIFIED:20221001T180510Z
UID:13410-1671580800-1671667199@kansasguardmuseum.com
SUMMARY:Host-Harry Rupple
DESCRIPTION:
URL:https://kansasguardmuseum.com/event/host-harry-rupple-68/
CATEGORIES:Host
END:VEVENT
BEGIN:VEVENT
DTSTART;VALUE=DATE:20221222
DTEND;VALUE=DATE:20221223
DTSTAMP:20260422T004434
CREATED:20221210T223454Z
LAST-MODIFIED:20221210T223454Z
UID:14212-1671667200-1671753599@kansasguardmuseum.com
SUMMARY:Host-Ron Gray
DESCRIPTION:
URL:https://kansasguardmuseum.com/event/host-ron-gray/
CATEGORIES:Host
END:VEVENT
BEGIN:VEVENT
DTSTART;VALUE=DATE:20221223
DTEND;VALUE=DATE:20221224
DTSTAMP:20260422T004434
CREATED:20221210T223413Z
LAST-MODIFIED:20221210T223413Z
UID:14210-1671753600-1671839999@kansasguardmuseum.com
SUMMARY:Host-Dottie Clark
DESCRIPTION:
URL:https://kansasguardmuseum.com/event/host-dottie-clark/
CATEGORIES:Host
END:VEVENT
BEGIN:VEVENT
DTSTART;VALUE=DATE:20221228
DTEND;VALUE=DATE:20221229
DTSTAMP:20260422T004434
CREATED:20221001T180645Z
LAST-MODIFIED:20221001T180645Z
UID:13416-1672185600-1672271999@kansasguardmuseum.com
SUMMARY:Host-Anne Hunsecker
DESCRIPTION:
URL:https://kansasguardmuseum.com/event/host-anne-hunsecker-72/
CATEGORIES:Host
END:VEVENT
BEGIN:VEVENT
DTSTART;VALUE=DATE:20230102
DTEND;VALUE=DATE:20230103
DTSTAMP:20260422T004434
CREATED:20230107T160828Z
LAST-MODIFIED:20230107T160828Z
UID:14440-1672617600-1672703999@kansasguardmuseum.com
SUMMARY:Host-Rex Allen
DESCRIPTION:
URL:https://kansasguardmuseum.com/event/host-rex-allen/
CATEGORIES:Host
END:VEVENT
BEGIN:VEVENT
DTSTART;VALUE=DATE:20230103
DTEND;VALUE=DATE:20230104
DTSTAMP:20260422T004434
CREATED:20230107T160858Z
LAST-MODIFIED:20230107T160858Z
UID:14442-1672704000-1672790399@kansasguardmuseum.com
SUMMARY:Host-Chuck Bredahl
DESCRIPTION:
URL:https://kansasguardmuseum.com/event/host-chuck-bredahl/
CATEGORIES:Host
END:VEVENT
BEGIN:VEVENT
DTSTART;VALUE=DATE:20230105
DTEND;VALUE=DATE:20230106
DTSTAMP:20260422T004434
CREATED:20230107T161008Z
LAST-MODIFIED:20230107T161008Z
UID:14446-1672876800-1672963199@kansasguardmuseum.com
SUMMARY:Host-John Cregan
DESCRIPTION:
URL:https://kansasguardmuseum.com/event/host-john-cregan/
CATEGORIES:Host
END:VEVENT
BEGIN:VEVENT
DTSTART;VALUE=DATE:20230106
DTEND;VALUE=DATE:20230107
DTSTAMP:20260422T004434
CREATED:20230107T161038Z
LAST-MODIFIED:20230107T161038Z
UID:14448-1672963200-1673049599@kansasguardmuseum.com
SUMMARY:Host-Lewis Shedd
DESCRIPTION:
URL:https://kansasguardmuseum.com/event/host-lewis-shedd/
CATEGORIES:Host
END:VEVENT
BEGIN:VEVENT
DTSTART;VALUE=DATE:20230107
DTEND;VALUE=DATE:20230108
DTSTAMP:20260422T004434
CREATED:20230107T161108Z
LAST-MODIFIED:20230107T161108Z
UID:14450-1673049600-1673135999@kansasguardmuseum.com
SUMMARY:Hosts-Morrows
DESCRIPTION:
URL:https://kansasguardmuseum.com/event/hosts-morrows/
CATEGORIES:Host
END:VEVENT
BEGIN:VEVENT
DTSTART;VALUE=DATE:20230109
DTEND;VALUE=DATE:20230110
DTSTAMP:20260422T004434
CREATED:20230107T161250Z
LAST-MODIFIED:20230107T161250Z
UID:14454-1673222400-1673308799@kansasguardmuseum.com
SUMMARY:Host-Ed Williams
DESCRIPTION:
URL:https://kansasguardmuseum.com/event/host-ed-williams/
CATEGORIES:Host
END:VEVENT
BEGIN:VEVENT
DTSTART;VALUE=DATE:20230110
DTEND;VALUE=DATE:20230111
DTSTAMP:20260422T004434
CREATED:20230107T161409Z
LAST-MODIFIED:20230107T161409Z
UID:14456-1673308800-1673395199@kansasguardmuseum.com
SUMMARY:Host-Charles Kuhn
DESCRIPTION:
URL:https://kansasguardmuseum.com/event/host-charles-kuhn/
CATEGORIES:Host
END:VEVENT
BEGIN:VEVENT
DTSTART;VALUE=DATE:20230111
DTEND;VALUE=DATE:20230112
DTSTAMP:20260422T004434
CREATED:20230107T161529Z
LAST-MODIFIED:20230107T161529Z
UID:14460-1673395200-1673481599@kansasguardmuseum.com
SUMMARY:Host-Dale Johnston
DESCRIPTION:
URL:https://kansasguardmuseum.com/event/host-dale-johnston/
CATEGORIES:Host
END:VEVENT
END:VCALENDAR