BEGIN:VCALENDAR
VERSION:2.0
PRODID:-//Museum of the Kansas National Guard - ECPv6.15.20//NONSGML v1.0//EN
CALSCALE:GREGORIAN
METHOD:PUBLISH
X-WR-CALNAME:Museum of the Kansas National Guard
X-ORIGINAL-URL:https://kansasguardmuseum.com
X-WR-CALDESC:Events for Museum of the Kansas National Guard
REFRESH-INTERVAL;VALUE=DURATION:PT1H
X-Robots-Tag:noindex
X-PUBLISHED-TTL:PT1H
BEGIN:VTIMEZONE
TZID:America/Chicago
BEGIN:DAYLIGHT
TZOFFSETFROM:-0600
TZOFFSETTO:-0500
TZNAME:CDT
DTSTART:20220313T080000
END:DAYLIGHT
BEGIN:STANDARD
TZOFFSETFROM:-0500
TZOFFSETTO:-0600
TZNAME:CST
DTSTART:20221106T070000
END:STANDARD
BEGIN:DAYLIGHT
TZOFFSETFROM:-0600
TZOFFSETTO:-0500
TZNAME:CDT
DTSTART:20230312T080000
END:DAYLIGHT
BEGIN:STANDARD
TZOFFSETFROM:-0500
TZOFFSETTO:-0600
TZNAME:CST
DTSTART:20231105T070000
END:STANDARD
BEGIN:DAYLIGHT
TZOFFSETFROM:-0600
TZOFFSETTO:-0500
TZNAME:CDT
DTSTART:20240310T080000
END:DAYLIGHT
BEGIN:STANDARD
TZOFFSETFROM:-0500
TZOFFSETTO:-0600
TZNAME:CST
DTSTART:20241103T070000
END:STANDARD
END:VTIMEZONE
BEGIN:VEVENT
DTSTART;VALUE=DATE:20230628
DTEND;VALUE=DATE:20230629
DTSTAMP:20260423T094936
CREATED:20230401T172829Z
LAST-MODIFIED:20230401T172829Z
UID:15517-1687910400-1687996799@kansasguardmuseum.com
SUMMARY:Host-Anne Hunsecker
DESCRIPTION:
URL:https://kansasguardmuseum.com/event/host-anne-hunsecker-6/
CATEGORIES:Host
END:VEVENT
BEGIN:VEVENT
DTSTART;VALUE=DATE:20230629
DTEND;VALUE=DATE:20230630
DTSTAMP:20260423T094936
CREATED:20230529T181202Z
LAST-MODIFIED:20230529T181202Z
UID:15814-1687996800-1688083199@kansasguardmuseum.com
SUMMARY:Host-Debbie Doyle
DESCRIPTION:
URL:https://kansasguardmuseum.com/event/host-debbie-doyle-4/
CATEGORIES:Host
END:VEVENT
BEGIN:VEVENT
DTSTART;VALUE=DATE:20230630
DTEND;VALUE=DATE:20230701
DTSTAMP:20260423T094936
CREATED:20230529T181229Z
LAST-MODIFIED:20230529T181229Z
UID:15816-1688083200-1688169599@kansasguardmuseum.com
SUMMARY:Host-Troy Abel
DESCRIPTION:
URL:https://kansasguardmuseum.com/event/host-troy-abel-4/
CATEGORIES:Host
END:VEVENT
BEGIN:VEVENT
DTSTART;VALUE=DATE:20230701
DTEND;VALUE=DATE:20230702
DTSTAMP:20260423T094936
CREATED:20230529T181420Z
LAST-MODIFIED:20230529T181420Z
UID:15818-1688169600-1688255999@kansasguardmuseum.com
SUMMARY:Hosts-Morrows
DESCRIPTION:
URL:https://kansasguardmuseum.com/event/hosts-morrows-7/
CATEGORIES:Host
END:VEVENT
BEGIN:VEVENT
DTSTART;VALUE=DATE:20230703
DTEND;VALUE=DATE:20230704
DTSTAMP:20260423T094936
CREATED:20230529T181448Z
LAST-MODIFIED:20230529T181448Z
UID:15820-1688342400-1688428799@kansasguardmuseum.com
SUMMARY:Host-Ed Williams
DESCRIPTION:
URL:https://kansasguardmuseum.com/event/host-ed-williams-7/
CATEGORIES:Host
END:VEVENT
BEGIN:VEVENT
DTSTART;VALUE=DATE:20230704
DTEND;VALUE=DATE:20230705
DTSTAMP:20260423T094936
CREATED:20230529T181517Z
LAST-MODIFIED:20230529T181517Z
UID:15822-1688428800-1688515199@kansasguardmuseum.com
SUMMARY:Host-Chuck Bredahl
DESCRIPTION:
URL:https://kansasguardmuseum.com/event/host-chuck-bredahl-7/
CATEGORIES:Host
END:VEVENT
BEGIN:VEVENT
DTSTART;VALUE=DATE:20230705
DTEND;VALUE=DATE:20230706
DTSTAMP:20260423T094936
CREATED:20230529T181547Z
LAST-MODIFIED:20230529T181547Z
UID:15824-1688515200-1688601599@kansasguardmuseum.com
SUMMARY:Host-Lloyd Arnold
DESCRIPTION:
URL:https://kansasguardmuseum.com/event/host-lloyd-arnold-8/
CATEGORIES:Host
END:VEVENT
BEGIN:VEVENT
DTSTART;VALUE=DATE:20230706
DTEND;VALUE=DATE:20230707
DTSTAMP:20260423T094936
CREATED:20230529T181614Z
LAST-MODIFIED:20230529T181614Z
UID:15826-1688601600-1688687999@kansasguardmuseum.com
SUMMARY:Hosts-Pascuas
DESCRIPTION:
URL:https://kansasguardmuseum.com/event/hosts-pascuas-6/
CATEGORIES:Host
END:VEVENT
BEGIN:VEVENT
DTSTART;VALUE=DATE:20230707
DTEND;VALUE=DATE:20230708
DTSTAMP:20260423T094936
CREATED:20230701T163911Z
LAST-MODIFIED:20230701T163911Z
UID:15979-1688688000-1688774399@kansasguardmuseum.com
SUMMARY:Host-Phil Mahan
DESCRIPTION:
URL:https://kansasguardmuseum.com/event/host-phil-mahan-4/
CATEGORIES:Host
END:VEVENT
BEGIN:VEVENT
DTSTART;VALUE=DATE:20230708
DTEND;VALUE=DATE:20230709
DTSTAMP:20260423T094936
CREATED:20230529T181818Z
LAST-MODIFIED:20230529T181818Z
UID:15832-1688774400-1688860799@kansasguardmuseum.com
SUMMARY:Host-Mark Sweeney
DESCRIPTION:
URL:https://kansasguardmuseum.com/event/host-mark-sweeney-4/
CATEGORIES:Host
END:VEVENT
BEGIN:VEVENT
DTSTART;VALUE=DATE:20230710
DTEND;VALUE=DATE:20230711
DTSTAMP:20260423T094936
CREATED:20230529T181919Z
LAST-MODIFIED:20230529T181919Z
UID:15836-1688947200-1689033599@kansasguardmuseum.com
SUMMARY:Host-Rex Allen
DESCRIPTION:
URL:https://kansasguardmuseum.com/event/host-rex-allen-7/
CATEGORIES:Host
END:VEVENT
BEGIN:VEVENT
DTSTART;VALUE=DATE:20230711
DTEND;VALUE=DATE:20230712
DTSTAMP:20260423T094936
CREATED:20230529T181951Z
LAST-MODIFIED:20230701T164055Z
UID:15838-1689033600-1689119999@kansasguardmuseum.com
SUMMARY:Host-Steve Wodtke
DESCRIPTION:
URL:https://kansasguardmuseum.com/event/host-steve-pierce-5/
CATEGORIES:Host
END:VEVENT
BEGIN:VEVENT
DTSTART;VALUE=DATE:20230712
DTEND;VALUE=DATE:20230713
DTSTAMP:20260423T094936
CREATED:20230529T182030Z
LAST-MODIFIED:20230529T182030Z
UID:15840-1689120000-1689206399@kansasguardmuseum.com
SUMMARY:Host-Dale Johnston
DESCRIPTION:
URL:https://kansasguardmuseum.com/event/host-dale-johnston-7/
CATEGORIES:Host
END:VEVENT
BEGIN:VEVENT
DTSTART;VALUE=DATE:20230713
DTEND;VALUE=DATE:20230714
DTSTAMP:20260423T094936
CREATED:20230529T182304Z
LAST-MODIFIED:20230529T182304Z
UID:15848-1689206400-1689292799@kansasguardmuseum.com
SUMMARY:Host-Hugh Greenfield
DESCRIPTION:
URL:https://kansasguardmuseum.com/event/host-hugh-greenfield-7/
CATEGORIES:Host
END:VEVENT
BEGIN:VEVENT
DTSTART;VALUE=DATE:20230714
DTEND;VALUE=DATE:20230715
DTSTAMP:20260423T094936
CREATED:20230529T182414Z
LAST-MODIFIED:20230529T182414Z
UID:15852-1689292800-1689379199@kansasguardmuseum.com
SUMMARY:Host-Jim Istas
DESCRIPTION:
URL:https://kansasguardmuseum.com/event/host-jim-istas-7/
CATEGORIES:Host
END:VEVENT
BEGIN:VEVENT
DTSTART;VALUE=DATE:20230715
DTEND;VALUE=DATE:20230716
DTSTAMP:20260423T094936
CREATED:20230701T164140Z
LAST-MODIFIED:20230701T164140Z
UID:15984-1689379200-1689465599@kansasguardmuseum.com
SUMMARY:Host-Debbie Doyle
DESCRIPTION:
URL:https://kansasguardmuseum.com/event/host-debbie-doyle-5/
CATEGORIES:Host
END:VEVENT
BEGIN:VEVENT
DTSTART;VALUE=DATE:20230717
DTEND;VALUE=DATE:20230718
DTSTAMP:20260423T094936
CREATED:20230529T182738Z
LAST-MODIFIED:20230529T182738Z
UID:15860-1689552000-1689638399@kansasguardmuseum.com
SUMMARY:Host-Charles Kuhn
DESCRIPTION:
URL:https://kansasguardmuseum.com/event/host-charles-kuhn-7/
CATEGORIES:Host
END:VEVENT
BEGIN:VEVENT
DTSTART;VALUE=DATE:20230718
DTEND;VALUE=DATE:20230719
DTSTAMP:20260423T094936
CREATED:20230701T164213Z
LAST-MODIFIED:20230701T164213Z
UID:15986-1689638400-1689724799@kansasguardmuseum.com
SUMMARY:Host-Ron Gray
DESCRIPTION:
URL:https://kansasguardmuseum.com/event/host-ron-gray-6/
CATEGORIES:Host
END:VEVENT
BEGIN:VEVENT
DTSTART;VALUE=DATE:20230719
DTEND;VALUE=DATE:20230720
DTSTAMP:20260423T094936
CREATED:20230701T164248Z
LAST-MODIFIED:20230701T164248Z
UID:15988-1689724800-1689811199@kansasguardmuseum.com
SUMMARY:Host-Ron Tincher
DESCRIPTION:
URL:https://kansasguardmuseum.com/event/host-ron-tincher/
CATEGORIES:Host
END:VEVENT
BEGIN:VEVENT
DTSTART;VALUE=DATE:20230720
DTEND;VALUE=DATE:20230721
DTSTAMP:20260423T094936
CREATED:20230701T164811Z
LAST-MODIFIED:20230701T164811Z
UID:15992-1689811200-1689897599@kansasguardmuseum.com
SUMMARY:Host-Geoff Lanning
DESCRIPTION:
URL:https://kansasguardmuseum.com/event/host-geoff-lanning-4/
CATEGORIES:Host
END:VEVENT
BEGIN:VEVENT
DTSTART;VALUE=DATE:20230721
DTEND;VALUE=DATE:20230722
DTSTAMP:20260423T094936
CREATED:20230529T182851Z
LAST-MODIFIED:20230529T182851Z
UID:15864-1689897600-1689983999@kansasguardmuseum.com
SUMMARY:Host-Hector Vasquez
DESCRIPTION:
URL:https://kansasguardmuseum.com/event/host-hector-vasquez-6/
CATEGORIES:Host
END:VEVENT
BEGIN:VEVENT
DTSTART;VALUE=DATE:20230722
DTEND;VALUE=DATE:20230723
DTSTAMP:20260423T094936
CREATED:20230529T182923Z
LAST-MODIFIED:20230529T182923Z
UID:15866-1689984000-1690070399@kansasguardmuseum.com
SUMMARY:Host-Jim Spurlock
DESCRIPTION:
URL:https://kansasguardmuseum.com/event/host-jim-spurlock-6/
CATEGORIES:Host
END:VEVENT
BEGIN:VEVENT
DTSTART;VALUE=DATE:20230724
DTEND;VALUE=DATE:20230725
DTSTAMP:20260423T094936
CREATED:20230701T164931Z
LAST-MODIFIED:20230701T164931Z
UID:15996-1690156800-1690243199@kansasguardmuseum.com
SUMMARY:Host-Howard Neff
DESCRIPTION:
URL:https://kansasguardmuseum.com/event/host-howard-neff-8/
CATEGORIES:Host
END:VEVENT
BEGIN:VEVENT
DTSTART;VALUE=DATE:20230725
DTEND;VALUE=DATE:20230726
DTSTAMP:20260423T094936
CREATED:20230701T165008Z
LAST-MODIFIED:20230701T165008Z
UID:15998-1690243200-1690329599@kansasguardmuseum.com
SUMMARY:Host-Troy Abel
DESCRIPTION:
URL:https://kansasguardmuseum.com/event/host-troy-abel-5/
CATEGORIES:Host
END:VEVENT
BEGIN:VEVENT
DTSTART;VALUE=DATE:20230726
DTEND;VALUE=DATE:20230727
DTSTAMP:20260423T094936
CREATED:20230529T182955Z
LAST-MODIFIED:20230529T182955Z
UID:15868-1690329600-1690415999@kansasguardmuseum.com
SUMMARY:Host-Anne Hunsecker
DESCRIPTION:
URL:https://kansasguardmuseum.com/event/host-anne-hunsecker-7/
CATEGORIES:Host
END:VEVENT
BEGIN:VEVENT
DTSTART;VALUE=DATE:20230727
DTEND;VALUE=DATE:20230728
DTSTAMP:20260423T094936
CREATED:20230701T165042Z
LAST-MODIFIED:20230701T165042Z
UID:16000-1690416000-1690502399@kansasguardmuseum.com
SUMMARY:Host-Dottie Clark
DESCRIPTION:
URL:https://kansasguardmuseum.com/event/host-dottie-clark-6/
CATEGORIES:Host
END:VEVENT
BEGIN:VEVENT
DTSTART;VALUE=DATE:20230728
DTEND;VALUE=DATE:20230729
DTSTAMP:20260423T094936
CREATED:20230701T165112Z
LAST-MODIFIED:20230701T165112Z
UID:16002-1690502400-1690588799@kansasguardmuseum.com
SUMMARY:Host-Gary Nicholson
DESCRIPTION:
URL:https://kansasguardmuseum.com/event/host-gary-nicholson-7/
CATEGORIES:Host
END:VEVENT
BEGIN:VEVENT
DTSTART;VALUE=DATE:20230801
DTEND;VALUE=DATE:20230802
DTSTAMP:20260423T094936
CREATED:20230701T165205Z
LAST-MODIFIED:20230701T165205Z
UID:16004-1690848000-1690934399@kansasguardmuseum.com
SUMMARY:Host-Chuck Bredahl
DESCRIPTION:
URL:https://kansasguardmuseum.com/event/host-chuck-bredahl-8/
CATEGORIES:Host
END:VEVENT
BEGIN:VEVENT
DTSTART;VALUE=DATE:20230802
DTEND;VALUE=DATE:20230803
DTSTAMP:20260423T094936
CREATED:20230703T132303Z
LAST-MODIFIED:20230703T132303Z
UID:16135-1690934400-1691020799@kansasguardmuseum.com
SUMMARY:Host-Lloyd Arnold
DESCRIPTION:
URL:https://kansasguardmuseum.com/event/host-lloyd-arnold-9/
CATEGORIES:Host
END:VEVENT
BEGIN:VEVENT
DTSTART;VALUE=DATE:20230803
DTEND;VALUE=DATE:20230804
DTSTAMP:20260423T094936
CREATED:20230729T180624Z
LAST-MODIFIED:20230729T180624Z
UID:16216-1691020800-1691107199@kansasguardmuseum.com
SUMMARY:Host-Steve Wodtke
DESCRIPTION:
URL:https://kansasguardmuseum.com/event/host-steve-wodtke-6/
CATEGORIES:Host
END:VEVENT
END:VCALENDAR