BEGIN:VCALENDAR
VERSION:2.0
PRODID:-//Museum of the Kansas National Guard - ECPv6.15.20//NONSGML v1.0//EN
CALSCALE:GREGORIAN
METHOD:PUBLISH
X-WR-CALNAME:Museum of the Kansas National Guard
X-ORIGINAL-URL:https://kansasguardmuseum.com
X-WR-CALDESC:Events for Museum of the Kansas National Guard
REFRESH-INTERVAL;VALUE=DURATION:PT1H
X-Robots-Tag:noindex
X-PUBLISHED-TTL:PT1H
BEGIN:VTIMEZONE
TZID:America/Chicago
BEGIN:DAYLIGHT
TZOFFSETFROM:-0600
TZOFFSETTO:-0500
TZNAME:CDT
DTSTART:20220313T080000
END:DAYLIGHT
BEGIN:STANDARD
TZOFFSETFROM:-0500
TZOFFSETTO:-0600
TZNAME:CST
DTSTART:20221106T070000
END:STANDARD
BEGIN:DAYLIGHT
TZOFFSETFROM:-0600
TZOFFSETTO:-0500
TZNAME:CDT
DTSTART:20230312T080000
END:DAYLIGHT
BEGIN:STANDARD
TZOFFSETFROM:-0500
TZOFFSETTO:-0600
TZNAME:CST
DTSTART:20231105T070000
END:STANDARD
BEGIN:DAYLIGHT
TZOFFSETFROM:-0600
TZOFFSETTO:-0500
TZNAME:CDT
DTSTART:20240310T080000
END:DAYLIGHT
BEGIN:STANDARD
TZOFFSETFROM:-0500
TZOFFSETTO:-0600
TZNAME:CST
DTSTART:20241103T070000
END:STANDARD
END:VTIMEZONE
BEGIN:VEVENT
DTSTART;VALUE=DATE:20230719
DTEND;VALUE=DATE:20230720
DTSTAMP:20260423T094819
CREATED:20230701T164248Z
LAST-MODIFIED:20230701T164248Z
UID:15988-1689724800-1689811199@kansasguardmuseum.com
SUMMARY:Host-Ron Tincher
DESCRIPTION:
URL:https://kansasguardmuseum.com/event/host-ron-tincher/
CATEGORIES:Host
END:VEVENT
BEGIN:VEVENT
DTSTART;VALUE=DATE:20230720
DTEND;VALUE=DATE:20230721
DTSTAMP:20260423T094819
CREATED:20230701T164811Z
LAST-MODIFIED:20230701T164811Z
UID:15992-1689811200-1689897599@kansasguardmuseum.com
SUMMARY:Host-Geoff Lanning
DESCRIPTION:
URL:https://kansasguardmuseum.com/event/host-geoff-lanning-4/
CATEGORIES:Host
END:VEVENT
BEGIN:VEVENT
DTSTART;VALUE=DATE:20230721
DTEND;VALUE=DATE:20230722
DTSTAMP:20260423T094819
CREATED:20230529T182851Z
LAST-MODIFIED:20230529T182851Z
UID:15864-1689897600-1689983999@kansasguardmuseum.com
SUMMARY:Host-Hector Vasquez
DESCRIPTION:
URL:https://kansasguardmuseum.com/event/host-hector-vasquez-6/
CATEGORIES:Host
END:VEVENT
BEGIN:VEVENT
DTSTART;VALUE=DATE:20230722
DTEND;VALUE=DATE:20230723
DTSTAMP:20260423T094819
CREATED:20230529T182923Z
LAST-MODIFIED:20230529T182923Z
UID:15866-1689984000-1690070399@kansasguardmuseum.com
SUMMARY:Host-Jim Spurlock
DESCRIPTION:
URL:https://kansasguardmuseum.com/event/host-jim-spurlock-6/
CATEGORIES:Host
END:VEVENT
BEGIN:VEVENT
DTSTART;VALUE=DATE:20230724
DTEND;VALUE=DATE:20230725
DTSTAMP:20260423T094819
CREATED:20230701T164931Z
LAST-MODIFIED:20230701T164931Z
UID:15996-1690156800-1690243199@kansasguardmuseum.com
SUMMARY:Host-Howard Neff
DESCRIPTION:
URL:https://kansasguardmuseum.com/event/host-howard-neff-8/
CATEGORIES:Host
END:VEVENT
BEGIN:VEVENT
DTSTART;VALUE=DATE:20230725
DTEND;VALUE=DATE:20230726
DTSTAMP:20260423T094819
CREATED:20230701T165008Z
LAST-MODIFIED:20230701T165008Z
UID:15998-1690243200-1690329599@kansasguardmuseum.com
SUMMARY:Host-Troy Abel
DESCRIPTION:
URL:https://kansasguardmuseum.com/event/host-troy-abel-5/
CATEGORIES:Host
END:VEVENT
BEGIN:VEVENT
DTSTART;VALUE=DATE:20230726
DTEND;VALUE=DATE:20230727
DTSTAMP:20260423T094819
CREATED:20230529T182955Z
LAST-MODIFIED:20230529T182955Z
UID:15868-1690329600-1690415999@kansasguardmuseum.com
SUMMARY:Host-Anne Hunsecker
DESCRIPTION:
URL:https://kansasguardmuseum.com/event/host-anne-hunsecker-7/
CATEGORIES:Host
END:VEVENT
BEGIN:VEVENT
DTSTART;VALUE=DATE:20230727
DTEND;VALUE=DATE:20230728
DTSTAMP:20260423T094819
CREATED:20230701T165042Z
LAST-MODIFIED:20230701T165042Z
UID:16000-1690416000-1690502399@kansasguardmuseum.com
SUMMARY:Host-Dottie Clark
DESCRIPTION:
URL:https://kansasguardmuseum.com/event/host-dottie-clark-6/
CATEGORIES:Host
END:VEVENT
BEGIN:VEVENT
DTSTART;VALUE=DATE:20230728
DTEND;VALUE=DATE:20230729
DTSTAMP:20260423T094819
CREATED:20230701T165112Z
LAST-MODIFIED:20230701T165112Z
UID:16002-1690502400-1690588799@kansasguardmuseum.com
SUMMARY:Host-Gary Nicholson
DESCRIPTION:
URL:https://kansasguardmuseum.com/event/host-gary-nicholson-7/
CATEGORIES:Host
END:VEVENT
BEGIN:VEVENT
DTSTART;VALUE=DATE:20230801
DTEND;VALUE=DATE:20230802
DTSTAMP:20260423T094819
CREATED:20230701T165205Z
LAST-MODIFIED:20230701T165205Z
UID:16004-1690848000-1690934399@kansasguardmuseum.com
SUMMARY:Host-Chuck Bredahl
DESCRIPTION:
URL:https://kansasguardmuseum.com/event/host-chuck-bredahl-8/
CATEGORIES:Host
END:VEVENT
BEGIN:VEVENT
DTSTART;VALUE=DATE:20230802
DTEND;VALUE=DATE:20230803
DTSTAMP:20260423T094819
CREATED:20230703T132303Z
LAST-MODIFIED:20230703T132303Z
UID:16135-1690934400-1691020799@kansasguardmuseum.com
SUMMARY:Host-Lloyd Arnold
DESCRIPTION:
URL:https://kansasguardmuseum.com/event/host-lloyd-arnold-9/
CATEGORIES:Host
END:VEVENT
BEGIN:VEVENT
DTSTART;VALUE=DATE:20230803
DTEND;VALUE=DATE:20230804
DTSTAMP:20260423T094819
CREATED:20230729T180624Z
LAST-MODIFIED:20230729T180624Z
UID:16216-1691020800-1691107199@kansasguardmuseum.com
SUMMARY:Host-Steve Wodtke
DESCRIPTION:
URL:https://kansasguardmuseum.com/event/host-steve-wodtke-6/
CATEGORIES:Host
END:VEVENT
BEGIN:VEVENT
DTSTART;VALUE=DATE:20230804
DTEND;VALUE=DATE:20230805
DTSTAMP:20260423T094819
CREATED:20230729T180652Z
LAST-MODIFIED:20230729T180652Z
UID:16218-1691107200-1691193599@kansasguardmuseum.com
SUMMARY:Host-Jim Gerhardt
DESCRIPTION:
URL:https://kansasguardmuseum.com/event/host-jim-gerhardt/
CATEGORIES:Host
END:VEVENT
BEGIN:VEVENT
DTSTART;VALUE=DATE:20230805
DTEND;VALUE=DATE:20230806
DTSTAMP:20260423T094819
CREATED:20230701T165605Z
LAST-MODIFIED:20230701T165605Z
UID:16016-1691193600-1691279999@kansasguardmuseum.com
SUMMARY:Host-Bob Good
DESCRIPTION:
URL:https://kansasguardmuseum.com/event/host-bob-good-4/
CATEGORIES:Host
END:VEVENT
BEGIN:VEVENT
DTSTART;VALUE=DATE:20230807
DTEND;VALUE=DATE:20230808
DTSTAMP:20260423T094819
CREATED:20230701T165635Z
LAST-MODIFIED:20230701T165635Z
UID:16018-1691366400-1691452799@kansasguardmuseum.com
SUMMARY:Host-Ed Williams
DESCRIPTION:
URL:https://kansasguardmuseum.com/event/host-ed-williams-8/
CATEGORIES:Host
END:VEVENT
BEGIN:VEVENT
DTSTART;VALUE=DATE:20230808
DTEND;VALUE=DATE:20230809
DTSTAMP:20260423T094819
CREATED:20230729T180917Z
LAST-MODIFIED:20230729T180917Z
UID:16220-1691452800-1691539199@kansasguardmuseum.com
SUMMARY:Host-Debbie Doyle
DESCRIPTION:
URL:https://kansasguardmuseum.com/event/host-debbie-doyle-6/
CATEGORIES:Host
END:VEVENT
BEGIN:VEVENT
DTSTART;VALUE=DATE:20230809
DTEND;VALUE=DATE:20230810
DTSTAMP:20260423T094819
CREATED:20230701T165821Z
LAST-MODIFIED:20230701T165821Z
UID:16024-1691539200-1691625599@kansasguardmuseum.com
SUMMARY:Host-Dale Johnston
DESCRIPTION:
URL:https://kansasguardmuseum.com/event/host-dale-johnston-8/
CATEGORIES:Host
END:VEVENT
BEGIN:VEVENT
DTSTART;VALUE=DATE:20230811
DTEND;VALUE=DATE:20230812
DTSTAMP:20260423T094819
CREATED:20230701T170104Z
LAST-MODIFIED:20230701T170104Z
UID:16034-1691712000-1691798399@kansasguardmuseum.com
SUMMARY:Host-Gary Nicholson
DESCRIPTION:
URL:https://kansasguardmuseum.com/event/host-gary-nicholson-8/
CATEGORIES:Host
END:VEVENT
BEGIN:VEVENT
DTSTART;VALUE=DATE:20230812
DTEND;VALUE=DATE:20230813
DTSTAMP:20260423T094819
CREATED:20230701T170136Z
LAST-MODIFIED:20230701T170136Z
UID:16036-1691798400-1691884799@kansasguardmuseum.com
SUMMARY:Hosts-Morrows
DESCRIPTION:
URL:https://kansasguardmuseum.com/event/hosts-morrows-8/
CATEGORIES:Host
END:VEVENT
BEGIN:VEVENT
DTSTART;VALUE=DATE:20230812
DTEND;VALUE=DATE:20230813
DTSTAMP:20260423T094819
CREATED:20230812T183727Z
LAST-MODIFIED:20230812T183727Z
UID:16339-1691798400-1691884799@kansasguardmuseum.com
SUMMARY:Host-Troy Abel
DESCRIPTION:
URL:https://kansasguardmuseum.com/event/host-troy-abel-8/
CATEGORIES:Host
END:VEVENT
BEGIN:VEVENT
DTSTART;VALUE=DATE:20230814
DTEND;VALUE=DATE:20230815
DTSTAMP:20260423T094819
CREATED:20230701T170506Z
LAST-MODIFIED:20230701T170506Z
UID:16044-1691971200-1692057599@kansasguardmuseum.com
SUMMARY:Host-Rex Allen
DESCRIPTION:
URL:https://kansasguardmuseum.com/event/host-rex-allen-8/
CATEGORIES:Host
END:VEVENT
BEGIN:VEVENT
DTSTART;VALUE=DATE:20230815
DTEND;VALUE=DATE:20230816
DTSTAMP:20260423T094819
CREATED:20230701T170638Z
LAST-MODIFIED:20230812T181534Z
UID:16048-1692057600-1692143999@kansasguardmuseum.com
SUMMARY:Host-Roger Wilson
DESCRIPTION:
URL:https://kansasguardmuseum.com/event/host-steve-pierce-6/
CATEGORIES:Host
END:VEVENT
BEGIN:VEVENT
DTSTART;VALUE=DATE:20230816
DTEND;VALUE=DATE:20230817
DTSTAMP:20260423T094819
CREATED:20230729T180955Z
LAST-MODIFIED:20230729T180955Z
UID:16222-1692144000-1692230399@kansasguardmuseum.com
SUMMARY:Host-Ron Tincher
DESCRIPTION:
URL:https://kansasguardmuseum.com/event/host-ron-tincher-2/
CATEGORIES:Host
END:VEVENT
BEGIN:VEVENT
DTSTART;VALUE=DATE:20230817
DTEND;VALUE=DATE:20230818
DTSTAMP:20260423T094819
CREATED:20230701T170709Z
LAST-MODIFIED:20230701T170709Z
UID:16050-1692230400-1692316799@kansasguardmuseum.com
SUMMARY:Host-Charles Kuhn
DESCRIPTION:
URL:https://kansasguardmuseum.com/event/host-charles-kuhn-8/
CATEGORIES:Host
END:VEVENT
BEGIN:VEVENT
DTSTART;VALUE=DATE:20230818
DTEND;VALUE=DATE:20230819
DTSTAMP:20260423T094819
CREATED:20230729T181025Z
LAST-MODIFIED:20230729T181025Z
UID:16224-1692316800-1692403199@kansasguardmuseum.com
SUMMARY:Host-Ron Gray
DESCRIPTION:
URL:https://kansasguardmuseum.com/event/host-ron-gray-7/
CATEGORIES:Host
END:VEVENT
BEGIN:VEVENT
DTSTART;VALUE=DATE:20230819
DTEND;VALUE=DATE:20230820
DTSTAMP:20260423T094819
CREATED:20230701T170741Z
LAST-MODIFIED:20230701T170741Z
UID:16052-1692403200-1692489599@kansasguardmuseum.com
SUMMARY:Host-Jim Spurlock
DESCRIPTION:
URL:https://kansasguardmuseum.com/event/host-jim-spurlock-7/
CATEGORIES:Host
END:VEVENT
BEGIN:VEVENT
DTSTART;VALUE=DATE:20230821
DTEND;VALUE=DATE:20230822
DTSTAMP:20260423T094819
CREATED:20230701T170926Z
LAST-MODIFIED:20230701T170926Z
UID:16058-1692576000-1692662399@kansasguardmuseum.com
SUMMARY:Host-Jim Istas
DESCRIPTION:
URL:https://kansasguardmuseum.com/event/host-jim-istas-8/
CATEGORIES:Host
END:VEVENT
BEGIN:VEVENT
DTSTART;VALUE=DATE:20230822
DTEND;VALUE=DATE:20230823
DTSTAMP:20260423T094819
CREATED:20230729T181054Z
LAST-MODIFIED:20230729T181054Z
UID:16226-1692662400-1692748799@kansasguardmuseum.com
SUMMARY:Host-Howard Neff
DESCRIPTION:
URL:https://kansasguardmuseum.com/event/host-howard-neff-9/
CATEGORIES:Host
END:VEVENT
BEGIN:VEVENT
DTSTART;VALUE=DATE:20230823
DTEND;VALUE=DATE:20230824
DTSTAMP:20260423T094819
CREATED:20230701T171015Z
LAST-MODIFIED:20230701T171015Z
UID:16060-1692748800-1692835199@kansasguardmuseum.com
SUMMARY:Host-Anne Hunsecker
DESCRIPTION:
URL:https://kansasguardmuseum.com/event/host-anne-hunsecker-8/
CATEGORIES:Host
END:VEVENT
BEGIN:VEVENT
DTSTART;VALUE=DATE:20230824
DTEND;VALUE=DATE:20230825
DTSTAMP:20260423T094819
CREATED:20230701T171042Z
LAST-MODIFIED:20230701T171042Z
UID:16062-1692835200-1692921599@kansasguardmuseum.com
SUMMARY:Hosts-Pascuas
DESCRIPTION:
URL:https://kansasguardmuseum.com/event/hosts-pascuas-7/
CATEGORIES:Host
END:VEVENT
END:VCALENDAR