BEGIN:VCALENDAR
VERSION:2.0
PRODID:-//Museum of the Kansas National Guard - ECPv6.15.20//NONSGML v1.0//EN
CALSCALE:GREGORIAN
METHOD:PUBLISH
X-WR-CALNAME:Museum of the Kansas National Guard
X-ORIGINAL-URL:https://kansasguardmuseum.com
X-WR-CALDESC:Events for Museum of the Kansas National Guard
REFRESH-INTERVAL;VALUE=DURATION:PT1H
X-Robots-Tag:noindex
X-PUBLISHED-TTL:PT1H
BEGIN:VTIMEZONE
TZID:America/Chicago
BEGIN:DAYLIGHT
TZOFFSETFROM:-0600
TZOFFSETTO:-0500
TZNAME:CDT
DTSTART:20240310T080000
END:DAYLIGHT
BEGIN:STANDARD
TZOFFSETFROM:-0500
TZOFFSETTO:-0600
TZNAME:CST
DTSTART:20241103T070000
END:STANDARD
BEGIN:DAYLIGHT
TZOFFSETFROM:-0600
TZOFFSETTO:-0500
TZNAME:CDT
DTSTART:20250309T080000
END:DAYLIGHT
BEGIN:STANDARD
TZOFFSETFROM:-0500
TZOFFSETTO:-0600
TZNAME:CST
DTSTART:20251102T070000
END:STANDARD
BEGIN:DAYLIGHT
TZOFFSETFROM:-0600
TZOFFSETTO:-0500
TZNAME:CDT
DTSTART:20260308T080000
END:DAYLIGHT
BEGIN:STANDARD
TZOFFSETFROM:-0500
TZOFFSETTO:-0600
TZNAME:CST
DTSTART:20261101T070000
END:STANDARD
END:VTIMEZONE
BEGIN:VEVENT
DTSTART;VALUE=DATE:20250417
DTEND;VALUE=DATE:20250418
DTSTAMP:20260423T094843
CREATED:20250201T184104Z
LAST-MODIFIED:20250201T184104Z
UID:21815-1744848000-1744934399@kansasguardmuseum.com
SUMMARY:Host - Jim Istas
DESCRIPTION:
URL:https://kansasguardmuseum.com/event/host-jim-istas-27/
CATEGORIES:Host
END:VEVENT
BEGIN:VEVENT
DTSTART;VALUE=DATE:20250418
DTEND;VALUE=DATE:20250419
DTSTAMP:20260423T094843
CREATED:20250201T184130Z
LAST-MODIFIED:20250201T184130Z
UID:21817-1744934400-1745020799@kansasguardmuseum.com
SUMMARY:Host - Marvin Terhune
DESCRIPTION:
URL:https://kansasguardmuseum.com/event/host-marvin-terhune-11/
CATEGORIES:Host
END:VEVENT
BEGIN:VEVENT
DTSTART;VALUE=DATE:20250419
DTEND;VALUE=DATE:20250420
DTSTAMP:20260423T094843
CREATED:20250308T184212Z
LAST-MODIFIED:20250308T184212Z
UID:22061-1745020800-1745107199@kansasguardmuseum.com
SUMMARY:Host - Jim Spurlock
DESCRIPTION:
URL:https://kansasguardmuseum.com/event/host-jim-spurlock-23/
CATEGORIES:Host
END:VEVENT
BEGIN:VEVENT
DTSTART;VALUE=DATE:20250421
DTEND;VALUE=DATE:20250422
DTSTAMP:20260423T094843
CREATED:20250201T184259Z
LAST-MODIFIED:20250201T184259Z
UID:21823-1745193600-1745279999@kansasguardmuseum.com
SUMMARY:Host - Howard Neff
DESCRIPTION:
URL:https://kansasguardmuseum.com/event/host-howard-neff-25/
CATEGORIES:Host
END:VEVENT
BEGIN:VEVENT
DTSTART;VALUE=DATE:20250422
DTEND;VALUE=DATE:20250423
DTSTAMP:20260423T094843
CREATED:20250201T184323Z
LAST-MODIFIED:20250201T184323Z
UID:21825-1745280000-1745366399@kansasguardmuseum.com
SUMMARY:Host - Troy Abel
DESCRIPTION:
URL:https://kansasguardmuseum.com/event/host-troy-abel-26/
CATEGORIES:Host
END:VEVENT
BEGIN:VEVENT
DTSTART;VALUE=DATE:20250423
DTEND;VALUE=DATE:20250424
DTSTAMP:20260423T094843
CREATED:20250201T184347Z
LAST-MODIFIED:20250405T173809Z
UID:21827-1745366400-1745452799@kansasguardmuseum.com
SUMMARY:Host - Dottie Clark
DESCRIPTION:
URL:https://kansasguardmuseum.com/event/host-anne-hunsecker-28/
CATEGORIES:Host
END:VEVENT
BEGIN:VEVENT
DTSTART;VALUE=DATE:20250424
DTEND;VALUE=DATE:20250425
DTSTAMP:20260423T094843
CREATED:20250405T173840Z
LAST-MODIFIED:20250405T173840Z
UID:22323-1745452800-1745539199@kansasguardmuseum.com
SUMMARY:Host - Mark Seats
DESCRIPTION:
URL:https://kansasguardmuseum.com/event/host-mark-seats-9/
CATEGORIES:Host
END:VEVENT
BEGIN:VEVENT
DTSTART;VALUE=DATE:20250425
DTEND;VALUE=DATE:20250426
DTSTAMP:20260423T094843
CREATED:20250308T184802Z
LAST-MODIFIED:20250405T172842Z
UID:22065-1745539200-1745625599@kansasguardmuseum.com
SUMMARY:Host - Debbie Doyle
DESCRIPTION:
URL:https://kansasguardmuseum.com/event/host-debbie-doyle-21/
CATEGORIES:Host
END:VEVENT
BEGIN:VEVENT
DTSTART;VALUE=DATE:20250426
DTEND;VALUE=DATE:20250427
DTSTAMP:20260423T094843
CREATED:20250405T173918Z
LAST-MODIFIED:20250405T173918Z
UID:22325-1745625600-1745711999@kansasguardmuseum.com
SUMMARY:Host - Mark Sweeney
DESCRIPTION:
URL:https://kansasguardmuseum.com/event/host-mark-sweeney-21/
CATEGORIES:Host
END:VEVENT
BEGIN:VEVENT
DTSTART;VALUE=DATE:20250428
DTEND;VALUE=DATE:20250429
DTSTAMP:20260423T094843
CREATED:20250201T184701Z
LAST-MODIFIED:20250201T184701Z
UID:21837-1745798400-1745884799@kansasguardmuseum.com
SUMMARY:Host - Mary Rogers
DESCRIPTION:
URL:https://kansasguardmuseum.com/event/host-mary-rogers-28/
CATEGORIES:Host
END:VEVENT
BEGIN:VEVENT
DTSTART;VALUE=DATE:20250429
DTEND;VALUE=DATE:20250430
DTSTAMP:20260423T094843
CREATED:20250405T173944Z
LAST-MODIFIED:20250405T173944Z
UID:22327-1745884800-1745971199@kansasguardmuseum.com
SUMMARY:Host - Dave Lawrence
DESCRIPTION:
URL:https://kansasguardmuseum.com/event/host-dave-lawrence-15/
CATEGORIES:Host
END:VEVENT
BEGIN:VEVENT
DTSTART;VALUE=DATE:20250430
DTEND;VALUE=DATE:20250501
DTSTAMP:20260423T094843
CREATED:20250405T174002Z
LAST-MODIFIED:20250405T174122Z
UID:22329-1745971200-1746057599@kansasguardmuseum.com
SUMMARY:Host - Anne Hunsecker
DESCRIPTION:
URL:https://kansasguardmuseum.com/event/host-anne-hunsecker-30/
CATEGORIES:Host
END:VEVENT
BEGIN:VEVENT
DTSTART;VALUE=DATE:20250501
DTEND;VALUE=DATE:20250502
DTSTAMP:20260423T094843
CREATED:20250405T174729Z
LAST-MODIFIED:20250405T174729Z
UID:22331-1746057600-1746143999@kansasguardmuseum.com
SUMMARY:Host - Judy Gatewood
DESCRIPTION:
URL:https://kansasguardmuseum.com/event/host-judy-gatewood-16/
CATEGORIES:Host
END:VEVENT
BEGIN:VEVENT
DTSTART;VALUE=DATE:20250502
DTEND;VALUE=DATE:20250503
DTSTAMP:20260423T094843
CREATED:20250308T185118Z
LAST-MODIFIED:20250308T185118Z
UID:22071-1746144000-1746230399@kansasguardmuseum.com
SUMMARY:Host - Ron Gray
DESCRIPTION:
URL:https://kansasguardmuseum.com/event/host-ron-gray-19/
CATEGORIES:Host
END:VEVENT
BEGIN:VEVENT
DTSTART;VALUE=DATE:20250503
DTEND;VALUE=DATE:20250504
DTSTAMP:20260423T094843
CREATED:20250502T012743Z
LAST-MODIFIED:20250502T012743Z
UID:22597-1746230400-1746316799@kansasguardmuseum.com
SUMMARY:Host - Mark Sweeney
DESCRIPTION: 
URL:https://kansasguardmuseum.com/event/host-mark-sweeney-22/
CATEGORIES:Host
END:VEVENT
BEGIN:VEVENT
DTSTART;VALUE=DATE:20250505
DTEND;VALUE=DATE:20250506
DTSTAMP:20260423T094843
CREATED:20250308T185314Z
LAST-MODIFIED:20250308T185343Z
UID:22075-1746403200-1746489599@kansasguardmuseum.com
SUMMARY:Host - Steve Pierce
DESCRIPTION:
URL:https://kansasguardmuseum.com/event/host-steve-pierce-14/
CATEGORIES:Host
END:VEVENT
BEGIN:VEVENT
DTSTART;VALUE=DATE:20250506
DTEND;VALUE=DATE:20250507
DTSTAMP:20260423T094843
CREATED:20250308T185427Z
LAST-MODIFIED:20250308T185427Z
UID:22077-1746489600-1746575999@kansasguardmuseum.com
SUMMARY:Host - Chuck Bredahl
DESCRIPTION:
URL:https://kansasguardmuseum.com/event/host-chuck-bredahl-29/
CATEGORIES:Host
END:VEVENT
BEGIN:VEVENT
DTSTART;VALUE=DATE:20250507
DTEND;VALUE=DATE:20250508
DTSTAMP:20260423T094843
CREATED:20250308T185456Z
LAST-MODIFIED:20250308T185456Z
UID:22079-1746576000-1746662399@kansasguardmuseum.com
SUMMARY:Host - Lloyd Arnold
DESCRIPTION:
URL:https://kansasguardmuseum.com/event/host-lloyd-arnold-30/
CATEGORIES:Host
END:VEVENT
BEGIN:VEVENT
DTSTART;VALUE=DATE:20250508
DTEND;VALUE=DATE:20250509
DTSTAMP:20260423T094843
CREATED:20250308T185611Z
LAST-MODIFIED:20250308T185611Z
UID:22083-1746662400-1746748799@kansasguardmuseum.com
SUMMARY:Host - John Cregan
DESCRIPTION:
URL:https://kansasguardmuseum.com/event/host-john-cregan-27/
CATEGORIES:Host
END:VEVENT
BEGIN:VEVENT
DTSTART;VALUE=DATE:20250509
DTEND;VALUE=DATE:20250510
DTSTAMP:20260423T094843
CREATED:20250308T185648Z
LAST-MODIFIED:20250308T185648Z
UID:22085-1746748800-1746835199@kansasguardmuseum.com
SUMMARY:Host - Marvin Terhune
DESCRIPTION:
URL:https://kansasguardmuseum.com/event/host-marvin-terhune-12/
CATEGORIES:Host
END:VEVENT
BEGIN:VEVENT
DTSTART;VALUE=DATE:20250510
DTEND;VALUE=DATE:20250511
DTSTAMP:20260423T094843
CREATED:20250405T175023Z
LAST-MODIFIED:20250405T175023Z
UID:22337-1746835200-1746921599@kansasguardmuseum.com
SUMMARY:Host - Phil Mahan
DESCRIPTION:
URL:https://kansasguardmuseum.com/event/host-phil-mahan-16/
CATEGORIES:Host
END:VEVENT
BEGIN:VEVENT
DTSTART;VALUE=DATE:20250512
DTEND;VALUE=DATE:20250513
DTSTAMP:20260423T094843
CREATED:20250308T185759Z
LAST-MODIFIED:20250308T185820Z
UID:22089-1747008000-1747094399@kansasguardmuseum.com
SUMMARY:Host - Rex Allen
DESCRIPTION:
URL:https://kansasguardmuseum.com/event/host-rex-allen-30/
CATEGORIES:Host
END:VEVENT
BEGIN:VEVENT
DTSTART;VALUE=DATE:20250513
DTEND;VALUE=DATE:20250514
DTSTAMP:20260423T094843
CREATED:20250405T175046Z
LAST-MODIFIED:20250405T175046Z
UID:22339-1747094400-1747180799@kansasguardmuseum.com
SUMMARY:Host - Charles Henry
DESCRIPTION:
URL:https://kansasguardmuseum.com/event/host-charles-henry-6/
CATEGORIES:Host
END:VEVENT
BEGIN:VEVENT
DTSTART;VALUE=DATE:20250514
DTEND;VALUE=DATE:20250515
DTSTAMP:20260423T094843
CREATED:20250308T190001Z
LAST-MODIFIED:20250526T175425Z
UID:22093-1747180800-1747267199@kansasguardmuseum.com
SUMMARY:Host - Barrie Gnagy
DESCRIPTION:
URL:https://kansasguardmuseum.com/event/host-dale-johnston-30/
CATEGORIES:Host
END:VEVENT
BEGIN:VEVENT
DTSTART;VALUE=DATE:20250515
DTEND;VALUE=DATE:20250516
DTSTAMP:20260423T094843
CREATED:20250308T190214Z
LAST-MODIFIED:20250308T190214Z
UID:22101-1747267200-1747353599@kansasguardmuseum.com
SUMMARY:Host - Hugh Greenfield
DESCRIPTION:
URL:https://kansasguardmuseum.com/event/host-hugh-greenfield-24/
CATEGORIES:Host
END:VEVENT
BEGIN:VEVENT
DTSTART;VALUE=DATE:20250516
DTEND;VALUE=DATE:20250517
DTSTAMP:20260423T094843
CREATED:20250308T190244Z
LAST-MODIFIED:20250308T190244Z
UID:22103-1747353600-1747439999@kansasguardmuseum.com
SUMMARY:Host - Hector Vasquez
DESCRIPTION:
URL:https://kansasguardmuseum.com/event/host-hector-vasquez-30/
CATEGORIES:Host
END:VEVENT
BEGIN:VEVENT
DTSTART;VALUE=DATE:20250519
DTEND;VALUE=DATE:20250520
DTSTAMP:20260423T094843
CREATED:20250308T190634Z
LAST-MODIFIED:20250308T190634Z
UID:22113-1747612800-1747699199@kansasguardmuseum.com
SUMMARY:Host - Howard Neff
DESCRIPTION:
URL:https://kansasguardmuseum.com/event/host-howard-neff-26/
CATEGORIES:Host
END:VEVENT
BEGIN:VEVENT
DTSTART;VALUE=DATE:20250520
DTEND;VALUE=DATE:20250521
DTSTAMP:20260423T094843
CREATED:20250308T190659Z
LAST-MODIFIED:20250308T190659Z
UID:22115-1747699200-1747785599@kansasguardmuseum.com
SUMMARY:Host - Troy Abel
DESCRIPTION:
URL:https://kansasguardmuseum.com/event/host-troy-abel-27/
CATEGORIES:Host
END:VEVENT
BEGIN:VEVENT
DTSTART;VALUE=DATE:20250521
DTEND;VALUE=DATE:20250522
DTSTAMP:20260423T094843
CREATED:20250308T190726Z
LAST-MODIFIED:20250308T190726Z
UID:22117-1747785600-1747871999@kansasguardmuseum.com
SUMMARY:Host - Ron Tincher
DESCRIPTION:
URL:https://kansasguardmuseum.com/event/host-ron-tincher-18/
CATEGORIES:Host
END:VEVENT
BEGIN:VEVENT
DTSTART;VALUE=DATE:20250522
DTEND;VALUE=DATE:20250523
DTSTAMP:20260423T094843
CREATED:20250405T175408Z
LAST-MODIFIED:20250405T175408Z
UID:22349-1747872000-1747958399@kansasguardmuseum.com
SUMMARY:Host - Bob Good
DESCRIPTION:
URL:https://kansasguardmuseum.com/event/host-bob-good-17/
CATEGORIES:Host
END:VEVENT
END:VCALENDAR