BEGIN:VCALENDAR
VERSION:2.0
PRODID:-//Museum of the Kansas National Guard - ECPv6.15.20//NONSGML v1.0//EN
CALSCALE:GREGORIAN
METHOD:PUBLISH
X-ORIGINAL-URL:https://kansasguardmuseum.com
X-WR-CALDESC:Events for Museum of the Kansas National Guard
REFRESH-INTERVAL;VALUE=DURATION:PT1H
X-Robots-Tag:noindex
X-PUBLISHED-TTL:PT1H
BEGIN:VTIMEZONE
TZID:America/Chicago
BEGIN:DAYLIGHT
TZOFFSETFROM:-0600
TZOFFSETTO:-0500
TZNAME:CDT
DTSTART:20230312T080000
END:DAYLIGHT
BEGIN:STANDARD
TZOFFSETFROM:-0500
TZOFFSETTO:-0600
TZNAME:CST
DTSTART:20231105T070000
END:STANDARD
BEGIN:DAYLIGHT
TZOFFSETFROM:-0600
TZOFFSETTO:-0500
TZNAME:CDT
DTSTART:20240310T080000
END:DAYLIGHT
BEGIN:STANDARD
TZOFFSETFROM:-0500
TZOFFSETTO:-0600
TZNAME:CST
DTSTART:20241103T070000
END:STANDARD
BEGIN:DAYLIGHT
TZOFFSETFROM:-0600
TZOFFSETTO:-0500
TZNAME:CDT
DTSTART:20250309T080000
END:DAYLIGHT
BEGIN:STANDARD
TZOFFSETFROM:-0500
TZOFFSETTO:-0600
TZNAME:CST
DTSTART:20251102T070000
END:STANDARD
END:VTIMEZONE
BEGIN:VEVENT
DTSTART;VALUE=DATE:20240504
DTEND;VALUE=DATE:20240505
DTSTAMP:20260425T111553
CREATED:20240502T224501Z
LAST-MODIFIED:20240502T224501Z
UID:19212-1714780800-1714867199@kansasguardmuseum.com
SUMMARY:Host - Debbie Doyle
DESCRIPTION:
URL:https://kansasguardmuseum.com/event/host-debbie-doyle-14/
CATEGORIES:Host
END:VEVENT
BEGIN:VEVENT
DTSTART;VALUE=DATE:20240506
DTEND;VALUE=DATE:20240507
DTSTAMP:20260425T111553
CREATED:20240502T224555Z
LAST-MODIFIED:20240502T224555Z
UID:19214-1714953600-1715039999@kansasguardmuseum.com
SUMMARY:Host - Ed Williams
DESCRIPTION:
URL:https://kansasguardmuseum.com/event/host-ed-williams-14/
CATEGORIES:Host
END:VEVENT
BEGIN:VEVENT
DTSTART;VALUE=DATE:20240507
DTEND;VALUE=DATE:20240508
DTSTAMP:20260425T111553
CREATED:20240406T164350Z
LAST-MODIFIED:20240406T164350Z
UID:18887-1715040000-1715126399@kansasguardmuseum.com
SUMMARY:Host - Chuck Bredahl
DESCRIPTION:
URL:https://kansasguardmuseum.com/event/host-chuck-bredahl-17/
CATEGORIES:Host
END:VEVENT
BEGIN:VEVENT
DTSTART;VALUE=DATE:20240508
DTEND;VALUE=DATE:20240509
DTSTAMP:20260425T111553
CREATED:20240406T164428Z
LAST-MODIFIED:20240406T164428Z
UID:18889-1715126400-1715212799@kansasguardmuseum.com
SUMMARY:Host - Dale Johnston
DESCRIPTION:
URL:https://kansasguardmuseum.com/event/host-dale-johnston-18/
CATEGORIES:Host
END:VEVENT
BEGIN:VEVENT
DTSTART;VALUE=DATE:20240509
DTEND;VALUE=DATE:20240510
DTSTAMP:20260425T111553
CREATED:20240406T164722Z
LAST-MODIFIED:20240406T164722Z
UID:18897-1715212800-1715299199@kansasguardmuseum.com
SUMMARY:Host - Hugh Greenfield
DESCRIPTION:
URL:https://kansasguardmuseum.com/event/host-hugh-greenfield-16/
CATEGORIES:Host
END:VEVENT
BEGIN:VEVENT
DTSTART;VALUE=DATE:20240510
DTEND;VALUE=DATE:20240511
DTSTAMP:20260425T111553
CREATED:20240502T224647Z
LAST-MODIFIED:20240502T224647Z
UID:19216-1715299200-1715385599@kansasguardmuseum.com
SUMMARY:Host - Dottie Clark
DESCRIPTION:
URL:https://kansasguardmuseum.com/event/host-dottie-clark-12/
CATEGORIES:Host
END:VEVENT
BEGIN:VEVENT
DTSTART;VALUE=DATE:20240511
DTEND;VALUE=DATE:20240512
DTSTAMP:20260425T111553
CREATED:20240502T224737Z
LAST-MODIFIED:20240502T224737Z
UID:19218-1715385600-1715471999@kansasguardmuseum.com
SUMMARY:Host - Jim Spurlock
DESCRIPTION:
URL:https://kansasguardmuseum.com/event/host-jim-spurlock-15/
CATEGORIES:Host
END:VEVENT
BEGIN:VEVENT
DTSTART;VALUE=DATE:20240513
DTEND;VALUE=DATE:20240514
DTSTAMP:20260425T111553
CREATED:20240406T164843Z
LAST-MODIFIED:20240406T164843Z
UID:18901-1715558400-1715644799@kansasguardmuseum.com
SUMMARY:Host - Rex Allen
DESCRIPTION:
URL:https://kansasguardmuseum.com/event/host-rex-allen-18/
CATEGORIES:Host
END:VEVENT
BEGIN:VEVENT
DTSTART;VALUE=DATE:20240514
DTEND;VALUE=DATE:20240515
DTSTAMP:20260425T111553
CREATED:20240406T164916Z
LAST-MODIFIED:20240406T164916Z
UID:18903-1715644800-1715731199@kansasguardmuseum.com
SUMMARY:Host - Troy Abel
DESCRIPTION:
URL:https://kansasguardmuseum.com/event/host-troy-abel-16/
CATEGORIES:Host
END:VEVENT
BEGIN:VEVENT
DTSTART;VALUE=DATE:20240515
DTEND;VALUE=DATE:20240516
DTSTAMP:20260425T111553
CREATED:20240406T165024Z
LAST-MODIFIED:20240406T165024Z
UID:18907-1715731200-1715817599@kansasguardmuseum.com
SUMMARY:Host - Ron Tincher
DESCRIPTION:
URL:https://kansasguardmuseum.com/event/host-ron-tincher-9/
CATEGORIES:Host
END:VEVENT
BEGIN:VEVENT
DTSTART;VALUE=DATE:20240516
DTEND;VALUE=DATE:20240517
DTSTAMP:20260425T111553
CREATED:20240406T165049Z
LAST-MODIFIED:20240406T165049Z
UID:18909-1715817600-1715903999@kansasguardmuseum.com
SUMMARY:Host - John Cregan
DESCRIPTION:
URL:https://kansasguardmuseum.com/event/host-john-cregan-15/
CATEGORIES:Host
END:VEVENT
BEGIN:VEVENT
DTSTART;VALUE=DATE:20240517
DTEND;VALUE=DATE:20240518
DTSTAMP:20260425T111553
CREATED:20240502T224832Z
LAST-MODIFIED:20240502T224832Z
UID:19220-1715904000-1715990399@kansasguardmuseum.com
SUMMARY:Host - Phil Mahan
DESCRIPTION:
URL:https://kansasguardmuseum.com/event/host-phil-mahan-8/
CATEGORIES:Host
END:VEVENT
BEGIN:VEVENT
DTSTART;VALUE=DATE:20240518
DTEND;VALUE=DATE:20240519
DTSTAMP:20260425T111553
CREATED:20240502T224926Z
LAST-MODIFIED:20240502T224926Z
UID:19222-1715990400-1716076799@kansasguardmuseum.com
SUMMARY:Host - Bob Good
DESCRIPTION:
URL:https://kansasguardmuseum.com/event/host-bob-good-11/
CATEGORIES:Host
END:VEVENT
BEGIN:VEVENT
DTSTART;VALUE=DATE:20240520
DTEND;VALUE=DATE:20240521
DTSTAMP:20260425T111553
CREATED:20240406T165501Z
LAST-MODIFIED:20240406T165501Z
UID:18921-1716163200-1716249599@kansasguardmuseum.com
SUMMARY:Host - Howard Neff
DESCRIPTION:
URL:https://kansasguardmuseum.com/event/host-howard-neff-14/
CATEGORIES:Host
END:VEVENT
BEGIN:VEVENT
DTSTART;VALUE=DATE:20240521
DTEND;VALUE=DATE:20240522
DTSTAMP:20260425T111553
CREATED:20240502T225016Z
LAST-MODIFIED:20240502T225016Z
UID:19224-1716249600-1716335999@kansasguardmuseum.com
SUMMARY:Host - Steve Wodtke
DESCRIPTION:
URL:https://kansasguardmuseum.com/event/host-steve-wodtke-12/
CATEGORIES:Host
END:VEVENT
BEGIN:VEVENT
DTSTART;VALUE=DATE:20240522
DTEND;VALUE=DATE:20240523
DTSTAMP:20260425T111553
CREATED:20240406T165926Z
LAST-MODIFIED:20240406T165926Z
UID:18927-1716336000-1716422399@kansasguardmuseum.com
SUMMARY:Host - Anne Hunsecker
DESCRIPTION:
URL:https://kansasguardmuseum.com/event/host-anne-hunsecker-18/
CATEGORIES:Host
END:VEVENT
BEGIN:VEVENT
DTSTART;VALUE=DATE:20240523
DTEND;VALUE=DATE:20240524
DTSTAMP:20260425T111553
CREATED:20240406T165955Z
LAST-MODIFIED:20240406T165955Z
UID:18929-1716422400-1716508799@kansasguardmuseum.com
SUMMARY:Host - Dave Lawrence
DESCRIPTION:
URL:https://kansasguardmuseum.com/event/host-dave-lawrence-8/
CATEGORIES:Host
END:VEVENT
BEGIN:VEVENT
DTSTART;VALUE=DATE:20240524
DTEND;VALUE=DATE:20240525
DTSTAMP:20260425T111553
CREATED:20240406T170023Z
LAST-MODIFIED:20240406T170023Z
UID:18931-1716508800-1716595199@kansasguardmuseum.com
SUMMARY:Host - Hector Vasquez
DESCRIPTION:
URL:https://kansasguardmuseum.com/event/host-hector-vasquez-17/
CATEGORIES:Host
END:VEVENT
BEGIN:VEVENT
DTSTART;VALUE=DATE:20240525
DTEND;VALUE=DATE:20240526
DTSTAMP:20260425T111553
CREATED:20240406T170051Z
LAST-MODIFIED:20240406T170051Z
UID:18933-1716595200-1716681599@kansasguardmuseum.com
SUMMARY:Host - Mary Rogers
DESCRIPTION:
URL:https://kansasguardmuseum.com/event/host-mary-rogers-17/
CATEGORIES:Host
END:VEVENT
BEGIN:VEVENT
DTSTART;VALUE=DATE:20240527
DTEND;VALUE=DATE:20240528
DTSTAMP:20260425T111553
CREATED:20240406T170201Z
LAST-MODIFIED:20240406T170201Z
UID:18937-1716768000-1716854399@kansasguardmuseum.com
SUMMARY:Hosts - Morrows
DESCRIPTION:
URL:https://kansasguardmuseum.com/event/hosts-morrows-17/
CATEGORIES:Host
END:VEVENT
BEGIN:VEVENT
DTSTART;VALUE=DATE:20240527
DTEND;VALUE=DATE:20240528
DTSTAMP:20260425T111553
CREATED:20240527T184616Z
LAST-MODIFIED:20240527T184616Z
UID:19410-1716768000-1716854399@kansasguardmuseum.com
SUMMARY:Host - Ron Gray
DESCRIPTION:
URL:https://kansasguardmuseum.com/event/host-ron-gray-15/
CATEGORIES:Host
END:VEVENT
BEGIN:VEVENT
DTSTART;VALUE=DATE:20240528
DTEND;VALUE=DATE:20240529
DTSTAMP:20260425T111553
CREATED:20240502T225112Z
LAST-MODIFIED:20240502T225112Z
UID:19226-1716854400-1716940799@kansasguardmuseum.com
SUMMARY:Host - Jim Istas
DESCRIPTION:
URL:https://kansasguardmuseum.com/event/host-jim-istas-16/
CATEGORIES:Host
END:VEVENT
BEGIN:VEVENT
DTSTART;VALUE=DATE:20240529
DTEND;VALUE=DATE:20240530
DTSTAMP:20260425T111553
CREATED:20240406T170254Z
LAST-MODIFIED:20240527T182336Z
UID:18939-1716940800-1717027199@kansasguardmuseum.com
SUMMARY:Host - Barrie Gnagy
DESCRIPTION:
URL:https://kansasguardmuseum.com/event/host-judy-gatewood-7/
CATEGORIES:Host
END:VEVENT
BEGIN:VEVENT
DTSTART;VALUE=DATE:20240530
DTEND;VALUE=DATE:20240531
DTSTAMP:20260425T111553
CREATED:20240406T170327Z
LAST-MODIFIED:20240406T170327Z
UID:18941-1717027200-1717113599@kansasguardmuseum.com
SUMMARY:Host - Marvin Terhune
DESCRIPTION:
URL:https://kansasguardmuseum.com/event/host-marvin-terhune/
CATEGORIES:Host
END:VEVENT
BEGIN:VEVENT
DTSTART;VALUE=DATE:20240531
DTEND;VALUE=DATE:20240601
DTSTAMP:20260425T111553
CREATED:20240502T225213Z
LAST-MODIFIED:20240502T225213Z
UID:19228-1717113600-1717199999@kansasguardmuseum.com
SUMMARY:Host - Charlie Henry
DESCRIPTION:
URL:https://kansasguardmuseum.com/event/host-charlie-henry-2/
CATEGORIES:Host
END:VEVENT
BEGIN:VEVENT
DTSTART;VALUE=DATE:20240601
DTEND;VALUE=DATE:20240602
DTSTAMP:20260425T111553
CREATED:20240527T182449Z
LAST-MODIFIED:20240527T182449Z
UID:19344-1717200000-1717286399@kansasguardmuseum.com
SUMMARY:Hosts - Morrows
DESCRIPTION:
URL:https://kansasguardmuseum.com/event/hosts-morrows-18/
CATEGORIES:Host
END:VEVENT
BEGIN:VEVENT
DTSTART;VALUE=DATE:20240603
DTEND;VALUE=DATE:20240604
DTSTAMP:20260425T111553
CREATED:20240527T182811Z
LAST-MODIFIED:20240527T182811Z
UID:19352-1717372800-1717459199@kansasguardmuseum.com
SUMMARY:Host - Ed Williams
DESCRIPTION:
URL:https://kansasguardmuseum.com/event/host-ed-williams-15/
CATEGORIES:Host
END:VEVENT
BEGIN:VEVENT
DTSTART;VALUE=DATE:20240604
DTEND;VALUE=DATE:20240605
DTSTAMP:20260425T111553
CREATED:20240527T182934Z
LAST-MODIFIED:20240527T182934Z
UID:19356-1717459200-1717545599@kansasguardmuseum.com
SUMMARY:Host - Chuck Bredahl
DESCRIPTION:
URL:https://kansasguardmuseum.com/event/host-chuck-bredahl-18/
CATEGORIES:Host
END:VEVENT
BEGIN:VEVENT
DTSTART;VALUE=DATE:20240605
DTEND;VALUE=DATE:20240606
DTSTAMP:20260425T111553
CREATED:20240527T183000Z
LAST-MODIFIED:20240601T164540Z
UID:19358-1717545600-1717631999@kansasguardmuseum.com
SUMMARY:Host - Steve Wodtke
DESCRIPTION:
URL:https://kansasguardmuseum.com/event/host-lloyd-arnold-20/
CATEGORIES:Host
END:VEVENT
BEGIN:VEVENT
DTSTART;VALUE=DATE:20240606
DTEND;VALUE=DATE:20240607
DTSTAMP:20260425T111553
CREATED:20240527T183030Z
LAST-MODIFIED:20240527T183030Z
UID:19360-1717632000-1717718399@kansasguardmuseum.com
SUMMARY:Host - Debbie Doyle
DESCRIPTION:
URL:https://kansasguardmuseum.com/event/host-debbie-doyle-15/
CATEGORIES:Host
END:VEVENT
END:VCALENDAR