BEGIN:VCALENDAR
VERSION:2.0
PRODID:-//Museum of the Kansas National Guard - ECPv6.15.20//NONSGML v1.0//EN
CALSCALE:GREGORIAN
METHOD:PUBLISH
X-ORIGINAL-URL:https://kansasguardmuseum.com
X-WR-CALDESC:Events for Museum of the Kansas National Guard
REFRESH-INTERVAL;VALUE=DURATION:PT1H
X-Robots-Tag:noindex
X-PUBLISHED-TTL:PT1H
BEGIN:VTIMEZONE
TZID:America/Chicago
BEGIN:DAYLIGHT
TZOFFSETFROM:-0600
TZOFFSETTO:-0500
TZNAME:CDT
DTSTART:20230312T080000
END:DAYLIGHT
BEGIN:STANDARD
TZOFFSETFROM:-0500
TZOFFSETTO:-0600
TZNAME:CST
DTSTART:20231105T070000
END:STANDARD
BEGIN:DAYLIGHT
TZOFFSETFROM:-0600
TZOFFSETTO:-0500
TZNAME:CDT
DTSTART:20240310T080000
END:DAYLIGHT
BEGIN:STANDARD
TZOFFSETFROM:-0500
TZOFFSETTO:-0600
TZNAME:CST
DTSTART:20241103T070000
END:STANDARD
BEGIN:DAYLIGHT
TZOFFSETFROM:-0600
TZOFFSETTO:-0500
TZNAME:CDT
DTSTART:20250309T080000
END:DAYLIGHT
BEGIN:STANDARD
TZOFFSETFROM:-0500
TZOFFSETTO:-0600
TZNAME:CST
DTSTART:20251102T070000
END:STANDARD
END:VTIMEZONE
BEGIN:VEVENT
DTSTART;VALUE=DATE:20240604
DTEND;VALUE=DATE:20240605
DTSTAMP:20260425T112511
CREATED:20240527T182934Z
LAST-MODIFIED:20240527T182934Z
UID:19356-1717459200-1717545599@kansasguardmuseum.com
SUMMARY:Host - Chuck Bredahl
DESCRIPTION:
URL:https://kansasguardmuseum.com/event/host-chuck-bredahl-18/
CATEGORIES:Host
END:VEVENT
BEGIN:VEVENT
DTSTART;VALUE=DATE:20240605
DTEND;VALUE=DATE:20240606
DTSTAMP:20260425T112511
CREATED:20240527T183000Z
LAST-MODIFIED:20240601T164540Z
UID:19358-1717545600-1717631999@kansasguardmuseum.com
SUMMARY:Host - Steve Wodtke
DESCRIPTION:
URL:https://kansasguardmuseum.com/event/host-lloyd-arnold-20/
CATEGORIES:Host
END:VEVENT
BEGIN:VEVENT
DTSTART;VALUE=DATE:20240606
DTEND;VALUE=DATE:20240607
DTSTAMP:20260425T112511
CREATED:20240527T183030Z
LAST-MODIFIED:20240527T183030Z
UID:19360-1717632000-1717718399@kansasguardmuseum.com
SUMMARY:Host - Debbie Doyle
DESCRIPTION:
URL:https://kansasguardmuseum.com/event/host-debbie-doyle-15/
CATEGORIES:Host
END:VEVENT
BEGIN:VEVENT
DTSTART;VALUE=DATE:20240607
DTEND;VALUE=DATE:20240608
DTSTAMP:20260425T112511
CREATED:20240527T183133Z
LAST-MODIFIED:20240527T183133Z
UID:19364-1717718400-1717804799@kansasguardmuseum.com
SUMMARY:Host - Butch Dowse
DESCRIPTION:
URL:https://kansasguardmuseum.com/event/host-butch-dowse-8/
CATEGORIES:Host
END:VEVENT
BEGIN:VEVENT
DTSTART;VALUE=DATE:20240608
DTEND;VALUE=DATE:20240609
DTSTAMP:20260425T112511
CREATED:20240527T183244Z
LAST-MODIFIED:20240527T183244Z
UID:19368-1717804800-1717891199@kansasguardmuseum.com
SUMMARY:Host - Mary Rogers
DESCRIPTION:
URL:https://kansasguardmuseum.com/event/host-mary-rogers-18/
CATEGORIES:Host
END:VEVENT
BEGIN:VEVENT
DTSTART;VALUE=DATE:20240610
DTEND;VALUE=DATE:20240611
DTSTAMP:20260425T112511
CREATED:20240527T183338Z
LAST-MODIFIED:20240527T183338Z
UID:19372-1717977600-1718063999@kansasguardmuseum.com
SUMMARY:Host - Rex Allen
DESCRIPTION:
URL:https://kansasguardmuseum.com/event/host-rex-allen-19/
CATEGORIES:Host
END:VEVENT
BEGIN:VEVENT
DTSTART;VALUE=DATE:20240611
DTEND;VALUE=DATE:20240612
DTSTAMP:20260425T112511
CREATED:20240527T183407Z
LAST-MODIFIED:20240527T183407Z
UID:19374-1718064000-1718150399@kansasguardmuseum.com
SUMMARY:Host - Jim Istas
DESCRIPTION:
URL:https://kansasguardmuseum.com/event/host-jim-istas-17/
CATEGORIES:Host
END:VEVENT
BEGIN:VEVENT
DTSTART;VALUE=DATE:20240612
DTEND;VALUE=DATE:20240613
DTSTAMP:20260425T112511
CREATED:20240527T183439Z
LAST-MODIFIED:20240527T183439Z
UID:19376-1718150400-1718236799@kansasguardmuseum.com
SUMMARY:Host - Dale Johnston
DESCRIPTION:
URL:https://kansasguardmuseum.com/event/host-dale-johnston-19/
CATEGORIES:Host
END:VEVENT
BEGIN:VEVENT
DTSTART;VALUE=DATE:20240613
DTEND;VALUE=DATE:20240614
DTSTAMP:20260425T112511
CREATED:20240527T184018Z
LAST-MODIFIED:20240527T184018Z
UID:19386-1718236800-1718323199@kansasguardmuseum.com
SUMMARY:Host - Hugh Greenfield
DESCRIPTION:
URL:https://kansasguardmuseum.com/event/host-hugh-greenfield-17/
CATEGORIES:Host
END:VEVENT
BEGIN:VEVENT
DTSTART;VALUE=DATE:20240614
DTEND;VALUE=DATE:20240615
DTSTAMP:20260425T112511
CREATED:20240527T184047Z
LAST-MODIFIED:20240527T184047Z
UID:19388-1718323200-1718409599@kansasguardmuseum.com
SUMMARY:Host - Dottie Clark
DESCRIPTION:
URL:https://kansasguardmuseum.com/event/host-dottie-clark-13/
CATEGORIES:Host
END:VEVENT
BEGIN:VEVENT
DTSTART;VALUE=DATE:20240615
DTEND;VALUE=DATE:20240616
DTSTAMP:20260425T112511
CREATED:20240527T184120Z
LAST-MODIFIED:20240527T184120Z
UID:19390-1718409600-1718495999@kansasguardmuseum.com
SUMMARY:Host - Mark Sweeney
DESCRIPTION:
URL:https://kansasguardmuseum.com/event/host-mark-sweeney-12/
CATEGORIES:Host
END:VEVENT
BEGIN:VEVENT
DTSTART;VALUE=DATE:20240617
DTEND;VALUE=DATE:20240618
DTSTAMP:20260425T112511
CREATED:20240527T184235Z
LAST-MODIFIED:20240527T184235Z
UID:19394-1718582400-1718668799@kansasguardmuseum.com
SUMMARY:Host - Howard Neff
DESCRIPTION:
URL:https://kansasguardmuseum.com/event/host-howard-neff-15/
CATEGORIES:Host
END:VEVENT
BEGIN:VEVENT
DTSTART;VALUE=DATE:20240618
DTEND;VALUE=DATE:20240619
DTSTAMP:20260425T112511
CREATED:20240527T184303Z
LAST-MODIFIED:20240527T184303Z
UID:19396-1718668800-1718755199@kansasguardmuseum.com
SUMMARY:Host - Troy Abel
DESCRIPTION:
URL:https://kansasguardmuseum.com/event/host-troy-abel-19/
CATEGORIES:Host
END:VEVENT
BEGIN:VEVENT
DTSTART;VALUE=DATE:20240619
DTEND;VALUE=DATE:20240620
DTSTAMP:20260425T112511
CREATED:20240527T184330Z
LAST-MODIFIED:20240527T184330Z
UID:19398-1718755200-1718841599@kansasguardmuseum.com
SUMMARY:Host - Ron Tincher
DESCRIPTION:
URL:https://kansasguardmuseum.com/event/host-ron-tincher-10/
CATEGORIES:Host
END:VEVENT
BEGIN:VEVENT
DTSTART;VALUE=DATE:20240620
DTEND;VALUE=DATE:20240621
DTSTAMP:20260425T112511
CREATED:20240527T184352Z
LAST-MODIFIED:20240527T184352Z
UID:19400-1718841600-1718927999@kansasguardmuseum.com
SUMMARY:Host - John Cregan
DESCRIPTION:
URL:https://kansasguardmuseum.com/event/host-john-cregan-16/
CATEGORIES:Host
END:VEVENT
BEGIN:VEVENT
DTSTART;VALUE=DATE:20240621
DTEND;VALUE=DATE:20240622
DTSTAMP:20260425T112511
CREATED:20240527T184421Z
LAST-MODIFIED:20240527T184421Z
UID:19402-1718928000-1719014399@kansasguardmuseum.com
SUMMARY:Host - Hector Vasquez
DESCRIPTION:
URL:https://kansasguardmuseum.com/event/host-hector-vasquez-18/
CATEGORIES:Host
END:VEVENT
BEGIN:VEVENT
DTSTART;VALUE=DATE:20240622
DTEND;VALUE=DATE:20240623
DTSTAMP:20260425T112511
CREATED:20240527T184453Z
LAST-MODIFIED:20240527T184453Z
UID:19404-1719014400-1719100799@kansasguardmuseum.com
SUMMARY:Host - Jim Spurlock
DESCRIPTION:
URL:https://kansasguardmuseum.com/event/host-jim-spurlock-16/
CATEGORIES:Host
END:VEVENT
BEGIN:VEVENT
DTSTART;VALUE=DATE:20240625
DTEND;VALUE=DATE:20240626
DTSTAMP:20260425T112511
CREATED:20240527T184641Z
LAST-MODIFIED:20240527T184641Z
UID:19412-1719273600-1719359999@kansasguardmuseum.com
SUMMARY:Host - Judy Gatewood
DESCRIPTION:
URL:https://kansasguardmuseum.com/event/host-judy-gatewood-8/
CATEGORIES:Host
END:VEVENT
BEGIN:VEVENT
DTSTART;VALUE=DATE:20240626
DTEND;VALUE=DATE:20240627
DTSTAMP:20260425T112511
CREATED:20240527T184709Z
LAST-MODIFIED:20240527T184709Z
UID:19414-1719360000-1719446399@kansasguardmuseum.com
SUMMARY:Host - Anne Hunsecker
DESCRIPTION:
URL:https://kansasguardmuseum.com/event/host-anne-hunsecker-19/
CATEGORIES:Host
END:VEVENT
BEGIN:VEVENT
DTSTART;VALUE=DATE:20240627
DTEND;VALUE=DATE:20240628
DTSTAMP:20260425T112511
CREATED:20240527T184741Z
LAST-MODIFIED:20240527T184741Z
UID:19416-1719446400-1719532799@kansasguardmuseum.com
SUMMARY:Host - Marvin Terhune
DESCRIPTION:
URL:https://kansasguardmuseum.com/event/host-marvin-terhune-2/
CATEGORIES:Host
END:VEVENT
BEGIN:VEVENT
DTSTART;VALUE=DATE:20240628
DTEND;VALUE=DATE:20240629
DTSTAMP:20260425T112511
CREATED:20240601T164624Z
LAST-MODIFIED:20240601T164624Z
UID:19522-1719532800-1719619199@kansasguardmuseum.com
SUMMARY:Host - Mark Seats
DESCRIPTION:
URL:https://kansasguardmuseum.com/event/host-mark-seats/
CATEGORIES:Host
END:VEVENT
BEGIN:VEVENT
DTSTART;VALUE=DATE:20240701
DTEND;VALUE=DATE:20240702
DTSTAMP:20260425T112511
CREATED:20240702T212423Z
LAST-MODIFIED:20240702T212423Z
UID:19679-1719792000-1719878399@kansasguardmuseum.com
SUMMARY:Host - Geoff Lanning
DESCRIPTION:
URL:https://kansasguardmuseum.com/event/host-geoff-lanning-10/
CATEGORIES:Host
END:VEVENT
BEGIN:VEVENT
DTSTART;VALUE=DATE:20240702
DTEND;VALUE=DATE:20240703
DTSTAMP:20260425T112511
CREATED:20240527T185306Z
LAST-MODIFIED:20240527T185306Z
UID:19422-1719878400-1719964799@kansasguardmuseum.com
SUMMARY:Host - Chuck Bredahl
DESCRIPTION:
URL:https://kansasguardmuseum.com/event/host-chuck-bredahl-19/
CATEGORIES:Host
END:VEVENT
BEGIN:VEVENT
DTSTART;VALUE=DATE:20240703
DTEND;VALUE=DATE:20240704
DTSTAMP:20260425T112511
CREATED:20240527T185341Z
LAST-MODIFIED:20240527T185341Z
UID:19424-1719964800-1720051199@kansasguardmuseum.com
SUMMARY:Host - Lloyd Arnold
DESCRIPTION:
URL:https://kansasguardmuseum.com/event/host-lloyd-arnold-21/
CATEGORIES:Host
END:VEVENT
BEGIN:VEVENT
DTSTART;VALUE=DATE:20240704
DTEND;VALUE=DATE:20240705
DTSTAMP:20260425T112511
CREATED:20240527T185409Z
LAST-MODIFIED:20240527T185409Z
UID:19426-1720051200-1720137599@kansasguardmuseum.com
SUMMARY:Hosts - Morrows
DESCRIPTION:
URL:https://kansasguardmuseum.com/event/hosts-morrows-19/
CATEGORIES:Host
END:VEVENT
BEGIN:VEVENT
DTSTART;VALUE=DATE:20240705
DTEND;VALUE=DATE:20240706
DTSTAMP:20260425T112511
CREATED:20240702T212545Z
LAST-MODIFIED:20240704T165950Z
UID:19681-1720137600-1720223999@kansasguardmuseum.com
SUMMARY:Host - Barrie Gnagy
DESCRIPTION:
URL:https://kansasguardmuseum.com/event/host-butch-dowse-9/
CATEGORIES:Host
END:VEVENT
BEGIN:VEVENT
DTSTART;VALUE=DATE:20240706
DTEND;VALUE=DATE:20240707
DTSTAMP:20260425T112511
CREATED:20240702T212710Z
LAST-MODIFIED:20240702T212710Z
UID:19683-1720224000-1720310399@kansasguardmuseum.com
SUMMARY:Host - Mark Sweeney
DESCRIPTION:
URL:https://kansasguardmuseum.com/event/host-mark-sweeney-13/
CATEGORIES:Host
END:VEVENT
BEGIN:VEVENT
DTSTART;VALUE=DATE:20240708
DTEND;VALUE=DATE:20240709
DTSTAMP:20260425T112511
CREATED:20240527T185522Z
LAST-MODIFIED:20240527T185522Z
UID:19430-1720396800-1720483199@kansasguardmuseum.com
SUMMARY:Host - Rex Allen
DESCRIPTION:
URL:https://kansasguardmuseum.com/event/host-rex-allen-20/
CATEGORIES:Host
END:VEVENT
BEGIN:VEVENT
DTSTART;VALUE=DATE:20240709
DTEND;VALUE=DATE:20240710
DTSTAMP:20260425T112511
CREATED:20240702T212812Z
LAST-MODIFIED:20240702T212812Z
UID:19690-1720483200-1720569599@kansasguardmuseum.com
SUMMARY:Host - Charles Henry
DESCRIPTION:
URL:https://kansasguardmuseum.com/event/host-charles-henry-2/
CATEGORIES:Host
END:VEVENT
BEGIN:VEVENT
DTSTART;VALUE=DATE:20240710
DTEND;VALUE=DATE:20240711
DTSTAMP:20260425T112511
CREATED:20240527T185629Z
LAST-MODIFIED:20240527T185629Z
UID:19434-1720569600-1720655999@kansasguardmuseum.com
SUMMARY:Host - Dale Johnston
DESCRIPTION:
URL:https://kansasguardmuseum.com/event/host-dale-johnston-20/
CATEGORIES:Host
END:VEVENT
END:VCALENDAR