BEGIN:VCALENDAR
VERSION:2.0
PRODID:-//Museum of the Kansas National Guard - ECPv6.15.20//NONSGML v1.0//EN
CALSCALE:GREGORIAN
METHOD:PUBLISH
X-WR-CALNAME:Museum of the Kansas National Guard
X-ORIGINAL-URL:https://kansasguardmuseum.com
X-WR-CALDESC:Events for Museum of the Kansas National Guard
REFRESH-INTERVAL;VALUE=DURATION:PT1H
X-Robots-Tag:noindex
X-PUBLISHED-TTL:PT1H
BEGIN:VTIMEZONE
TZID:America/Chicago
BEGIN:DAYLIGHT
TZOFFSETFROM:-0600
TZOFFSETTO:-0500
TZNAME:CDT
DTSTART:20230312T080000
END:DAYLIGHT
BEGIN:STANDARD
TZOFFSETFROM:-0500
TZOFFSETTO:-0600
TZNAME:CST
DTSTART:20231105T070000
END:STANDARD
BEGIN:DAYLIGHT
TZOFFSETFROM:-0600
TZOFFSETTO:-0500
TZNAME:CDT
DTSTART:20240310T080000
END:DAYLIGHT
BEGIN:STANDARD
TZOFFSETFROM:-0500
TZOFFSETTO:-0600
TZNAME:CST
DTSTART:20241103T070000
END:STANDARD
BEGIN:DAYLIGHT
TZOFFSETFROM:-0600
TZOFFSETTO:-0500
TZNAME:CDT
DTSTART:20250309T080000
END:DAYLIGHT
BEGIN:STANDARD
TZOFFSETFROM:-0500
TZOFFSETTO:-0600
TZNAME:CST
DTSTART:20251102T070000
END:STANDARD
END:VTIMEZONE
BEGIN:VEVENT
DTSTART;VALUE=DATE:20241017
DTEND;VALUE=DATE:20241018
DTSTAMP:20260425T101334
CREATED:20240903T214142Z
LAST-MODIFIED:20240903T214142Z
UID:20305-1729123200-1729209599@kansasguardmuseum.com
SUMMARY:Host - Marvin Terhune
DESCRIPTION:
URL:https://kansasguardmuseum.com/event/host-marvin-terhune-5/
CATEGORIES:Host
END:VEVENT
BEGIN:VEVENT
DTSTART;VALUE=DATE:20241018
DTEND;VALUE=DATE:20241019
DTSTAMP:20260425T101334
CREATED:20241005T171844Z
LAST-MODIFIED:20241005T171844Z
UID:20524-1729209600-1729295999@kansasguardmuseum.com
SUMMARY:Host - Debbie Doyle
DESCRIPTION:
URL:https://kansasguardmuseum.com/event/host-debbie-doyle-18/
CATEGORIES:Host
END:VEVENT
BEGIN:VEVENT
DTSTART;TZID=America/Chicago:20241021T080000
DTEND;TZID=America/Chicago:20241021T170000
DTSTAMP:20260425T101334
CREATED:20240903T214718Z
LAST-MODIFIED:20240903T214718Z
UID:20315-1729497600-1729530000@kansasguardmuseum.com
SUMMARY:Host - Howard Neff
DESCRIPTION:
URL:https://kansasguardmuseum.com/event/host-howard-neff-19/
CATEGORIES:Host
END:VEVENT
BEGIN:VEVENT
DTSTART;VALUE=DATE:20241022
DTEND;VALUE=DATE:20241023
DTSTAMP:20260425T101334
CREATED:20240903T214901Z
LAST-MODIFIED:20240903T214901Z
UID:20317-1729555200-1729641599@kansasguardmuseum.com
SUMMARY:Host - Dave Lawrence
DESCRIPTION:
URL:https://kansasguardmuseum.com/event/host-dave-lawrence-10/
CATEGORIES:Host
END:VEVENT
BEGIN:VEVENT
DTSTART;VALUE=DATE:20241023
DTEND;VALUE=DATE:20241024
DTSTAMP:20260425T101334
CREATED:20240903T214958Z
LAST-MODIFIED:20240903T214958Z
UID:20319-1729641600-1729727999@kansasguardmuseum.com
SUMMARY:Host - Anne Hunsecker
DESCRIPTION:
URL:https://kansasguardmuseum.com/event/host-anne-hunsecker-23/
CATEGORIES:Host
END:VEVENT
BEGIN:VEVENT
DTSTART;VALUE=DATE:20241024
DTEND;VALUE=DATE:20241025
DTSTAMP:20260425T101334
CREATED:20241005T172250Z
LAST-MODIFIED:20241005T172250Z
UID:20532-1729728000-1729814399@kansasguardmuseum.com
SUMMARY:Host - Charles Henry
DESCRIPTION:
URL:https://kansasguardmuseum.com/event/host-charles-henry-3/
CATEGORIES:Host
END:VEVENT
BEGIN:VEVENT
DTSTART;VALUE=DATE:20241025
DTEND;VALUE=DATE:20241026
DTSTAMP:20260425T101334
CREATED:20240903T215344Z
LAST-MODIFIED:20240903T215344Z
UID:20325-1729814400-1729900799@kansasguardmuseum.com
SUMMARY:Host - Hector Vasquez
DESCRIPTION:
URL:https://kansasguardmuseum.com/event/host-hector-vasquez-23/
CATEGORIES:Host
END:VEVENT
BEGIN:VEVENT
DTSTART;VALUE=DATE:20241026
DTEND;VALUE=DATE:20241027
DTSTAMP:20260425T101334
CREATED:20241005T203526Z
LAST-MODIFIED:20241005T203526Z
UID:20610-1729900800-1729987199@kansasguardmuseum.com
SUMMARY:Host - Paul Owens
DESCRIPTION:
URL:https://kansasguardmuseum.com/event/host-paul-owens-3/
CATEGORIES:Host
END:VEVENT
BEGIN:VEVENT
DTSTART;VALUE=DATE:20241028
DTEND;VALUE=DATE:20241029
DTSTAMP:20260425T101334
CREATED:20240903T215718Z
LAST-MODIFIED:20240903T215718Z
UID:20331-1730073600-1730159999@kansasguardmuseum.com
SUMMARY:Host - Mary Rogers
DESCRIPTION:
URL:https://kansasguardmuseum.com/event/host-mary-rogers-22/
CATEGORIES:Host
END:VEVENT
BEGIN:VEVENT
DTSTART;VALUE=DATE:20241029
DTEND;VALUE=DATE:20241030
DTSTAMP:20260425T101334
CREATED:20241005T172416Z
LAST-MODIFIED:20241005T172416Z
UID:20536-1730160000-1730246399@kansasguardmuseum.com
SUMMARY:Host - Mark Seats
DESCRIPTION:
URL:https://kansasguardmuseum.com/event/host-mark-seats-5/
CATEGORIES:Host
END:VEVENT
BEGIN:VEVENT
DTSTART;VALUE=DATE:20241030
DTEND;VALUE=DATE:20241031
DTSTAMP:20260425T101334
CREATED:20241005T172446Z
LAST-MODIFIED:20241005T172446Z
UID:20538-1730246400-1730332799@kansasguardmuseum.com
SUMMARY:Host - Phil Mahan
DESCRIPTION:
URL:https://kansasguardmuseum.com/event/host-phil-mahan-10/
CATEGORIES:Host
END:VEVENT
BEGIN:VEVENT
DTSTART;VALUE=DATE:20241101
DTEND;VALUE=DATE:20241102
DTSTAMP:20260425T101334
CREATED:20241102T163823Z
LAST-MODIFIED:20241102T163823Z
UID:20742-1730419200-1730505599@kansasguardmuseum.com
SUMMARY:Host - Butch Dowse
DESCRIPTION:
URL:https://kansasguardmuseum.com/event/host-butch-dowse-12/
CATEGORIES:Host
END:VEVENT
BEGIN:VEVENT
DTSTART;VALUE=DATE:20241102
DTEND;VALUE=DATE:20241103
DTSTAMP:20260425T101334
CREATED:20241005T172708Z
LAST-MODIFIED:20241005T172708Z
UID:20542-1730505600-1730591999@kansasguardmuseum.com
SUMMARY:Hosts - Morrows
DESCRIPTION:
URL:https://kansasguardmuseum.com/event/hosts-morrows-23/
CATEGORIES:Host
END:VEVENT
BEGIN:VEVENT
DTSTART;VALUE=DATE:20241104
DTEND;VALUE=DATE:20241105
DTSTAMP:20260425T101334
CREATED:20241102T163906Z
LAST-MODIFIED:20241102T163906Z
UID:20744-1730678400-1730764799@kansasguardmuseum.com
SUMMARY:Host - Dottie Clark
DESCRIPTION:
URL:https://kansasguardmuseum.com/event/host-dottie-clark-17/
CATEGORIES:Host
END:VEVENT
BEGIN:VEVENT
DTSTART;VALUE=DATE:20241105
DTEND;VALUE=DATE:20241106
DTSTAMP:20260425T101334
CREATED:20241005T172851Z
LAST-MODIFIED:20241005T172851Z
UID:20548-1730764800-1730851199@kansasguardmuseum.com
SUMMARY:Host - Chuck Bredahl
DESCRIPTION:
URL:https://kansasguardmuseum.com/event/host-chuck-bredahl-23/
CATEGORIES:Host
END:VEVENT
BEGIN:VEVENT
DTSTART;VALUE=DATE:20241106
DTEND;VALUE=DATE:20241107
DTSTAMP:20260425T101334
CREATED:20241005T173004Z
LAST-MODIFIED:20241005T173004Z
UID:20552-1730851200-1730937599@kansasguardmuseum.com
SUMMARY:Host - Lloyd Arnold
DESCRIPTION:
URL:https://kansasguardmuseum.com/event/host-lloyd-arnold-25/
CATEGORIES:Host
END:VEVENT
BEGIN:VEVENT
DTSTART;VALUE=DATE:20241107
DTEND;VALUE=DATE:20241108
DTSTAMP:20260425T101334
CREATED:20241005T173106Z
LAST-MODIFIED:20241005T173106Z
UID:20556-1730937600-1731023999@kansasguardmuseum.com
SUMMARY:Host - Jim Istas
DESCRIPTION:
URL:https://kansasguardmuseum.com/event/host-jim-istas-22/
CATEGORIES:Host
END:VEVENT
BEGIN:VEVENT
DTSTART;VALUE=DATE:20241108
DTEND;VALUE=DATE:20241109
DTSTAMP:20260425T101334
CREATED:20241005T173135Z
LAST-MODIFIED:20241005T173135Z
UID:20558-1731024000-1731110399@kansasguardmuseum.com
SUMMARY:Host - Geoff Lanning
DESCRIPTION:
URL:https://kansasguardmuseum.com/event/host-geoff-lanning-11/
CATEGORIES:Host
END:VEVENT
BEGIN:VEVENT
DTSTART;VALUE=DATE:20241109
DTEND;VALUE=DATE:20241110
DTSTAMP:20260425T101334
CREATED:20241005T173202Z
LAST-MODIFIED:20241005T173202Z
UID:20560-1731110400-1731196799@kansasguardmuseum.com
SUMMARY:Host - Bob Good
DESCRIPTION:
URL:https://kansasguardmuseum.com/event/host-bob-good-14/
CATEGORIES:Host
END:VEVENT
BEGIN:VEVENT
DTSTART;VALUE=DATE:20241111
DTEND;VALUE=DATE:20241112
DTSTAMP:20260425T101334
CREATED:20241005T173304Z
LAST-MODIFIED:20241005T173304Z
UID:20564-1731283200-1731369599@kansasguardmuseum.com
SUMMARY:Host - Rex Allen
DESCRIPTION:
URL:https://kansasguardmuseum.com/event/host-rex-allen-24/
CATEGORIES:Host
END:VEVENT
BEGIN:VEVENT
DTSTART;VALUE=DATE:20241112
DTEND;VALUE=DATE:20241113
DTSTAMP:20260425T101334
CREATED:20241005T173337Z
LAST-MODIFIED:20241005T173337Z
UID:20566-1731369600-1731455999@kansasguardmuseum.com
SUMMARY:Host - Judy Gatewood
DESCRIPTION:
URL:https://kansasguardmuseum.com/event/host-judy-gatewood-12/
CATEGORIES:Host
END:VEVENT
BEGIN:VEVENT
DTSTART;VALUE=DATE:20241113
DTEND;VALUE=DATE:20241114
DTSTAMP:20260425T101334
CREATED:20241005T173434Z
LAST-MODIFIED:20241005T173434Z
UID:20570-1731456000-1731542399@kansasguardmuseum.com
SUMMARY:Host - Dale Johnston
DESCRIPTION:
URL:https://kansasguardmuseum.com/event/host-dale-johnston-24/
CATEGORIES:Host
END:VEVENT
BEGIN:VEVENT
DTSTART;VALUE=DATE:20241114
DTEND;VALUE=DATE:20241115
DTSTAMP:20260425T101334
CREATED:20241102T164112Z
LAST-MODIFIED:20241102T164112Z
UID:20748-1731542400-1731628799@kansasguardmuseum.com
SUMMARY:Host - Dave Lawrence
DESCRIPTION:
URL:https://kansasguardmuseum.com/event/host-dave-lawrence-11/
CATEGORIES:Host
END:VEVENT
BEGIN:VEVENT
DTSTART;VALUE=DATE:20241115
DTEND;VALUE=DATE:20241116
DTSTAMP:20260425T101334
CREATED:20241102T164138Z
LAST-MODIFIED:20241102T164138Z
UID:20750-1731628800-1731715199@kansasguardmuseum.com
SUMMARY:Host - Phil Mahan
DESCRIPTION:
URL:https://kansasguardmuseum.com/event/host-phil-mahan-11/
CATEGORIES:Host
END:VEVENT
BEGIN:VEVENT
DTSTART;VALUE=DATE:20241116
DTEND;VALUE=DATE:20241117
DTSTAMP:20260425T101334
CREATED:20241005T173922Z
LAST-MODIFIED:20241005T173922Z
UID:20584-1731715200-1731801599@kansasguardmuseum.com
SUMMARY:Host - Jim Spurlock
DESCRIPTION:
URL:https://kansasguardmuseum.com/event/host-jim-spurlock-19/
CATEGORIES:Host
END:VEVENT
BEGIN:VEVENT
DTSTART;VALUE=DATE:20241118
DTEND;VALUE=DATE:20241119
DTSTAMP:20260425T101334
CREATED:20241005T174117Z
LAST-MODIFIED:20241005T174117Z
UID:20590-1731888000-1731974399@kansasguardmuseum.com
SUMMARY:Host - Howard Neff
DESCRIPTION:
URL:https://kansasguardmuseum.com/event/host-howard-neff-20/
CATEGORIES:Host
END:VEVENT
BEGIN:VEVENT
DTSTART;VALUE=DATE:20241119
DTEND;VALUE=DATE:20241120
DTSTAMP:20260425T101334
CREATED:20241005T174149Z
LAST-MODIFIED:20241005T174149Z
UID:20592-1731974400-1732060799@kansasguardmuseum.com
SUMMARY:Host - John Cregan
DESCRIPTION:
URL:https://kansasguardmuseum.com/event/host-john-cregan-21/
CATEGORIES:Host
END:VEVENT
BEGIN:VEVENT
DTSTART;VALUE=DATE:20241120
DTEND;VALUE=DATE:20241121
DTSTAMP:20260425T101334
CREATED:20241005T174220Z
LAST-MODIFIED:20241005T174220Z
UID:20594-1732060800-1732147199@kansasguardmuseum.com
SUMMARY:Host - Ron Tincher
DESCRIPTION:
URL:https://kansasguardmuseum.com/event/host-ron-tincher-15/
CATEGORIES:Host
END:VEVENT
BEGIN:VEVENT
DTSTART;VALUE=DATE:20241121
DTEND;VALUE=DATE:20241122
DTSTAMP:20260425T101334
CREATED:20241005T174502Z
LAST-MODIFIED:20241005T174502Z
UID:20598-1732147200-1732233599@kansasguardmuseum.com
SUMMARY:Host - Marvin Terhune
DESCRIPTION:
URL:https://kansasguardmuseum.com/event/host-marvin-terhune-6/
CATEGORIES:Host
END:VEVENT
BEGIN:VEVENT
DTSTART;VALUE=DATE:20241122
DTEND;VALUE=DATE:20241123
DTSTAMP:20260425T101334
CREATED:20241005T174610Z
LAST-MODIFIED:20241005T174610Z
UID:20602-1732233600-1732319999@kansasguardmuseum.com
SUMMARY:Host - Hector Vasquez
DESCRIPTION:
URL:https://kansasguardmuseum.com/event/host-hector-vasquez-24/
CATEGORIES:Host
END:VEVENT
END:VCALENDAR