BEGIN:VCALENDAR
VERSION:2.0
PRODID:-//Museum of the Kansas National Guard - ECPv6.15.20//NONSGML v1.0//EN
CALSCALE:GREGORIAN
METHOD:PUBLISH
X-ORIGINAL-URL:https://kansasguardmuseum.com
X-WR-CALDESC:Events for Museum of the Kansas National Guard
REFRESH-INTERVAL;VALUE=DURATION:PT1H
X-Robots-Tag:noindex
X-PUBLISHED-TTL:PT1H
BEGIN:VTIMEZONE
TZID:America/Chicago
BEGIN:DAYLIGHT
TZOFFSETFROM:-0600
TZOFFSETTO:-0500
TZNAME:CDT
DTSTART:20220313T080000
END:DAYLIGHT
BEGIN:STANDARD
TZOFFSETFROM:-0500
TZOFFSETTO:-0600
TZNAME:CST
DTSTART:20221106T070000
END:STANDARD
BEGIN:DAYLIGHT
TZOFFSETFROM:-0600
TZOFFSETTO:-0500
TZNAME:CDT
DTSTART:20230312T080000
END:DAYLIGHT
BEGIN:STANDARD
TZOFFSETFROM:-0500
TZOFFSETTO:-0600
TZNAME:CST
DTSTART:20231105T070000
END:STANDARD
BEGIN:DAYLIGHT
TZOFFSETFROM:-0600
TZOFFSETTO:-0500
TZNAME:CDT
DTSTART:20240310T080000
END:DAYLIGHT
BEGIN:STANDARD
TZOFFSETFROM:-0500
TZOFFSETTO:-0600
TZNAME:CST
DTSTART:20241103T070000
END:STANDARD
END:VTIMEZONE
BEGIN:VEVENT
DTSTART;VALUE=DATE:20230329
DTEND;VALUE=DATE:20230330
DTSTAMP:20260421T234649
CREATED:20230204T180640Z
LAST-MODIFIED:20230204T180640Z
UID:14987-1680048000-1680134399@kansasguardmuseum.com
SUMMARY:Hosts-Pascuas
DESCRIPTION:
URL:https://kansasguardmuseum.com/event/hosts-pascuas-2/
CATEGORIES:Host
END:VEVENT
BEGIN:VEVENT
DTSTART;VALUE=DATE:20230330
DTEND;VALUE=DATE:20230331
DTSTAMP:20260421T234649
CREATED:20230304T164211Z
LAST-MODIFIED:20230304T164211Z
UID:15270-1680134400-1680220799@kansasguardmuseum.com
SUMMARY:Host-Lewis Shedd
DESCRIPTION:
URL:https://kansasguardmuseum.com/event/host-lewis-shedd-3/
CATEGORIES:Host
END:VEVENT
BEGIN:VEVENT
DTSTART;VALUE=DATE:20230401
DTEND;VALUE=DATE:20230402
DTSTAMP:20260421T234649
CREATED:20230304T164334Z
LAST-MODIFIED:20230304T164334Z
UID:15274-1680307200-1680393599@kansasguardmuseum.com
SUMMARY:Hosts-Morrows
DESCRIPTION:
URL:https://kansasguardmuseum.com/event/hosts-morrows-4/
CATEGORIES:Host
END:VEVENT
BEGIN:VEVENT
DTSTART;VALUE=DATE:20230403
DTEND;VALUE=DATE:20230404
DTSTAMP:20260421T234649
CREATED:20230204T180812Z
LAST-MODIFIED:20230204T180812Z
UID:14991-1680480000-1680566399@kansasguardmuseum.com
SUMMARY:Host-Ed Williams
DESCRIPTION:
URL:https://kansasguardmuseum.com/event/host-ed-williams-4/
CATEGORIES:Host
END:VEVENT
BEGIN:VEVENT
DTSTART;VALUE=DATE:20230404
DTEND;VALUE=DATE:20230405
DTSTAMP:20260421T234649
CREATED:20230204T180848Z
LAST-MODIFIED:20230204T180848Z
UID:14993-1680566400-1680652799@kansasguardmuseum.com
SUMMARY:Host-Chuck Bredahl
DESCRIPTION:
URL:https://kansasguardmuseum.com/event/host-chuck-bredahl-4/
CATEGORIES:Host
END:VEVENT
BEGIN:VEVENT
DTSTART;VALUE=DATE:20230405
DTEND;VALUE=DATE:20230406
DTSTAMP:20260421T234649
CREATED:20230204T180919Z
LAST-MODIFIED:20230204T180919Z
UID:14995-1680652800-1680739199@kansasguardmuseum.com
SUMMARY:Host-Lloyd Arnold
DESCRIPTION:
URL:https://kansasguardmuseum.com/event/host-lloyd-arnold-5/
CATEGORIES:Host
END:VEVENT
BEGIN:VEVENT
DTSTART;VALUE=DATE:20230406
DTEND;VALUE=DATE:20230407
DTSTAMP:20260421T234649
CREATED:20230304T164400Z
LAST-MODIFIED:20230304T164400Z
UID:15276-1680739200-1680825599@kansasguardmuseum.com
SUMMARY:Host-Troy Abel
DESCRIPTION:
URL:https://kansasguardmuseum.com/event/host-troy-abel-2/
CATEGORIES:Host
END:VEVENT
BEGIN:VEVENT
DTSTART;VALUE=DATE:20230407
DTEND;VALUE=DATE:20230408
DTSTAMP:20260421T234649
CREATED:20230304T164424Z
LAST-MODIFIED:20230304T164424Z
UID:15278-1680825600-1680911999@kansasguardmuseum.com
SUMMARY:Host-Lewis Shedd
DESCRIPTION:
URL:https://kansasguardmuseum.com/event/host-lewis-shedd-4/
CATEGORIES:Host
END:VEVENT
BEGIN:VEVENT
DTSTART;VALUE=DATE:20230410
DTEND;VALUE=DATE:20230411
DTSTAMP:20260421T234649
CREATED:20230204T181118Z
LAST-MODIFIED:20230204T181118Z
UID:15001-1681084800-1681171199@kansasguardmuseum.com
SUMMARY:Host-Rex Allen
DESCRIPTION:
URL:https://kansasguardmuseum.com/event/host-rex-allen-4/
CATEGORIES:Host
END:VEVENT
BEGIN:VEVENT
DTSTART;VALUE=DATE:20230411
DTEND;VALUE=DATE:20230412
DTSTAMP:20260421T234649
CREATED:20230204T181146Z
LAST-MODIFIED:20230204T181146Z
UID:15003-1681171200-1681257599@kansasguardmuseum.com
SUMMARY:Host-Charles Kuhn
DESCRIPTION:
URL:https://kansasguardmuseum.com/event/host-charles-kuhn-4/
CATEGORIES:Host
END:VEVENT
BEGIN:VEVENT
DTSTART;VALUE=DATE:20230412
DTEND;VALUE=DATE:20230413
DTSTAMP:20260421T234649
CREATED:20230204T181251Z
LAST-MODIFIED:20230204T181251Z
UID:15007-1681257600-1681343999@kansasguardmuseum.com
SUMMARY:Host-Dale Johnston
DESCRIPTION:
URL:https://kansasguardmuseum.com/event/host-dale-johnston-4/
CATEGORIES:Host
END:VEVENT
BEGIN:VEVENT
DTSTART;VALUE=DATE:20230413
DTEND;VALUE=DATE:20230414
DTSTAMP:20260421T234649
CREATED:20230204T181513Z
LAST-MODIFIED:20230204T181513Z
UID:15015-1681344000-1681430399@kansasguardmuseum.com
SUMMARY:Host-Hugh Greenfield
DESCRIPTION:
URL:https://kansasguardmuseum.com/event/host-hugh-greenfield-4/
CATEGORIES:Host
END:VEVENT
BEGIN:VEVENT
DTSTART;VALUE=DATE:20230414
DTEND;VALUE=DATE:20230415
DTSTAMP:20260421T234649
CREATED:20230204T181610Z
LAST-MODIFIED:20230204T181610Z
UID:15019-1681430400-1681516799@kansasguardmuseum.com
SUMMARY:Host-Gary Nicholson
DESCRIPTION:
URL:https://kansasguardmuseum.com/event/host-gary-nicholson-4/
CATEGORIES:Host
END:VEVENT
BEGIN:VEVENT
DTSTART;VALUE=DATE:20230417
DTEND;VALUE=DATE:20230418
DTSTAMP:20260421T234649
CREATED:20230204T181922Z
LAST-MODIFIED:20230204T181922Z
UID:15027-1681689600-1681775999@kansasguardmuseum.com
SUMMARY:Host-Ron Gray
DESCRIPTION:
URL:https://kansasguardmuseum.com/event/host-ron-gray-3/
CATEGORIES:Host
END:VEVENT
BEGIN:VEVENT
DTSTART;VALUE=DATE:20230418
DTEND;VALUE=DATE:20230419
DTSTAMP:20260421T234649
CREATED:20230304T164638Z
LAST-MODIFIED:20230304T164638Z
UID:15282-1681776000-1681862399@kansasguardmuseum.com
SUMMARY:Host-John Cregan
DESCRIPTION:
URL:https://kansasguardmuseum.com/event/host-john-cregan-4/
CATEGORIES:Host
END:VEVENT
BEGIN:VEVENT
DTSTART;VALUE=DATE:20230419
DTEND;VALUE=DATE:20230420
DTSTAMP:20260421T234649
CREATED:20230204T181951Z
LAST-MODIFIED:20230204T181951Z
UID:15029-1681862400-1681948799@kansasguardmuseum.com
SUMMARY:Host-Harry Rupple
DESCRIPTION:
URL:https://kansasguardmuseum.com/event/host-harry-rupple-4/
CATEGORIES:Host
END:VEVENT
BEGIN:VEVENT
DTSTART;VALUE=DATE:20230421
DTEND;VALUE=DATE:20230422
DTSTAMP:20260421T234649
CREATED:20230304T164718Z
LAST-MODIFIED:20230304T164718Z
UID:15284-1682035200-1682121599@kansasguardmuseum.com
SUMMARY:Host-Jim Istas
DESCRIPTION:
URL:https://kansasguardmuseum.com/event/host-jim-istas-4/
CATEGORIES:Host
END:VEVENT
BEGIN:VEVENT
DTSTART;VALUE=DATE:20230424
DTEND;VALUE=DATE:20230425
DTSTAMP:20260421T234649
CREATED:20230204T182310Z
LAST-MODIFIED:20230401T165832Z
UID:15037-1682294400-1682380799@kansasguardmuseum.com
SUMMARY:Host-Roger Wilson
DESCRIPTION:
URL:https://kansasguardmuseum.com/event/host-howard-neff-7/
CATEGORIES:Host
END:VEVENT
BEGIN:VEVENT
DTSTART;VALUE=DATE:20230425
DTEND;VALUE=DATE:20230426
DTSTAMP:20260421T234649
CREATED:20230204T182343Z
LAST-MODIFIED:20230204T182343Z
UID:15039-1682380800-1682467199@kansasguardmuseum.com
SUMMARY:Host-Steve Pierce
DESCRIPTION:
URL:https://kansasguardmuseum.com/event/host-steve-pierce-3/
CATEGORIES:Host
END:VEVENT
BEGIN:VEVENT
DTSTART;VALUE=DATE:20230426
DTEND;VALUE=DATE:20230427
DTSTAMP:20260421T234649
CREATED:20230204T182411Z
LAST-MODIFIED:20230204T182411Z
UID:15041-1682467200-1682553599@kansasguardmuseum.com
SUMMARY:Host-Anne Hunsecker
DESCRIPTION:
URL:https://kansasguardmuseum.com/event/host-anne-hunsecker-4/
CATEGORIES:Host
END:VEVENT
BEGIN:VEVENT
DTSTART;VALUE=DATE:20230427
DTEND;VALUE=DATE:20230428
DTSTAMP:20260421T234649
CREATED:20230204T182435Z
LAST-MODIFIED:20230204T182435Z
UID:15043-1682553600-1682639999@kansasguardmuseum.com
SUMMARY:Hosts-Pascuas
DESCRIPTION:
URL:https://kansasguardmuseum.com/event/hosts-pascuas-3/
CATEGORIES:Host
END:VEVENT
BEGIN:VEVENT
DTSTART;VALUE=DATE:20230428
DTEND;VALUE=DATE:20230429
DTSTAMP:20260421T234649
CREATED:20230204T182615Z
LAST-MODIFIED:20230204T182615Z
UID:15049-1682640000-1682726399@kansasguardmuseum.com
SUMMARY:Host-Mary Rogers
DESCRIPTION:
URL:https://kansasguardmuseum.com/event/host-mary-rogers-4/
CATEGORIES:Host
END:VEVENT
BEGIN:VEVENT
DTSTART;VALUE=DATE:20230501
DTEND;VALUE=DATE:20230502
DTSTAMP:20260421T234649
CREATED:20230304T165013Z
LAST-MODIFIED:20230304T165013Z
UID:15288-1682899200-1682985599@kansasguardmuseum.com
SUMMARY:Host-Ed Williams
DESCRIPTION:
URL:https://kansasguardmuseum.com/event/host-ed-williams-5/
CATEGORIES:Host
END:VEVENT
BEGIN:VEVENT
DTSTART;VALUE=DATE:20230502
DTEND;VALUE=DATE:20230503
DTSTAMP:20260421T234649
CREATED:20230304T165043Z
LAST-MODIFIED:20230304T165043Z
UID:15290-1682985600-1683071999@kansasguardmuseum.com
SUMMARY:Host-Chuck Bredahl
DESCRIPTION:
URL:https://kansasguardmuseum.com/event/host-chuck-bredahl-5/
CATEGORIES:Host
END:VEVENT
BEGIN:VEVENT
DTSTART;VALUE=DATE:20230503
DTEND;VALUE=DATE:20230504
DTSTAMP:20260421T234649
CREATED:20230304T165112Z
LAST-MODIFIED:20230304T165112Z
UID:15292-1683072000-1683158399@kansasguardmuseum.com
SUMMARY:Host-Lloyd Arnold
DESCRIPTION:
URL:https://kansasguardmuseum.com/event/host-lloyd-arnold-6/
CATEGORIES:Host
END:VEVENT
BEGIN:VEVENT
DTSTART;VALUE=DATE:20230504
DTEND;VALUE=DATE:20230505
DTSTAMP:20260421T234649
CREATED:20230304T165213Z
LAST-MODIFIED:20230502T223313Z
UID:15296-1683158400-1683244799@kansasguardmuseum.com
SUMMARY:Host-Barrie Gnagy
DESCRIPTION:
URL:https://kansasguardmuseum.com/event/host-john-cregan-5/
CATEGORIES:Host
END:VEVENT
BEGIN:VEVENT
DTSTART;VALUE=DATE:20230505
DTEND;VALUE=DATE:20230506
DTSTAMP:20260421T234649
CREATED:20230502T223357Z
LAST-MODIFIED:20230502T223357Z
UID:15685-1683244800-1683331199@kansasguardmuseum.com
SUMMARY:Host-Dottie Clark
DESCRIPTION:
URL:https://kansasguardmuseum.com/event/host-dottie-clark-5/
CATEGORIES:Host
END:VEVENT
BEGIN:VEVENT
DTSTART;VALUE=DATE:20230506
DTEND;VALUE=DATE:20230507
DTSTAMP:20260421T234649
CREATED:20230502T223438Z
LAST-MODIFIED:20230502T223438Z
UID:15687-1683331200-1683417599@kansasguardmuseum.com
SUMMARY:Host-Mark Sweeney
DESCRIPTION:
URL:https://kansasguardmuseum.com/event/host-mark-sweeney-3/
CATEGORIES:Host
END:VEVENT
BEGIN:VEVENT
DTSTART;VALUE=DATE:20230508
DTEND;VALUE=DATE:20230509
DTSTAMP:20260421T234649
CREATED:20230304T165530Z
LAST-MODIFIED:20230304T165530Z
UID:15302-1683504000-1683590399@kansasguardmuseum.com
SUMMARY:Host-Rex Allen
DESCRIPTION:
URL:https://kansasguardmuseum.com/event/host-rex-allen-5/
CATEGORIES:Host
END:VEVENT
BEGIN:VEVENT
DTSTART;VALUE=DATE:20230509
DTEND;VALUE=DATE:20230510
DTSTAMP:20260421T234649
CREATED:20230304T165558Z
LAST-MODIFIED:20230401T170639Z
UID:15304-1683590400-1683676799@kansasguardmuseum.com
SUMMARY:Host-Steve Pierce
DESCRIPTION:
URL:https://kansasguardmuseum.com/event/host-geoff-lanning-2/
CATEGORIES:Host
END:VEVENT
END:VCALENDAR