BEGIN:VCALENDAR
VERSION:2.0
PRODID:-//Museum of the Kansas National Guard - ECPv6.15.20//NONSGML v1.0//EN
CALSCALE:GREGORIAN
METHOD:PUBLISH
X-ORIGINAL-URL:https://kansasguardmuseum.com
X-WR-CALDESC:Events for Museum of the Kansas National Guard
REFRESH-INTERVAL;VALUE=DURATION:PT1H
X-Robots-Tag:noindex
X-PUBLISHED-TTL:PT1H
BEGIN:VTIMEZONE
TZID:America/Chicago
BEGIN:DAYLIGHT
TZOFFSETFROM:-0600
TZOFFSETTO:-0500
TZNAME:CDT
DTSTART:20230312T080000
END:DAYLIGHT
BEGIN:STANDARD
TZOFFSETFROM:-0500
TZOFFSETTO:-0600
TZNAME:CST
DTSTART:20231105T070000
END:STANDARD
BEGIN:DAYLIGHT
TZOFFSETFROM:-0600
TZOFFSETTO:-0500
TZNAME:CDT
DTSTART:20240310T080000
END:DAYLIGHT
BEGIN:STANDARD
TZOFFSETFROM:-0500
TZOFFSETTO:-0600
TZNAME:CST
DTSTART:20241103T070000
END:STANDARD
BEGIN:DAYLIGHT
TZOFFSETFROM:-0600
TZOFFSETTO:-0500
TZNAME:CDT
DTSTART:20250309T080000
END:DAYLIGHT
BEGIN:STANDARD
TZOFFSETFROM:-0500
TZOFFSETTO:-0600
TZNAME:CST
DTSTART:20251102T070000
END:STANDARD
END:VTIMEZONE
BEGIN:VEVENT
DTSTART;VALUE=DATE:20240924
DTEND;VALUE=DATE:20240925
DTSTAMP:20260425T113116
CREATED:20240903T211616Z
LAST-MODIFIED:20240903T211616Z
UID:20258-1727136000-1727222399@kansasguardmuseum.com
SUMMARY:Host - Ed Williams
DESCRIPTION:
URL:https://kansasguardmuseum.com/event/host-ed-williams-17/
CATEGORIES:Host
END:VEVENT
BEGIN:VEVENT
DTSTART;VALUE=DATE:20240925
DTEND;VALUE=DATE:20240926
DTSTAMP:20260425T113116
CREATED:20240803T174642Z
LAST-MODIFIED:20240803T174642Z
UID:20027-1727222400-1727308799@kansasguardmuseum.com
SUMMARY:Host - Anne Hunsecker
DESCRIPTION:
URL:https://kansasguardmuseum.com/event/host-anne-hunsecker-22/
CATEGORIES:Host
END:VEVENT
BEGIN:VEVENT
DTSTART;VALUE=DATE:20240926
DTEND;VALUE=DATE:20240927
DTSTAMP:20260425T113116
CREATED:20240903T211719Z
LAST-MODIFIED:20240903T211719Z
UID:20260-1727308800-1727395199@kansasguardmuseum.com
SUMMARY:Host - Barrie Gnagy
DESCRIPTION:
URL:https://kansasguardmuseum.com/event/host-barrie-gnagy-3/
CATEGORIES:Host
END:VEVENT
BEGIN:VEVENT
DTSTART;VALUE=DATE:20240927
DTEND;VALUE=DATE:20240928
DTSTAMP:20260425T113116
CREATED:20240803T174834Z
LAST-MODIFIED:20240803T174834Z
UID:20033-1727395200-1727481599@kansasguardmuseum.com
SUMMARY:Host - Hector Vasquez
DESCRIPTION:
URL:https://kansasguardmuseum.com/event/host-hector-vasquez-22/
CATEGORIES:Host
END:VEVENT
BEGIN:VEVENT
DTSTART;VALUE=DATE:20240928
DTEND;VALUE=DATE:20240929
DTSTAMP:20260425T113116
CREATED:20240903T211835Z
LAST-MODIFIED:20240903T211835Z
UID:20262-1727481600-1727567999@kansasguardmuseum.com
SUMMARY:Host - Mark Seats
DESCRIPTION:
URL:https://kansasguardmuseum.com/event/host-mark-seats-4/
CATEGORIES:Host
END:VEVENT
BEGIN:VEVENT
DTSTART;VALUE=DATE:20240930
DTEND;VALUE=DATE:20241001
DTSTAMP:20260425T113116
CREATED:20240803T175114Z
LAST-MODIFIED:20240803T175114Z
UID:20037-1727654400-1727740799@kansasguardmuseum.com
SUMMARY:Host - Mary Rogers
DESCRIPTION:
URL:https://kansasguardmuseum.com/event/host-mary-rogers-21/
CATEGORIES:Host
END:VEVENT
BEGIN:VEVENT
DTSTART;VALUE=DATE:20241001
DTEND;VALUE=DATE:20241002
DTSTAMP:20260425T113116
CREATED:20240903T211946Z
LAST-MODIFIED:20240903T211946Z
UID:20264-1727740800-1727827199@kansasguardmuseum.com
SUMMARY:Host - Chuck Bredahl
DESCRIPTION:
URL:https://kansasguardmuseum.com/event/host-chuck-bredahl-22/
CATEGORIES:Host
END:VEVENT
BEGIN:VEVENT
DTSTART;VALUE=DATE:20241002
DTEND;VALUE=DATE:20241003
DTSTAMP:20260425T113116
CREATED:20240903T212040Z
LAST-MODIFIED:20240903T212040Z
UID:20266-1727827200-1727913599@kansasguardmuseum.com
SUMMARY:Host - Lloyd Arnold
DESCRIPTION:
URL:https://kansasguardmuseum.com/event/host-lloyd-arnold-24/
CATEGORIES:Host
END:VEVENT
BEGIN:VEVENT
DTSTART;VALUE=DATE:20241003
DTEND;VALUE=DATE:20241004
DTSTAMP:20260425T113116
CREATED:20241005T171319Z
LAST-MODIFIED:20241005T171319Z
UID:20508-1727913600-1727999999@kansasguardmuseum.com
SUMMARY:Host - Ed Williams
DESCRIPTION:
URL:https://kansasguardmuseum.com/event/host-ed-williams-18/
CATEGORIES:Host
END:VEVENT
BEGIN:VEVENT
DTSTART;VALUE=DATE:20241004
DTEND;VALUE=DATE:20241005
DTSTAMP:20260425T113116
CREATED:20240903T212234Z
LAST-MODIFIED:20240903T212234Z
UID:20269-1728000000-1728086399@kansasguardmuseum.com
SUMMARY:Host - Jim Istas
DESCRIPTION:
URL:https://kansasguardmuseum.com/event/host-jim-istas-21/
CATEGORIES:Host
END:VEVENT
BEGIN:VEVENT
DTSTART;VALUE=DATE:20241007
DTEND;VALUE=DATE:20241008
DTSTAMP:20260425T113116
CREATED:20240903T213856Z
LAST-MODIFIED:20241005T171244Z
UID:20299-1728259200-1728345599@kansasguardmuseum.com
SUMMARY:Host - Judy Gatewood
DESCRIPTION:
URL:https://kansasguardmuseum.com/event/host-judy-gatewood-11/
CATEGORIES:Host
END:VEVENT
BEGIN:VEVENT
DTSTART;VALUE=DATE:20241008
DTEND;VALUE=DATE:20241009
DTSTAMP:20260425T113116
CREATED:20240903T212729Z
LAST-MODIFIED:20240903T212729Z
UID:20278-1728345600-1728431999@kansasguardmuseum.com
SUMMARY:Host - John Cregan
DESCRIPTION:
URL:https://kansasguardmuseum.com/event/host-john-cregan-20/
CATEGORIES:Host
END:VEVENT
BEGIN:VEVENT
DTSTART;VALUE=DATE:20241009
DTEND;VALUE=DATE:20241010
DTSTAMP:20260425T113116
CREATED:20240903T213056Z
LAST-MODIFIED:20240903T213056Z
UID:20284-1728432000-1728518399@kansasguardmuseum.com
SUMMARY:Host - Dale Johnston
DESCRIPTION:
URL:https://kansasguardmuseum.com/event/host-dale-johnston-23/
CATEGORIES:Host
END:VEVENT
BEGIN:VEVENT
DTSTART;VALUE=DATE:20241010
DTEND;VALUE=DATE:20241011
DTSTAMP:20260425T113116
CREATED:20241005T171357Z
LAST-MODIFIED:20241005T171357Z
UID:20510-1728518400-1728604799@kansasguardmuseum.com
SUMMARY:Host - Barrie Gnagy
DESCRIPTION:
URL:https://kansasguardmuseum.com/event/host-barrie-gnagy-4/
CATEGORIES:Host
END:VEVENT
BEGIN:VEVENT
DTSTART;VALUE=DATE:20241011
DTEND;VALUE=DATE:20241012
DTSTAMP:20260425T113116
CREATED:20241005T171423Z
LAST-MODIFIED:20241005T171423Z
UID:20512-1728604800-1728691199@kansasguardmuseum.com
SUMMARY:Host - Dottie Clark
DESCRIPTION:
URL:https://kansasguardmuseum.com/event/host-dottie-clark-16/
CATEGORIES:Host
END:VEVENT
BEGIN:VEVENT
DTSTART;VALUE=DATE:20241012
DTEND;VALUE=DATE:20241013
DTSTAMP:20260425T113116
CREATED:20241005T171451Z
LAST-MODIFIED:20241005T171451Z
UID:20514-1728691200-1728777599@kansasguardmuseum.com
SUMMARY:Host - Mark Sweeney
DESCRIPTION:
URL:https://kansasguardmuseum.com/event/host-mark-sweeney-15/
CATEGORIES:Host
END:VEVENT
BEGIN:VEVENT
DTSTART;VALUE=DATE:20241014
DTEND;VALUE=DATE:20241015
DTSTAMP:20260425T113116
CREATED:20240903T213759Z
LAST-MODIFIED:20240903T213759Z
UID:20297-1728864000-1728950399@kansasguardmuseum.com
SUMMARY:Host - Rex Allen
DESCRIPTION:
URL:https://kansasguardmuseum.com/event/host-rex-allen-23/
CATEGORIES:Host
END:VEVENT
BEGIN:VEVENT
DTSTART;VALUE=DATE:20241015
DTEND;VALUE=DATE:20241016
DTSTAMP:20260425T113116
CREATED:20241005T171805Z
LAST-MODIFIED:20241005T171805Z
UID:20522-1728950400-1729036799@kansasguardmuseum.com
SUMMARY:Host - Steve Wodtke
DESCRIPTION:
URL:https://kansasguardmuseum.com/event/host-steve-wodtke-16/
CATEGORIES:Host
END:VEVENT
BEGIN:VEVENT
DTSTART;VALUE=DATE:20241016
DTEND;VALUE=DATE:20241017
DTSTAMP:20260425T113116
CREATED:20240903T213944Z
LAST-MODIFIED:20240903T213944Z
UID:20301-1729036800-1729123199@kansasguardmuseum.com
SUMMARY:Host - Ron Tincher
DESCRIPTION:
URL:https://kansasguardmuseum.com/event/host-ron-tincher-14/
CATEGORIES:Host
END:VEVENT
BEGIN:VEVENT
DTSTART;VALUE=DATE:20241017
DTEND;VALUE=DATE:20241018
DTSTAMP:20260425T113116
CREATED:20240903T214142Z
LAST-MODIFIED:20240903T214142Z
UID:20305-1729123200-1729209599@kansasguardmuseum.com
SUMMARY:Host - Marvin Terhune
DESCRIPTION:
URL:https://kansasguardmuseum.com/event/host-marvin-terhune-5/
CATEGORIES:Host
END:VEVENT
BEGIN:VEVENT
DTSTART;VALUE=DATE:20241018
DTEND;VALUE=DATE:20241019
DTSTAMP:20260425T113116
CREATED:20241005T171844Z
LAST-MODIFIED:20241005T171844Z
UID:20524-1729209600-1729295999@kansasguardmuseum.com
SUMMARY:Host - Debbie Doyle
DESCRIPTION:
URL:https://kansasguardmuseum.com/event/host-debbie-doyle-18/
CATEGORIES:Host
END:VEVENT
BEGIN:VEVENT
DTSTART;TZID=America/Chicago:20241021T080000
DTEND;TZID=America/Chicago:20241021T170000
DTSTAMP:20260425T113116
CREATED:20240903T214718Z
LAST-MODIFIED:20240903T214718Z
UID:20315-1729497600-1729530000@kansasguardmuseum.com
SUMMARY:Host - Howard Neff
DESCRIPTION:
URL:https://kansasguardmuseum.com/event/host-howard-neff-19/
CATEGORIES:Host
END:VEVENT
BEGIN:VEVENT
DTSTART;VALUE=DATE:20241022
DTEND;VALUE=DATE:20241023
DTSTAMP:20260425T113116
CREATED:20240903T214901Z
LAST-MODIFIED:20240903T214901Z
UID:20317-1729555200-1729641599@kansasguardmuseum.com
SUMMARY:Host - Dave Lawrence
DESCRIPTION:
URL:https://kansasguardmuseum.com/event/host-dave-lawrence-10/
CATEGORIES:Host
END:VEVENT
BEGIN:VEVENT
DTSTART;VALUE=DATE:20241023
DTEND;VALUE=DATE:20241024
DTSTAMP:20260425T113116
CREATED:20240903T214958Z
LAST-MODIFIED:20240903T214958Z
UID:20319-1729641600-1729727999@kansasguardmuseum.com
SUMMARY:Host - Anne Hunsecker
DESCRIPTION:
URL:https://kansasguardmuseum.com/event/host-anne-hunsecker-23/
CATEGORIES:Host
END:VEVENT
BEGIN:VEVENT
DTSTART;VALUE=DATE:20241024
DTEND;VALUE=DATE:20241025
DTSTAMP:20260425T113116
CREATED:20241005T172250Z
LAST-MODIFIED:20241005T172250Z
UID:20532-1729728000-1729814399@kansasguardmuseum.com
SUMMARY:Host - Charles Henry
DESCRIPTION:
URL:https://kansasguardmuseum.com/event/host-charles-henry-3/
CATEGORIES:Host
END:VEVENT
BEGIN:VEVENT
DTSTART;VALUE=DATE:20241025
DTEND;VALUE=DATE:20241026
DTSTAMP:20260425T113116
CREATED:20240903T215344Z
LAST-MODIFIED:20240903T215344Z
UID:20325-1729814400-1729900799@kansasguardmuseum.com
SUMMARY:Host - Hector Vasquez
DESCRIPTION:
URL:https://kansasguardmuseum.com/event/host-hector-vasquez-23/
CATEGORIES:Host
END:VEVENT
BEGIN:VEVENT
DTSTART;VALUE=DATE:20241026
DTEND;VALUE=DATE:20241027
DTSTAMP:20260425T113116
CREATED:20241005T203526Z
LAST-MODIFIED:20241005T203526Z
UID:20610-1729900800-1729987199@kansasguardmuseum.com
SUMMARY:Host - Paul Owens
DESCRIPTION:
URL:https://kansasguardmuseum.com/event/host-paul-owens-3/
CATEGORIES:Host
END:VEVENT
BEGIN:VEVENT
DTSTART;VALUE=DATE:20241028
DTEND;VALUE=DATE:20241029
DTSTAMP:20260425T113116
CREATED:20240903T215718Z
LAST-MODIFIED:20240903T215718Z
UID:20331-1730073600-1730159999@kansasguardmuseum.com
SUMMARY:Host - Mary Rogers
DESCRIPTION:
URL:https://kansasguardmuseum.com/event/host-mary-rogers-22/
CATEGORIES:Host
END:VEVENT
BEGIN:VEVENT
DTSTART;VALUE=DATE:20241029
DTEND;VALUE=DATE:20241030
DTSTAMP:20260425T113116
CREATED:20241005T172416Z
LAST-MODIFIED:20241005T172416Z
UID:20536-1730160000-1730246399@kansasguardmuseum.com
SUMMARY:Host - Mark Seats
DESCRIPTION:
URL:https://kansasguardmuseum.com/event/host-mark-seats-5/
CATEGORIES:Host
END:VEVENT
BEGIN:VEVENT
DTSTART;VALUE=DATE:20241030
DTEND;VALUE=DATE:20241031
DTSTAMP:20260425T113116
CREATED:20241005T172446Z
LAST-MODIFIED:20241005T172446Z
UID:20538-1730246400-1730332799@kansasguardmuseum.com
SUMMARY:Host - Phil Mahan
DESCRIPTION:
URL:https://kansasguardmuseum.com/event/host-phil-mahan-10/
CATEGORIES:Host
END:VEVENT
END:VCALENDAR