BEGIN:VCALENDAR
VERSION:2.0
PRODID:-//Museum of the Kansas National Guard - ECPv6.15.20//NONSGML v1.0//EN
CALSCALE:GREGORIAN
METHOD:PUBLISH
X-WR-CALNAME:Museum of the Kansas National Guard
X-ORIGINAL-URL:https://kansasguardmuseum.com
X-WR-CALDESC:Events for Museum of the Kansas National Guard
REFRESH-INTERVAL;VALUE=DURATION:PT1H
X-Robots-Tag:noindex
X-PUBLISHED-TTL:PT1H
BEGIN:VTIMEZONE
TZID:America/Chicago
BEGIN:DAYLIGHT
TZOFFSETFROM:-0600
TZOFFSETTO:-0500
TZNAME:CDT
DTSTART:20230312T080000
END:DAYLIGHT
BEGIN:STANDARD
TZOFFSETFROM:-0500
TZOFFSETTO:-0600
TZNAME:CST
DTSTART:20231105T070000
END:STANDARD
BEGIN:DAYLIGHT
TZOFFSETFROM:-0600
TZOFFSETTO:-0500
TZNAME:CDT
DTSTART:20240310T080000
END:DAYLIGHT
BEGIN:STANDARD
TZOFFSETFROM:-0500
TZOFFSETTO:-0600
TZNAME:CST
DTSTART:20241103T070000
END:STANDARD
BEGIN:DAYLIGHT
TZOFFSETFROM:-0600
TZOFFSETTO:-0500
TZNAME:CDT
DTSTART:20250309T080000
END:DAYLIGHT
BEGIN:STANDARD
TZOFFSETFROM:-0500
TZOFFSETTO:-0600
TZNAME:CST
DTSTART:20251102T070000
END:STANDARD
END:VTIMEZONE
BEGIN:VEVENT
DTSTART;VALUE=DATE:20240410
DTEND;VALUE=DATE:20240411
DTSTAMP:20260425T112052
CREATED:20240302T204208Z
LAST-MODIFIED:20240302T204208Z
UID:17849-1712707200-1712793599@kansasguardmuseum.com
SUMMARY:Host-Dale Johnston
DESCRIPTION:
URL:https://kansasguardmuseum.com/event/host-dale-johnston-17/
CATEGORIES:Host
END:VEVENT
BEGIN:VEVENT
DTSTART;VALUE=DATE:20240411
DTEND;VALUE=DATE:20240412
DTSTAMP:20260425T112052
CREATED:20240302T204422Z
LAST-MODIFIED:20240409T211411Z
UID:17857-1712793600-1712879999@kansasguardmuseum.com
SUMMARY:Host - Barrie Gnagy
DESCRIPTION:
URL:https://kansasguardmuseum.com/event/host-hugh-greenfield-15/
CATEGORIES:Host
END:VEVENT
BEGIN:VEVENT
DTSTART;VALUE=DATE:20240412
DTEND;VALUE=DATE:20240413
DTSTAMP:20260425T112052
CREATED:20240302T204451Z
LAST-MODIFIED:20240302T204451Z
UID:17859-1712880000-1712966399@kansasguardmuseum.com
SUMMARY:Host-Charles Henry
DESCRIPTION:
URL:https://kansasguardmuseum.com/event/host-charles-henry/
CATEGORIES:Host
END:VEVENT
BEGIN:VEVENT
DTSTART;VALUE=DATE:20240413
DTEND;VALUE=DATE:20240414
DTSTAMP:20260425T112052
CREATED:20240406T163302Z
LAST-MODIFIED:20240406T163302Z
UID:18859-1712966400-1713052799@kansasguardmuseum.com
SUMMARY:Host - Mark Sweeney
DESCRIPTION:
URL:https://kansasguardmuseum.com/event/host-mark-sweeney-11/
CATEGORIES:Host
END:VEVENT
BEGIN:VEVENT
DTSTART;VALUE=DATE:20240415
DTEND;VALUE=DATE:20240416
DTSTAMP:20260425T112052
CREATED:20240302T204655Z
LAST-MODIFIED:20240302T204655Z
UID:17865-1713139200-1713225599@kansasguardmuseum.com
SUMMARY:Host-Doug Plummer
DESCRIPTION:
URL:https://kansasguardmuseum.com/event/host-doug-plummer/
CATEGORIES:Host
END:VEVENT
BEGIN:VEVENT
DTSTART;VALUE=DATE:20240416
DTEND;VALUE=DATE:20240417
DTSTAMP:20260425T112052
CREATED:20240302T204724Z
LAST-MODIFIED:20240302T204724Z
UID:17867-1713225600-1713311999@kansasguardmuseum.com
SUMMARY:Host-Jim Istas
DESCRIPTION:
URL:https://kansasguardmuseum.com/event/host-jim-istas-15/
CATEGORIES:Host
END:VEVENT
BEGIN:VEVENT
DTSTART;VALUE=DATE:20240417
DTEND;VALUE=DATE:20240418
DTSTAMP:20260425T112052
CREATED:20240302T204750Z
LAST-MODIFIED:20240302T204750Z
UID:17869-1713312000-1713398399@kansasguardmuseum.com
SUMMARY:Host-Ron Tincher
DESCRIPTION:
URL:https://kansasguardmuseum.com/event/host-ron-tincher-8/
CATEGORIES:Host
END:VEVENT
BEGIN:VEVENT
DTSTART;VALUE=DATE:20240418
DTEND;VALUE=DATE:20240419
DTSTAMP:20260425T112052
CREATED:20240406T163332Z
LAST-MODIFIED:20240406T163332Z
UID:18861-1713398400-1713484799@kansasguardmuseum.com
SUMMARY:Host - Steve Wodtke
DESCRIPTION:
URL:https://kansasguardmuseum.com/event/host-steve-wodtke-11/
CATEGORIES:Host
END:VEVENT
BEGIN:VEVENT
DTSTART;VALUE=DATE:20240419
DTEND;VALUE=DATE:20240420
DTSTAMP:20260425T112052
CREATED:20240406T163358Z
LAST-MODIFIED:20240406T163358Z
UID:18863-1713484800-1713571199@kansasguardmuseum.com
SUMMARY:Host - Ron Gray
DESCRIPTION:
URL:https://kansasguardmuseum.com/event/host-ron-gray-13/
CATEGORIES:Host
END:VEVENT
BEGIN:VEVENT
DTSTART;VALUE=DATE:20240420
DTEND;VALUE=DATE:20240421
DTSTAMP:20260425T112052
CREATED:20240302T204850Z
LAST-MODIFIED:20240302T204850Z
UID:17873-1713571200-1713657599@kansasguardmuseum.com
SUMMARY:Host-Jim Spurlock
DESCRIPTION:
URL:https://kansasguardmuseum.com/event/host-jim-spurlock-14/
CATEGORIES:Host
END:VEVENT
BEGIN:VEVENT
DTSTART;VALUE=DATE:20240422
DTEND;VALUE=DATE:20240423
DTSTAMP:20260425T112052
CREATED:20240406T163537Z
LAST-MODIFIED:20240406T163537Z
UID:18867-1713744000-1713830399@kansasguardmuseum.com
SUMMARY:Host - Geoff Lanning
DESCRIPTION:
URL:https://kansasguardmuseum.com/event/host-geoff-lanning-9/
CATEGORIES:Host
END:VEVENT
BEGIN:VEVENT
DTSTART;VALUE=DATE:20240423
DTEND;VALUE=DATE:20240424
DTSTAMP:20260425T112052
CREATED:20240302T205102Z
LAST-MODIFIED:20240302T205102Z
UID:17881-1713830400-1713916799@kansasguardmuseum.com
SUMMARY:Host-John Cregan
DESCRIPTION:
URL:https://kansasguardmuseum.com/event/host-john-cregan-14/
CATEGORIES:Host
END:VEVENT
BEGIN:VEVENT
DTSTART;VALUE=DATE:20240424
DTEND;VALUE=DATE:20240425
DTSTAMP:20260425T112052
CREATED:20240302T205130Z
LAST-MODIFIED:20240302T205130Z
UID:17883-1713916800-1714003199@kansasguardmuseum.com
SUMMARY:Host-Anne Hunsecker
DESCRIPTION:
URL:https://kansasguardmuseum.com/event/host-anne-hunsecker-17/
CATEGORIES:Host
END:VEVENT
BEGIN:VEVENT
DTSTART;VALUE=DATE:20240425
DTEND;VALUE=DATE:20240426
DTSTAMP:20260425T112052
CREATED:20240406T163608Z
LAST-MODIFIED:20240406T163608Z
UID:18869-1714003200-1714089599@kansasguardmuseum.com
SUMMARY:Host - Roger Wilson
DESCRIPTION:
URL:https://kansasguardmuseum.com/event/host-roger-wilson-3/
CATEGORIES:Host
END:VEVENT
BEGIN:VEVENT
DTSTART;VALUE=DATE:20240426
DTEND;VALUE=DATE:20240427
DTSTAMP:20260425T112052
CREATED:20240302T205344Z
LAST-MODIFIED:20240302T205344Z
UID:17891-1714089600-1714175999@kansasguardmuseum.com
SUMMARY:Host-Hector Vasquez
DESCRIPTION:
URL:https://kansasguardmuseum.com/event/host-hector-vasquez-16/
CATEGORIES:Host
END:VEVENT
BEGIN:VEVENT
DTSTART;VALUE=DATE:20240427
DTEND;VALUE=DATE:20240428
DTSTAMP:20260425T112052
CREATED:20240406T163642Z
LAST-MODIFIED:20240406T163642Z
UID:18871-1714176000-1714262399@kansasguardmuseum.com
SUMMARY:Host - Butch Dowse
DESCRIPTION:
URL:https://kansasguardmuseum.com/event/host-butch-dowse-7/
CATEGORIES:Host
END:VEVENT
BEGIN:VEVENT
DTSTART;VALUE=DATE:20240429
DTEND;VALUE=DATE:20240430
DTSTAMP:20260425T112052
CREATED:20240302T205515Z
LAST-MODIFIED:20240302T205515Z
UID:17897-1714348800-1714435199@kansasguardmuseum.com
SUMMARY:Host-Mary Rogers
DESCRIPTION:
URL:https://kansasguardmuseum.com/event/host-mary-rogers-16/
CATEGORIES:Host
END:VEVENT
BEGIN:VEVENT
DTSTART;VALUE=DATE:20240430
DTEND;VALUE=DATE:20240501
DTSTAMP:20260425T112052
CREATED:20240302T205539Z
LAST-MODIFIED:20240302T205539Z
UID:17899-1714435200-1714521599@kansasguardmuseum.com
SUMMARY:Host-Doug Plummer
DESCRIPTION:
URL:https://kansasguardmuseum.com/event/host-doug-plummer-2/
CATEGORIES:Host
END:VEVENT
BEGIN:VEVENT
DTSTART;VALUE=DATE:20240501
DTEND;VALUE=DATE:20240502
DTSTAMP:20260425T112052
CREATED:20240406T163853Z
LAST-MODIFIED:20240406T163853Z
UID:18873-1714521600-1714607999@kansasguardmuseum.com
SUMMARY:Host - Lloyd Arnold
DESCRIPTION:
URL:https://kansasguardmuseum.com/event/host-lloyd-arnold-19/
CATEGORIES:Host
END:VEVENT
BEGIN:VEVENT
DTSTART;VALUE=DATE:20240502
DTEND;VALUE=DATE:20240503
DTSTAMP:20260425T112052
CREATED:20240406T164009Z
LAST-MODIFIED:20240406T164009Z
UID:18877-1714608000-1714694399@kansasguardmuseum.com
SUMMARY:Host - Charles Kuhn
DESCRIPTION:
URL:https://kansasguardmuseum.com/event/host-charles-kuhn-14/
CATEGORIES:Host
END:VEVENT
BEGIN:VEVENT
DTSTART;VALUE=DATE:20240503
DTEND;VALUE=DATE:20240504
DTSTAMP:20260425T112052
CREATED:20240502T224401Z
LAST-MODIFIED:20240502T224401Z
UID:19210-1714694400-1714780799@kansasguardmuseum.com
SUMMARY:Host - Ron Gray
DESCRIPTION:
URL:https://kansasguardmuseum.com/event/host-ron-gray-14/
CATEGORIES:Host
END:VEVENT
BEGIN:VEVENT
DTSTART;VALUE=DATE:20240504
DTEND;VALUE=DATE:20240505
DTSTAMP:20260425T112052
CREATED:20240502T224501Z
LAST-MODIFIED:20240502T224501Z
UID:19212-1714780800-1714867199@kansasguardmuseum.com
SUMMARY:Host - Debbie Doyle
DESCRIPTION:
URL:https://kansasguardmuseum.com/event/host-debbie-doyle-14/
CATEGORIES:Host
END:VEVENT
BEGIN:VEVENT
DTSTART;VALUE=DATE:20240506
DTEND;VALUE=DATE:20240507
DTSTAMP:20260425T112052
CREATED:20240502T224555Z
LAST-MODIFIED:20240502T224555Z
UID:19214-1714953600-1715039999@kansasguardmuseum.com
SUMMARY:Host - Ed Williams
DESCRIPTION:
URL:https://kansasguardmuseum.com/event/host-ed-williams-14/
CATEGORIES:Host
END:VEVENT
BEGIN:VEVENT
DTSTART;VALUE=DATE:20240507
DTEND;VALUE=DATE:20240508
DTSTAMP:20260425T112052
CREATED:20240406T164350Z
LAST-MODIFIED:20240406T164350Z
UID:18887-1715040000-1715126399@kansasguardmuseum.com
SUMMARY:Host - Chuck Bredahl
DESCRIPTION:
URL:https://kansasguardmuseum.com/event/host-chuck-bredahl-17/
CATEGORIES:Host
END:VEVENT
BEGIN:VEVENT
DTSTART;VALUE=DATE:20240508
DTEND;VALUE=DATE:20240509
DTSTAMP:20260425T112052
CREATED:20240406T164428Z
LAST-MODIFIED:20240406T164428Z
UID:18889-1715126400-1715212799@kansasguardmuseum.com
SUMMARY:Host - Dale Johnston
DESCRIPTION:
URL:https://kansasguardmuseum.com/event/host-dale-johnston-18/
CATEGORIES:Host
END:VEVENT
BEGIN:VEVENT
DTSTART;VALUE=DATE:20240509
DTEND;VALUE=DATE:20240510
DTSTAMP:20260425T112052
CREATED:20240406T164722Z
LAST-MODIFIED:20240406T164722Z
UID:18897-1715212800-1715299199@kansasguardmuseum.com
SUMMARY:Host - Hugh Greenfield
DESCRIPTION:
URL:https://kansasguardmuseum.com/event/host-hugh-greenfield-16/
CATEGORIES:Host
END:VEVENT
BEGIN:VEVENT
DTSTART;VALUE=DATE:20240510
DTEND;VALUE=DATE:20240511
DTSTAMP:20260425T112052
CREATED:20240502T224647Z
LAST-MODIFIED:20240502T224647Z
UID:19216-1715299200-1715385599@kansasguardmuseum.com
SUMMARY:Host - Dottie Clark
DESCRIPTION:
URL:https://kansasguardmuseum.com/event/host-dottie-clark-12/
CATEGORIES:Host
END:VEVENT
BEGIN:VEVENT
DTSTART;VALUE=DATE:20240511
DTEND;VALUE=DATE:20240512
DTSTAMP:20260425T112052
CREATED:20240502T224737Z
LAST-MODIFIED:20240502T224737Z
UID:19218-1715385600-1715471999@kansasguardmuseum.com
SUMMARY:Host - Jim Spurlock
DESCRIPTION:
URL:https://kansasguardmuseum.com/event/host-jim-spurlock-15/
CATEGORIES:Host
END:VEVENT
BEGIN:VEVENT
DTSTART;VALUE=DATE:20240513
DTEND;VALUE=DATE:20240514
DTSTAMP:20260425T112052
CREATED:20240406T164843Z
LAST-MODIFIED:20240406T164843Z
UID:18901-1715558400-1715644799@kansasguardmuseum.com
SUMMARY:Host - Rex Allen
DESCRIPTION:
URL:https://kansasguardmuseum.com/event/host-rex-allen-18/
CATEGORIES:Host
END:VEVENT
BEGIN:VEVENT
DTSTART;VALUE=DATE:20240514
DTEND;VALUE=DATE:20240515
DTSTAMP:20260425T112052
CREATED:20240406T164916Z
LAST-MODIFIED:20240406T164916Z
UID:18903-1715644800-1715731199@kansasguardmuseum.com
SUMMARY:Host - Troy Abel
DESCRIPTION:
URL:https://kansasguardmuseum.com/event/host-troy-abel-16/
CATEGORIES:Host
END:VEVENT
END:VCALENDAR