BEGIN:VCALENDAR
VERSION:2.0
PRODID:-//Museum of the Kansas National Guard - ECPv6.15.20//NONSGML v1.0//EN
CALSCALE:GREGORIAN
METHOD:PUBLISH
X-ORIGINAL-URL:https://kansasguardmuseum.com
X-WR-CALDESC:Events for Museum of the Kansas National Guard
REFRESH-INTERVAL;VALUE=DURATION:PT1H
X-Robots-Tag:noindex
X-PUBLISHED-TTL:PT1H
BEGIN:VTIMEZONE
TZID:America/Chicago
BEGIN:DAYLIGHT
TZOFFSETFROM:-0600
TZOFFSETTO:-0500
TZNAME:CDT
DTSTART:20250309T080000
END:DAYLIGHT
BEGIN:STANDARD
TZOFFSETFROM:-0500
TZOFFSETTO:-0600
TZNAME:CST
DTSTART:20251102T070000
END:STANDARD
BEGIN:DAYLIGHT
TZOFFSETFROM:-0600
TZOFFSETTO:-0500
TZNAME:CDT
DTSTART:20260308T080000
END:DAYLIGHT
BEGIN:STANDARD
TZOFFSETFROM:-0500
TZOFFSETTO:-0600
TZNAME:CST
DTSTART:20261101T070000
END:STANDARD
BEGIN:DAYLIGHT
TZOFFSETFROM:-0600
TZOFFSETTO:-0500
TZNAME:CDT
DTSTART:20270314T080000
END:DAYLIGHT
BEGIN:STANDARD
TZOFFSETFROM:-0500
TZOFFSETTO:-0600
TZNAME:CST
DTSTART:20271107T070000
END:STANDARD
END:VTIMEZONE
BEGIN:VEVENT
DTSTART;VALUE=DATE:20260227
DTEND;VALUE=DATE:20260228
DTSTAMP:20260421T214557
CREATED:20260103T181019Z
LAST-MODIFIED:20260103T181019Z
UID:25552-1772150400-1772236799@kansasguardmuseum.com
SUMMARY:Host - Mary Rogers
DESCRIPTION:
URL:https://kansasguardmuseum.com/event/host-mary-rogers-37/
CATEGORIES:Host
END:VEVENT
BEGIN:VEVENT
DTSTART;VALUE=DATE:20260228
DTEND;VALUE=DATE:20260301
DTSTAMP:20260421T214557
CREATED:20260207T174236Z
LAST-MODIFIED:20260207T174236Z
UID:25874-1772236800-1772323199@kansasguardmuseum.com
SUMMARY:Jim Spurlock
DESCRIPTION:
URL:https://kansasguardmuseum.com/event/jim-spurlock/
CATEGORIES:Host
END:VEVENT
BEGIN:VEVENT
DTSTART;VALUE=DATE:20260302
DTEND;VALUE=DATE:20260303
DTSTAMP:20260421T214557
CREATED:20260207T174349Z
LAST-MODIFIED:20260207T174349Z
UID:25876-1772409600-1772495999@kansasguardmuseum.com
SUMMARY:Host - Ron Gray
DESCRIPTION:
URL:https://kansasguardmuseum.com/event/host-ron-gray-25/
CATEGORIES:Host
END:VEVENT
BEGIN:VEVENT
DTSTART;VALUE=DATE:20260303
DTEND;VALUE=DATE:20260304
DTSTAMP:20260421T214557
CREATED:20260207T174413Z
LAST-MODIFIED:20260207T174413Z
UID:25878-1772496000-1772582399@kansasguardmuseum.com
SUMMARY:Host - Chuck Bredahl
DESCRIPTION:
URL:https://kansasguardmuseum.com/event/host-chuck-bredahl-39/
CATEGORIES:Host
END:VEVENT
BEGIN:VEVENT
DTSTART;VALUE=DATE:20260304
DTEND;VALUE=DATE:20260305
DTSTAMP:20260421T214557
CREATED:20260207T174456Z
LAST-MODIFIED:20260207T174456Z
UID:25880-1772582400-1772668799@kansasguardmuseum.com
SUMMARY:Host - Lloyd Arnold
DESCRIPTION:
URL:https://kansasguardmuseum.com/event/host-lloyd-arnold-40/
CATEGORIES:Host
END:VEVENT
BEGIN:VEVENT
DTSTART;VALUE=DATE:20260305
DTEND;VALUE=DATE:20260306
DTSTAMP:20260421T214557
CREATED:20260207T174528Z
LAST-MODIFIED:20260207T174528Z
UID:25882-1772668800-1772755199@kansasguardmuseum.com
SUMMARY:Host - Butch Dowse
DESCRIPTION:
URL:https://kansasguardmuseum.com/event/host-butch-dowse-18/
CATEGORIES:Host
END:VEVENT
BEGIN:VEVENT
DTSTART;VALUE=DATE:20260307
DTEND;VALUE=DATE:20260308
DTSTAMP:20260421T214557
CREATED:20260207T174737Z
LAST-MODIFIED:20260207T174737Z
UID:25888-1772841600-1772927999@kansasguardmuseum.com
SUMMARY:Hosts - Morrows
DESCRIPTION:
URL:https://kansasguardmuseum.com/event/hosts-morrows-39/
CATEGORIES:Host
END:VEVENT
BEGIN:VEVENT
DTSTART;VALUE=DATE:20260309
DTEND;VALUE=DATE:20260310
DTSTAMP:20260421T214557
CREATED:20260207T174925Z
LAST-MODIFIED:20260307T192240Z
UID:25894-1773014400-1773100799@kansasguardmuseum.com
SUMMARY:Host - Jim Istas
DESCRIPTION:
URL:https://kansasguardmuseum.com/event/host-rex-allen-40/
CATEGORIES:Host
END:VEVENT
BEGIN:VEVENT
DTSTART;VALUE=DATE:20260310
DTEND;VALUE=DATE:20260311
DTSTAMP:20260421T214557
CREATED:20260207T174955Z
LAST-MODIFIED:20260207T174955Z
UID:25896-1773100800-1773187199@kansasguardmuseum.com
SUMMARY:Host - Charles Kuhn
DESCRIPTION:
URL:https://kansasguardmuseum.com/event/host-charles-kuhn-22/
CATEGORIES:Host
END:VEVENT
BEGIN:VEVENT
DTSTART;VALUE=DATE:20260311
DTEND;VALUE=DATE:20260312
DTSTAMP:20260421T214557
CREATED:20260207T175133Z
LAST-MODIFIED:20260207T175133Z
UID:25900-1773187200-1773273599@kansasguardmuseum.com
SUMMARY:Hosts - Smiths
DESCRIPTION:
URL:https://kansasguardmuseum.com/event/hosts-smiths-2/
CATEGORIES:Host
END:VEVENT
BEGIN:VEVENT
DTSTART;VALUE=DATE:20260312
DTEND;VALUE=DATE:20260313
DTSTAMP:20260421T214557
CREATED:20260207T175433Z
LAST-MODIFIED:20260207T175433Z
UID:25908-1773273600-1773359999@kansasguardmuseum.com
SUMMARY:Host - Troy Abel
DESCRIPTION:
URL:https://kansasguardmuseum.com/event/host-troy-abel-35/
CATEGORIES:Host
END:VEVENT
BEGIN:VEVENT
DTSTART;TZID=America/Chicago:20260313T080000
DTEND;TZID=America/Chicago:20260313T170000
DTSTAMP:20260421T214557
CREATED:20260307T192650Z
LAST-MODIFIED:20260307T192650Z
UID:26190-1773388800-1773421200@kansasguardmuseum.com
SUMMARY:Host - Dave Lawrence
DESCRIPTION:
URL:https://kansasguardmuseum.com/event/host-dave-lawrence-21/
CATEGORIES:Host
END:VEVENT
BEGIN:VEVENT
DTSTART;VALUE=DATE:20260314
DTEND;VALUE=DATE:20260315
DTSTAMP:20260421T214557
CREATED:20260207T175509Z
LAST-MODIFIED:20260207T175509Z
UID:25910-1773446400-1773532799@kansasguardmuseum.com
SUMMARY:Host - Jim Spurlock
DESCRIPTION:
URL:https://kansasguardmuseum.com/event/host-jim-spurlock-32/
CATEGORIES:Host
END:VEVENT
BEGIN:VEVENT
DTSTART;VALUE=DATE:20260316
DTEND;VALUE=DATE:20260317
DTSTAMP:20260421T214557
CREATED:20260307T192749Z
LAST-MODIFIED:20260307T192749Z
UID:26192-1773619200-1773705599@kansasguardmuseum.com
SUMMARY:Host - Charles Henry
DESCRIPTION:
URL:https://kansasguardmuseum.com/event/host-charles-henry-12/
CATEGORIES:Host
END:VEVENT
BEGIN:VEVENT
DTSTART;VALUE=DATE:20260317
DTEND;VALUE=DATE:20260318
DTSTAMP:20260421T214557
CREATED:20260207T175628Z
LAST-MODIFIED:20260207T175628Z
UID:25914-1773705600-1773791999@kansasguardmuseum.com
SUMMARY:Host - John Cregan
DESCRIPTION:
URL:https://kansasguardmuseum.com/event/host-john-cregan-37/
CATEGORIES:Host
END:VEVENT
BEGIN:VEVENT
DTSTART;VALUE=DATE:20260318
DTEND;VALUE=DATE:20260319
DTSTAMP:20260421T214557
CREATED:20260307T192822Z
LAST-MODIFIED:20260307T192822Z
UID:26194-1773792000-1773878399@kansasguardmuseum.com
SUMMARY:Host - Steve Wodtke
DESCRIPTION:
URL:https://kansasguardmuseum.com/event/host-steve-wodtke-27/
CATEGORIES:Host
END:VEVENT
BEGIN:VEVENT
DTSTART;VALUE=DATE:20260319
DTEND;VALUE=DATE:20260320
DTSTAMP:20260421T214557
CREATED:20260207T175803Z
LAST-MODIFIED:20260307T192319Z
UID:25918-1773878400-1773964799@kansasguardmuseum.com
SUMMARY:Host - Roger Wilson
DESCRIPTION:
URL:https://kansasguardmuseum.com/event/host-jim-istas-38/
CATEGORIES:Host
END:VEVENT
BEGIN:VEVENT
DTSTART;VALUE=DATE:20260320
DTEND;VALUE=DATE:20260321
DTSTAMP:20260421T214557
CREATED:20260307T192852Z
LAST-MODIFIED:20260307T192852Z
UID:26196-1773964800-1774051199@kansasguardmuseum.com
SUMMARY:Host - Mark Seats
DESCRIPTION:
URL:https://kansasguardmuseum.com/event/host-mark-seats-17/
CATEGORIES:Host
END:VEVENT
BEGIN:VEVENT
DTSTART;VALUE=DATE:20260321
DTEND;VALUE=DATE:20260322
DTSTAMP:20260421T214557
CREATED:20260307T192927Z
LAST-MODIFIED:20260307T192927Z
UID:26198-1774051200-1774137599@kansasguardmuseum.com
SUMMARY:Host - Mark Sweeney
DESCRIPTION:
URL:https://kansasguardmuseum.com/event/host-mark-sweeney-31/
CATEGORIES:Host
END:VEVENT
BEGIN:VEVENT
DTSTART;VALUE=DATE:20260323
DTEND;VALUE=DATE:20260324
DTSTAMP:20260421T214557
CREATED:20260207T175938Z
LAST-MODIFIED:20260207T175938Z
UID:25922-1774224000-1774310399@kansasguardmuseum.com
SUMMARY:Host - Howard Neff
DESCRIPTION:
URL:https://kansasguardmuseum.com/event/host-howard-neff-36/
CATEGORIES:Host
END:VEVENT
BEGIN:VEVENT
DTSTART;VALUE=DATE:20260324
DTEND;VALUE=DATE:20260325
DTSTAMP:20260421T214557
CREATED:20260207T180007Z
LAST-MODIFIED:20260207T180007Z
UID:25924-1774310400-1774396799@kansasguardmuseum.com
SUMMARY:Host - Judy Gatewood
DESCRIPTION:
URL:https://kansasguardmuseum.com/event/host-judy-gatewood-25/
CATEGORIES:Host
END:VEVENT
BEGIN:VEVENT
DTSTART;VALUE=DATE:20260325
DTEND;VALUE=DATE:20260326
DTSTAMP:20260421T214557
CREATED:20260207T180035Z
LAST-MODIFIED:20260207T180035Z
UID:25926-1774396800-1774483199@kansasguardmuseum.com
SUMMARY:Host - Anne Hunsecker
DESCRIPTION:
URL:https://kansasguardmuseum.com/event/host-anne-hunsecker-39/
CATEGORIES:Host
END:VEVENT
BEGIN:VEVENT
DTSTART;VALUE=DATE:20260326
DTEND;VALUE=DATE:20260327
DTSTAMP:20260421T214557
CREATED:20260307T193035Z
LAST-MODIFIED:20260307T193035Z
UID:26202-1774483200-1774569599@kansasguardmuseum.com
SUMMARY:Host - Debbie Doyle
DESCRIPTION:
URL:https://kansasguardmuseum.com/event/host-debbie-doyle-31/
CATEGORIES:Host
END:VEVENT
BEGIN:VEVENT
DTSTART;VALUE=DATE:20260327
DTEND;VALUE=DATE:20260328
DTSTAMP:20260421T214557
CREATED:20260207T180242Z
LAST-MODIFIED:20260207T180242Z
UID:25932-1774569600-1774655999@kansasguardmuseum.com
SUMMARY:Host - Mary Rogers
DESCRIPTION:
URL:https://kansasguardmuseum.com/event/host-mary-rogers-38/
CATEGORIES:Host
END:VEVENT
BEGIN:VEVENT
DTSTART;VALUE=DATE:20260328
DTEND;VALUE=DATE:20260329
DTSTAMP:20260421T214557
CREATED:20260307T193108Z
LAST-MODIFIED:20260307T193108Z
UID:26204-1774656000-1774742399@kansasguardmuseum.com
SUMMARY:Host - Dottie Clark
DESCRIPTION:
URL:https://kansasguardmuseum.com/event/host-dottie-clark-29/
CATEGORIES:Host
END:VEVENT
BEGIN:VEVENT
DTSTART;VALUE=DATE:20260330
DTEND;VALUE=DATE:20260331
DTSTAMP:20260421T214557
CREATED:20260307T193317Z
LAST-MODIFIED:20260307T193317Z
UID:26210-1774828800-1774915199@kansasguardmuseum.com
SUMMARY:Host - Geoff Lanning
DESCRIPTION:
URL:https://kansasguardmuseum.com/event/host-geoff-lanning-17/
CATEGORIES:Host
END:VEVENT
BEGIN:VEVENT
DTSTART;VALUE=DATE:20260331
DTEND;VALUE=DATE:20260401
DTSTAMP:20260421T214557
CREATED:20260307T193339Z
LAST-MODIFIED:20260307T193339Z
UID:26212-1774915200-1775001599@kansasguardmuseum.com
SUMMARY:Host - Marvin Terhune
DESCRIPTION:
URL:https://kansasguardmuseum.com/event/host-marvin-terhune-19/
CATEGORIES:Host
END:VEVENT
BEGIN:VEVENT
DTSTART;VALUE=DATE:20260401
DTEND;VALUE=DATE:20260402
DTSTAMP:20260421T214557
CREATED:20260307T193458Z
LAST-MODIFIED:20260307T193458Z
UID:26214-1775001600-1775087999@kansasguardmuseum.com
SUMMARY:Host - Lloyd Arnold
DESCRIPTION:
URL:https://kansasguardmuseum.com/event/host-lloyd-arnold-41/
CATEGORIES:Host
END:VEVENT
BEGIN:VEVENT
DTSTART;VALUE=DATE:20260402
DTEND;VALUE=DATE:20260403
DTSTAMP:20260421T214557
CREATED:20260307T193609Z
LAST-MODIFIED:20260307T193609Z
UID:26218-1775088000-1775174399@kansasguardmuseum.com
SUMMARY:Host - John Cregan
DESCRIPTION:
URL:https://kansasguardmuseum.com/event/host-john-cregan-38/
CATEGORIES:Host
END:VEVENT
BEGIN:VEVENT
DTSTART;VALUE=DATE:20260404
DTEND;VALUE=DATE:20260405
DTSTAMP:20260421T214557
CREATED:20260307T193712Z
LAST-MODIFIED:20260307T193712Z
UID:26222-1775260800-1775347199@kansasguardmuseum.com
SUMMARY:Hosts - Morrows
DESCRIPTION:
URL:https://kansasguardmuseum.com/event/hosts-morrows-40/
CATEGORIES:Host
END:VEVENT
END:VCALENDAR