BEGIN:VCALENDAR
VERSION:2.0
PRODID:-//Museum of the Kansas National Guard - ECPv6.15.20//NONSGML v1.0//EN
CALSCALE:GREGORIAN
METHOD:PUBLISH
X-ORIGINAL-URL:https://kansasguardmuseum.com
X-WR-CALDESC:Events for Museum of the Kansas National Guard
REFRESH-INTERVAL;VALUE=DURATION:PT1H
X-Robots-Tag:noindex
X-PUBLISHED-TTL:PT1H
BEGIN:VTIMEZONE
TZID:America/Chicago
BEGIN:DAYLIGHT
TZOFFSETFROM:-0600
TZOFFSETTO:-0500
TZNAME:CDT
DTSTART:20250309T080000
END:DAYLIGHT
BEGIN:STANDARD
TZOFFSETFROM:-0500
TZOFFSETTO:-0600
TZNAME:CST
DTSTART:20251102T070000
END:STANDARD
BEGIN:DAYLIGHT
TZOFFSETFROM:-0600
TZOFFSETTO:-0500
TZNAME:CDT
DTSTART:20260308T080000
END:DAYLIGHT
BEGIN:STANDARD
TZOFFSETFROM:-0500
TZOFFSETTO:-0600
TZNAME:CST
DTSTART:20261101T070000
END:STANDARD
BEGIN:DAYLIGHT
TZOFFSETFROM:-0600
TZOFFSETTO:-0500
TZNAME:CDT
DTSTART:20270314T080000
END:DAYLIGHT
BEGIN:STANDARD
TZOFFSETFROM:-0500
TZOFFSETTO:-0600
TZNAME:CST
DTSTART:20271107T070000
END:STANDARD
END:VTIMEZONE
BEGIN:VEVENT
DTSTART;TZID=America/Chicago:20260113T100000
DTEND;TZID=America/Chicago:20260113T120000
DTSTAMP:20260422T102558
CREATED:20260103T174424Z
LAST-MODIFIED:20260103T174424Z
UID:25465-1768298400-1768305600@kansasguardmuseum.com
SUMMARY:250th Planning Meeting
DESCRIPTION:
URL:https://kansasguardmuseum.com/event/250th-planning-meeting-3/
CATEGORIES:Museum Events
END:VEVENT
BEGIN:VEVENT
DTSTART;TZID=America/Chicago:20260114T090000
DTEND;TZID=America/Chicago:20260114T100000
DTSTAMP:20260422T102558
CREATED:20251206T175115Z
LAST-MODIFIED:20251206T175115Z
UID:25220-1768381200-1768384800@kansasguardmuseum.com
SUMMARY:Museum Coffee
DESCRIPTION:
URL:https://kansasguardmuseum.com/event/museum-coffee-42/
CATEGORIES:Museum Events
END:VEVENT
BEGIN:VEVENT
DTSTART;TZID=America/Chicago:20260114T163000
DTEND;TZID=America/Chicago:20260114T173000
DTSTAMP:20260422T102558
CREATED:20251206T175157Z
LAST-MODIFIED:20251206T175157Z
UID:25222-1768408200-1768411800@kansasguardmuseum.com
SUMMARY:Museum BOD Meeting
DESCRIPTION:
URL:https://kansasguardmuseum.com/event/museum-bod-meeting-30/
CATEGORIES:Museum Events
END:VEVENT
END:VCALENDAR